BEGIN:VCALENDAR
VERSION:2.0
PRODID:-//Conservatoire Gabriel Fauré de GrandAngoulême - ECPv6.15.20//NONSGML v1.0//EN
CALSCALE:GREGORIAN
METHOD:PUBLISH
X-ORIGINAL-URL:https://conservatoire.grandangouleme.fr
X-WR-CALDESC:Évènements pour Conservatoire Gabriel Fauré de GrandAngoulême
REFRESH-INTERVAL;VALUE=DURATION:PT1H
X-Robots-Tag:noindex
X-PUBLISHED-TTL:PT1H
BEGIN:VTIMEZONE
TZID:Europe/Paris
BEGIN:DAYLIGHT
TZOFFSETFROM:+0100
TZOFFSETTO:+0200
TZNAME:CEST
DTSTART:20210328T010000
END:DAYLIGHT
BEGIN:STANDARD
TZOFFSETFROM:+0200
TZOFFSETTO:+0100
TZNAME:CET
DTSTART:20211031T010000
END:STANDARD
BEGIN:DAYLIGHT
TZOFFSETFROM:+0100
TZOFFSETTO:+0200
TZNAME:CEST
DTSTART:20220327T010000
END:DAYLIGHT
BEGIN:STANDARD
TZOFFSETFROM:+0200
TZOFFSETTO:+0100
TZNAME:CET
DTSTART:20221030T010000
END:STANDARD
BEGIN:DAYLIGHT
TZOFFSETFROM:+0100
TZOFFSETTO:+0200
TZNAME:CEST
DTSTART:20230326T010000
END:DAYLIGHT
BEGIN:STANDARD
TZOFFSETFROM:+0200
TZOFFSETTO:+0100
TZNAME:CET
DTSTART:20231029T010000
END:STANDARD
BEGIN:DAYLIGHT
TZOFFSETFROM:+0100
TZOFFSETTO:+0200
TZNAME:CEST
DTSTART:20240331T010000
END:DAYLIGHT
BEGIN:STANDARD
TZOFFSETFROM:+0200
TZOFFSETTO:+0100
TZNAME:CET
DTSTART:20241027T010000
END:STANDARD
BEGIN:DAYLIGHT
TZOFFSETFROM:+0100
TZOFFSETTO:+0200
TZNAME:CEST
DTSTART:20250330T010000
END:DAYLIGHT
BEGIN:STANDARD
TZOFFSETFROM:+0200
TZOFFSETTO:+0100
TZNAME:CET
DTSTART:20251026T010000
END:STANDARD
BEGIN:DAYLIGHT
TZOFFSETFROM:+0100
TZOFFSETTO:+0200
TZNAME:CEST
DTSTART:20260329T010000
END:DAYLIGHT
BEGIN:STANDARD
TZOFFSETFROM:+0200
TZOFFSETTO:+0100
TZNAME:CET
DTSTART:20261025T010000
END:STANDARD
BEGIN:DAYLIGHT
TZOFFSETFROM:+0100
TZOFFSETTO:+0200
TZNAME:CEST
DTSTART:20270328T010000
END:DAYLIGHT
BEGIN:STANDARD
TZOFFSETFROM:+0200
TZOFFSETTO:+0100
TZNAME:CET
DTSTART:20271031T010000
END:STANDARD
END:VTIMEZONE
BEGIN:VEVENT
DTSTART;TZID=Europe/Paris:20260108T190000
DTEND;TZID=Europe/Paris:20260108T200000
DTSTAMP:20260423T162217
CREATED:20251212T081935Z
LAST-MODIFIED:20251215T082439Z
UID:30394-1767898800-1767902400@conservatoire.grandangouleme.fr
SUMMARY:Big Jazz Ensemble
DESCRIPTION:Hors les murs\n\n	Concert du Big Jazz Ensemble dans le cadre du festival « Jazz à Saint Sat ». \n Entrée libre dans la limite des places disponibles.
URL:https://conservatoire.grandangouleme.fr/agenda/concert-du-big-jazz-ensemble/
LOCATION:Centre culturel – Saint-Saturin
CATEGORIES:Concert
ATTACH;FMTTYPE=image/jpeg:https://conservatoire.grandangouleme.fr/wp-content/uploads/2025/12/DSC02040-Avec-accentuation-Bruit-scaled-e1765527450157.jpg
END:VEVENT
BEGIN:VEVENT
DTSTART;TZID=Europe/Paris:20250118T180000
DTEND;TZID=Europe/Paris:20250118T190000
DTSTAMP:20260423T162217
CREATED:20241217T140453Z
LAST-MODIFIED:20241217T140453Z
UID:24287-1737223200-1737226800@conservatoire.grandangouleme.fr
SUMMARY:Atelier Jazz
DESCRIPTION:Hors les murs\n\n	L’atelier Jazz – Direction Pierre Aubert- Dans le cadre de « Jazz à St Sat »
URL:https://conservatoire.grandangouleme.fr/agenda/atelier-jazz/
LOCATION:Centre culturel – Saint-Saturnin\, 3 rue de la mairie\, Saint-Saturnin\, 16290
CATEGORIES:Concert
ATTACH;FMTTYPE=image/jpeg:https://conservatoire.grandangouleme.fr/wp-content/uploads/2023/02/AdobeStock_207930684.jpg
END:VEVENT
BEGIN:VEVENT
DTSTART;TZID=Europe/Paris:20250116T193000
DTEND;TZID=Europe/Paris:20250116T203000
DTSTAMP:20260423T162217
CREATED:20241217T134607Z
LAST-MODIFIED:20250114T155619Z
UID:24280-1737055800-1737059400@conservatoire.grandangouleme.fr
SUMMARY:Big Jazz Ensemble
DESCRIPTION:Hors les murs\n\n	Concert du Big-Band – Direction Didier Frébœuf – Dans le cadre de « Jazz à St Sat »\n Entrée libre dans la limite des places disponibles.
URL:https://conservatoire.grandangouleme.fr/agenda/big-band/
LOCATION:Centre culturel – Saint-Saturnin\, 3 rue de la mairie\, Saint-Saturnin\, 16290
CATEGORIES:Concert
ATTACH;FMTTYPE=image/jpeg:https://conservatoire.grandangouleme.fr/wp-content/uploads/2022/07/2022-big-band.jpg
END:VEVENT
BEGIN:VEVENT
DTSTART;TZID=Europe/Paris:20240118T190000
DTEND;TZID=Europe/Paris:20240118T203000
DTSTAMP:20260423T162217
CREATED:20240112T143250Z
LAST-MODIFIED:20240112T143250Z
UID:21209-1705604400-1705609800@conservatoire.grandangouleme.fr
SUMMARY:Concert Big band - festival « Jazz à St Sat »
DESCRIPTION:Apéro-concert. Direction Didier Frébœuf\nRetrouvez la programmation du festival « Jazz à Saint-Sat » sur le site internet : http://jazzasaintsat.com/\n Entrée libre dans la limite des places disponibles.
URL:https://conservatoire.grandangouleme.fr/agenda/concert-big-band-festival-jazz-a-st-sat/
LOCATION:Centre culturel – Saint-Saturnin\, 3 rue de la mairie\, Saint-Saturnin\, 16290
ATTACH;FMTTYPE=image/jpeg:https://conservatoire.grandangouleme.fr/wp-content/uploads/2024/01/347556906_745763320884504_8470392587483604474_n.jpg
END:VEVENT
BEGIN:VEVENT
DTSTART;TZID=Europe/Paris:20230119T190000
DTEND;TZID=Europe/Paris:20230119T200000
DTSTAMP:20260423T162217
CREATED:20230117T131348Z
LAST-MODIFIED:20230117T131348Z
UID:13222-1674154800-1674158400@conservatoire.grandangouleme.fr
SUMMARY:Concert Big Band
DESCRIPTION:Ouverture festival « Jazz à St Sat »\n\nDirection : Didier Frébœuf \n 
URL:https://conservatoire.grandangouleme.fr/agenda/concert-big-band/
LOCATION:Centre culturel – Saint-Saturin
CATEGORIES:Concert
ATTACH;FMTTYPE=image/jpeg:https://conservatoire.grandangouleme.fr/wp-content/uploads/2022/11/trompette.jpg
END:VEVENT
BEGIN:VEVENT
DTSTART;TZID=Europe/Paris:20220512T190000
DTEND;TZID=Europe/Paris:20220512T203000
DTSTAMP:20260423T162217
CREATED:20220504T140416Z
LAST-MODIFIED:20220504T144658Z
UID:11033-1652382000-1652387400@conservatoire.grandangouleme.fr
SUMMARY:Concert du big band
DESCRIPTION:Dans le cadre de l’ouverture de « Jazz à Saint-Sat »\, retrouvez le big band du conservatoire. \nDirection : Julien Birot et Didier Frébœuf
URL:https://conservatoire.grandangouleme.fr/agenda/concert-du-big-band/
LOCATION:Centre culturel – Saint-Saturin
CATEGORIES:Concert d'orchestre
ATTACH;FMTTYPE=image/jpeg:https://conservatoire.grandangouleme.fr/wp-content/uploads/2022/05/22-05-12.jpg
END:VEVENT
END:VCALENDAR