BEGIN:VCALENDAR
VERSION:2.0
PRODID:-//Conservatoire Gabriel Fauré de GrandAngoulême - ECPv6.15.20//NONSGML v1.0//EN
CALSCALE:GREGORIAN
METHOD:PUBLISH
X-WR-CALNAME:Conservatoire Gabriel Fauré de GrandAngoulême
X-ORIGINAL-URL:https://conservatoire.grandangouleme.fr
X-WR-CALDESC:Évènements pour Conservatoire Gabriel Fauré de GrandAngoulême
REFRESH-INTERVAL;VALUE=DURATION:PT1H
X-Robots-Tag:noindex
X-PUBLISHED-TTL:PT1H
BEGIN:VTIMEZONE
TZID:Europe/Paris
BEGIN:DAYLIGHT
TZOFFSETFROM:+0100
TZOFFSETTO:+0200
TZNAME:CEST
DTSTART:20190331T010000
END:DAYLIGHT
BEGIN:STANDARD
TZOFFSETFROM:+0200
TZOFFSETTO:+0100
TZNAME:CET
DTSTART:20191027T010000
END:STANDARD
BEGIN:DAYLIGHT
TZOFFSETFROM:+0100
TZOFFSETTO:+0200
TZNAME:CEST
DTSTART:20200329T010000
END:DAYLIGHT
BEGIN:STANDARD
TZOFFSETFROM:+0200
TZOFFSETTO:+0100
TZNAME:CET
DTSTART:20201025T010000
END:STANDARD
BEGIN:DAYLIGHT
TZOFFSETFROM:+0100
TZOFFSETTO:+0200
TZNAME:CEST
DTSTART:20210328T010000
END:DAYLIGHT
BEGIN:STANDARD
TZOFFSETFROM:+0200
TZOFFSETTO:+0100
TZNAME:CET
DTSTART:20211031T010000
END:STANDARD
BEGIN:DAYLIGHT
TZOFFSETFROM:+0100
TZOFFSETTO:+0200
TZNAME:CEST
DTSTART:20220327T010000
END:DAYLIGHT
BEGIN:STANDARD
TZOFFSETFROM:+0200
TZOFFSETTO:+0100
TZNAME:CET
DTSTART:20221030T010000
END:STANDARD
BEGIN:DAYLIGHT
TZOFFSETFROM:+0100
TZOFFSETTO:+0200
TZNAME:CEST
DTSTART:20230326T010000
END:DAYLIGHT
BEGIN:STANDARD
TZOFFSETFROM:+0200
TZOFFSETTO:+0100
TZNAME:CET
DTSTART:20231029T010000
END:STANDARD
END:VTIMEZONE
BEGIN:VEVENT
DTSTART;TZID=Europe/Paris:20220319T173000
DTEND;TZID=Europe/Paris:20220319T183000
DTSTAMP:20260424T154758
CREATED:20220309T154440Z
LAST-MODIFIED:20220310T093440Z
UID:10481-1647711000-1647714600@conservatoire.grandangouleme.fr
SUMMARY:Cantates de Jean-Sébastien Bach
DESCRIPTION:Entre le 17 et le 21 mars et autour de la journée européenne de la musique ancienne\, le conservatoire propose à ses élèves et au grand public des temps de découverte de la musique baroque et tout particulièrement de l’œuvre de Jean-Sébastien Bach. \nLe samedi 19 retrouvez  l’Ensemble Vocal\, le Département de Musiques Anciennes et la classe de chant. \nDirection : Sophie Perrot et Florence Monzani \nProgramme : \nCantate BWV 106 « Actus tragicus »\nMotet « Jesu meine Freude » \nLa cantate « Actus tragicus » a été écrite pour un service funèbre.\nSi l’effectif vocal est assez habituel chez Bach (chœur et solistes)\, l’effectif instrumental l’est beaucoup moins. Conçue comme une cantate de chambre\, les sonorités douces des flûtes à bec et des violes confèrent à la pièce une couleur particulière qui incite à l’introspection et reflète la quiétude ressentie face à la mort.
URL:https://conservatoire.grandangouleme.fr/agenda/cantates-de-jean-sebastien-bach/
LOCATION:Auditorium du conservatoire – Angoulême\, place Henri Dunant\, Angoulême\, 16000\, France
ATTACH;FMTTYPE=image/jpeg:https://conservatoire.grandangouleme.fr/wp-content/uploads/2016/11/clavier2.jpg
ORGANIZER;CN="Conservatoire Gabriel Faur%C3%A9":MAILTO:conservatoire@grandangouleme.fr
END:VEVENT
BEGIN:VEVENT
DTSTART;TZID=Europe/Paris:20220305T160000
DTEND;TZID=Europe/Paris:20220305T170000
DTSTAMP:20260424T154758
CREATED:20220228T073053Z
LAST-MODIFIED:20220228T084959Z
UID:10314-1646496000-1646499600@conservatoire.grandangouleme.fr
SUMMARY:Tranche de Sax à la médiathèque L’Alpha
DESCRIPTION:« Tranche de Sax » est un moment musical autour du saxophone classique et de son répertoire. Venez découvrir durant une petite heure\, la variété insoupçonnée des partitions composées pour cet instrument aux multiples facettes. Pour cette édition\, un invité spécial partagera la scène accompagné de son\ninstrument : Jérôme Bertholon et sa guitare ! \n\n« De un umbral vacante al otra »\nMaël Bailly\npour saxophone soprano et musicien de passage\n« Variations sur un air de la flûte enchantée de Mozart »\nArr. de Fernando Sor pour guitare solo\n« 8 esquisses »\nTakashi Ogawa\npour saxophone alto et guitare\n« L’horloge jazzante »\nYvonne Desportes\npour saxophone alto et guitare
URL:https://conservatoire.grandangouleme.fr/agenda/tranche-de-sax-a-la-mediatheque-lalpha/
LOCATION:Médiathèque « L’Alpha » – Angoulême
ATTACH;FMTTYPE=image/jpeg:https://conservatoire.grandangouleme.fr/wp-content/uploads/2022/02/Sans-titre-1.jpg
ORGANIZER;CN="Conservatoire Gabriel Faur%C3%A9":MAILTO:conservatoire@grandangouleme.fr
END:VEVENT
BEGIN:VEVENT
DTSTART;TZID=Europe/Paris:20220203T140000
DTEND;TZID=Europe/Paris:20220206T170000
DTSTAMP:20260424T154758
CREATED:20220201T102549Z
LAST-MODIFIED:20220201T102549Z
UID:10171-1643896800-1644166800@conservatoire.grandangouleme.fr
SUMMARY:les 3es Journées du violon
DESCRIPTION:À l’initiative de Alejandro Serna Acero et avec ses collègues enseignants violonistes du conservatoire : Cécile Mardikian et Arnaud Chataigner\, les 3es Journées du violon se déroulent du 3 au 6 février 2022 à l’auditorium du conservatoire. Les accompagnateurs piano sont Lidiya Bragina\, Stephan Denk et Thomas Costille. \nUne retransmission en direct est prévue sur ces 4 journées qui rassemblent des élèves violonistes des conservatoires de Grand-Châtellerault\, de Grand Poitiers et de GrandAngoulême.\nIls se retrouvent autour de Irina Medvedeva\, venue pour les encourager dans leur apprentissage pour les plus jeunes et pour les aider à parfaire leur technique et ressenti pour les élèves les plus aguerris présents parfois en tant que futur professionnel. \nRetrouvez les liens de diffusion et le déroulé de ces 4 journées. \nAttention : l’ensemble de ces ateliers et classes de maître ne sont pas ouverts au public pour des raisons sanitaires. \n 
URL:https://conservatoire.grandangouleme.fr/agenda/les-3es-journees-du-violon/
LOCATION:Auditorium du conservatoire – Angoulême\, place Henri Dunant\, Angoulême\, 16000\, France
ATTACH;FMTTYPE=image/jpeg:https://conservatoire.grandangouleme.fr/wp-content/uploads/2022/01/visuel-site_final-1.jpg
ORGANIZER;CN="Conservatoire Gabriel Faur%C3%A9":MAILTO:conservatoire@grandangouleme.fr
END:VEVENT
BEGIN:VEVENT
DTSTART;TZID=Europe/Paris:20220202T190000
DTEND;TZID=Europe/Paris:20220202T220000
DTSTAMP:20260424T154758
CREATED:20220201T095509Z
LAST-MODIFIED:20220201T135526Z
UID:10162-1643828400-1643839200@conservatoire.grandangouleme.fr
SUMMARY:Concert de la classe "Électroacoustique"
DESCRIPTION:Attention\, la présentation d’un passe  vaccinal sera obligatoire à l’entrée de la salle.\n\n\n\n\nConcert de la classe d’électroacoustique du conservatoire Gabriel Fauré de GrandAngoulême\, suivi d’un échange avec le public. \nCe concert se déroule en 2 sets – 19h/20h15 et 20h30/21h30 puis échange avec le public. \nAvec des créations de : \n\nLucy Charpie\,\nBastien Lambert\,\nNicolas Macumi\,\nJean Bonhoure\,\nMarcus\,\nAlexandre Duval\,\nRoméo Lefevre\,\nAntoine Bougeard\,\nCamille Hummel\,\nMathieu-Trouve\,\nJohan Gardre\,\nJavier Orte Aguilar\,\nErik Avert\,\nAnne Foucher\,\nAntoine Timarche\,\nPaul Lajus.
URL:https://conservatoire.grandangouleme.fr/agenda/concerts-de-la-classe-electroacoustique/
LOCATION:Auditorium du conservatoire – Angoulême\, place Henri Dunant\, Angoulême\, 16000\, France
ATTACH;FMTTYPE=image/jpeg:https://conservatoire.grandangouleme.fr/wp-content/uploads/2022/02/visuel.jpg
ORGANIZER;CN="Conservatoire Gabriel Faur%C3%A9":MAILTO:conservatoire@grandangouleme.fr
END:VEVENT
BEGIN:VEVENT
DTSTART;TZID=Europe/Paris:20220129T110000
DTEND;TZID=Europe/Paris:20220129T120000
DTSTAMP:20260424T154758
CREATED:20220119T094240Z
LAST-MODIFIED:20220127T141836Z
UID:9496-1643454000-1643457600@conservatoire.grandangouleme.fr
SUMMARY:Concert de l'orchestre Debussy
DESCRIPTION:Attention\, la présentation d’un passe  vaccinal sera obligatoire à l’entrée de la salle.\n\n\n\n\nL’orchestre Debussy\, composé de violons\, altos\, violoncelles et contrebasses vous accueille à l’auditorium\,  samedi 29 janvier à 11h.\nDirection : Arnaud Chataigner et Jacques Nicolas \nLe programme\n\nClaude Henri JOUBERT\nLes sonneurs\nJour de pluie\net\nFranz SCHUBERT\n3 écossaises\n\nLes réservations se font ci-dessous et sont ouvertes jusqu’à 19h le 28/01.\nMerci de bien renseigner et vérifier votre adresse mel car le (les) billet(s) de réservation sera(ont) envoyé(s) à cette adresse*. \n*: pensez à vérifier vos SPAM ou courrier indésirable car notre réponse peut s’y glisser. \n  \n  \n 
URL:https://conservatoire.grandangouleme.fr/agenda/concert-de-lorchestre-debussy/
LOCATION:Auditorium du conservatoire – Angoulême\, place Henri Dunant\, Angoulême\, 16000\, France
ATTACH;FMTTYPE=image/jpeg:https://conservatoire.grandangouleme.fr/wp-content/uploads/2022/01/cordes1.jpg
ORGANIZER;CN="Conservatoire Gabriel Faur%C3%A9":MAILTO:conservatoire@grandangouleme.fr
END:VEVENT
BEGIN:VEVENT
DTSTART;TZID=Europe/Paris:20220128T200000
DTEND;TZID=Europe/Paris:20220129T200000
DTSTAMP:20260424T154758
CREATED:20220119T103538Z
LAST-MODIFIED:20220127T142445Z
UID:9507-1643400000-1643486400@conservatoire.grandangouleme.fr
SUMMARY:Les concerts de l'orchestre Fauré
DESCRIPTION:Attention\, la présentation d’un passe vaccinal sera obligatoire à l’entrée de la salle.\n\n\n\n\nL’orchestre Fauré\, est l’orchestre symphonique du conservatoire. Il réunit les élèves de fin de 2e et 3e cycle. Toutes les cordes\, les bois\, les cuivres et les percussions se retrouvent dans cet orchestre\, vendredi 28 à 20h et  samedi 29 janvier à 20h.\nDirection : Arnaud CHATAIGNER et Grégoire FEYBESSE \nLe programme\n\nConcerto en do mineur – VIVALDI\nPrière – BLOCH\nLe château ambulant – HISAISHI\nUnderground Tango – BREGOVIC\n\nLes réservations se font ci-dessous.\nMerci de bien renseigner et vérifier votre adresse mel car le (les) billet(s) de réservation sera(ont) envoyé(s) à cette adresse*. \n*: pensez à vérifier vos SPAM ou courrier indésirable car notre réponse peut s’y glisser. \nRéservation gratuite dans la limite des places disponibles. \nAttention les réservations pour le 28 et 29 sont ouvertes jusqu’à 16h\, le vendredi 28.
URL:https://conservatoire.grandangouleme.fr/agenda/les-concerts-de-lorchestre-faure/
LOCATION:Auditorium du conservatoire – Angoulême\, place Henri Dunant\, Angoulême\, 16000\, France
ATTACH;FMTTYPE=image/jpeg:https://conservatoire.grandangouleme.fr/wp-content/uploads/2022/01/faure-filtre.jpg
ORGANIZER;CN="Conservatoire Gabriel Faur%C3%A9":MAILTO:conservatoire@grandangouleme.fr
END:VEVENT
BEGIN:VEVENT
DTSTART;TZID=Europe/Paris:20220126T190000
DTEND;TZID=Europe/Paris:20220126T201500
DTSTAMP:20260424T154758
CREATED:20220113T141535Z
LAST-MODIFIED:20220126T131256Z
UID:8567-1643223600-1643228100@conservatoire.grandangouleme.fr
SUMMARY:Les Orchestres Ravel\, Chabrier et Gounod
DESCRIPTION:Attention\, le passe sanitaire ou vaccinal devra être présenté à l’entrée de la salle. Informations plus complètes une fois la législation\, en vigueur le 26 janvier\, connue.\n\n\n\n\nPour leur premier concert de cette année\, les Orchestres Ravel\, Chabrier et  Gounod  vous proposent de découvrir ou redécouvrir de nombreux compositeurs\, de Mozart aux Beatles en passant par Offenbach et bien d’autres… \nDirection : Cécile Mardikian\, Lucile Trougnou\, Fabien Cherrier et Vincent Léonard\n19h  – Espace Georges Brassens (Isle d’Espagnac) \nPour rappel\, les concerts d’élèves sont des concerts gratuits. \nLa réservation obligatoire se fait ci-dessous à partir du 15 janvier. Vous pouvez soit imprimer votre billet soit nous le présenter sur votre téléphone le jour de la représentation.\nMerci de bien renseigner et vérifier votre adresse mel car le billet de réservation sera envoyé à cette adresse*. \n*: pensez à vérifier vos SPAM ou courrier indésirable car notre réponse peut s’y glisser. \nProgrammes\nOrchestre Ravel\n\nBeethoven : Hymne à la joie \, Arr. Bourdin/Cherrier\nSlow Motion de Jacob de Haan\nDenmark de Jacob de Haan\nBig fun on the bass Drum de William Vean\n\nOrchestre Chabrier\n\nYesterday des Beatles\, arrangé par Robert Longfield\, collection Pop Specials for Strings\, édition Hal.Leonard\nPor una Cabeza de Carlos Gardel\, arrangé par Jirka Kadlec\, édition Marc Reift\nLa Barcarolle de Offenbach\, arrangé par Jeff Manookian\nLiebestraum de Liszt arrangé par Jeff Manookian\n\nOrchestre Gounod\n\nAve Verum Corpus de W.A. Mozart\, Arr. Mark Williams\nGhostbusters de Ray Parker Jr\, Arr. Michael Story\nJurassic Park de John Williams\, Arr. Eric Wilson\nPirates of the Carribean de Klaus Badelt\, Arr. Michael Sweeney\nHappy de Pharrell Williams\, Arr. Michael Sweeney\n\n  \nPartenariat avec la commune de L’Isle d’Espagnac.
URL:https://conservatoire.grandangouleme.fr/agenda/les-orchestres-ravel-chabrier-et-gounod/
CATEGORIES:Concert
ATTACH;FMTTYPE=image/jpeg:https://conservatoire.grandangouleme.fr/wp-content/uploads/2022/01/2022-01-26.jpg
ORGANIZER;CN="Conservatoire Gabriel Faur%C3%A9":MAILTO:conservatoire@grandangouleme.fr
END:VEVENT
BEGIN:VEVENT
DTSTART;TZID=Europe/Paris:20211211T170000
DTEND;TZID=Europe/Paris:20211211T170000
DTSTAMP:20260424T154758
CREATED:20211203T160037Z
LAST-MODIFIED:20211203T160037Z
UID:8564-1639242000-1639242000@conservatoire.grandangouleme.fr
SUMMARY:Concert de Noël - Orchestre Poulenc\, la pré-maîtrise et maîtrise de chant du conservatoire
DESCRIPTION:Concert de Noël – Orchestre Poulenc (bois 1er cycle) et la pré-maîtrise et maîtrise de chant du conservatoire.\nDirection : Sophie Perrot\, Pascale Leblois  et Grégoire Feybesse \nProgramme de l’orchestre Poulenc : \n\nPomp and circonstance\, Elgar\nLes artistochats\, Rinker\nStar Wars\, Williams\nSoundpainting\n\n17h – Église Notre Dame de la Paix à Gond-Pontouvre
URL:https://conservatoire.grandangouleme.fr/agenda/concert-de-noel-orchestre-poulenc-la-pre-maitrise-et-maitrise-de-chant-du-conservatoire/
ATTACH;FMTTYPE=image/jpeg:https://conservatoire.grandangouleme.fr/wp-content/uploads/2021/12/visuel.jpg
ORGANIZER;CN="Conservatoire Gabriel Faur%C3%A9":MAILTO:conservatoire@grandangouleme.fr
END:VEVENT
BEGIN:VEVENT
DTSTART;TZID=Europe/Paris:20211208T143000
DTEND;TZID=Europe/Paris:20211208T151500
DTSTAMP:20260424T154758
CREATED:20211130T070000Z
LAST-MODIFIED:20211130T083611Z
UID:8588-1638973800-1638976500@conservatoire.grandangouleme.fr
SUMMARY:Deux concerts de musiques anciennes - Yuka Saïto\, Florence Monzani et Morgane Colin
DESCRIPTION:Attention\, un passe sanitaire devra être présenté à l’entrée du musée pour toute personne de plus de 12 ans.\n\n\n\n\n14h30 et 15h30 – Hall musée d’Angoulême\nDeux concerts de musiques anciennes – Les ensembles de violes de gambes\, clavecin et flûtes à bec des classes de  Yuka Saïto\, Florence Monzani et Morgane Colin. \nLe programme de ces concerts vous fera découvrir ou redécouvrir la musique de danse baroque.\nDanses européennes des XVIIe et XVIIIe siècles de compositeurs comme Lully\, Dornel\, Corelli\, Nicolai\, Forqueray\, Boismortier et Haendel vous raviront. \n\nLe nombre de places est limité à 50 par concert  – la réservation est obligatoire au 05 45 95 79 88 en précisant l’objet de l’appel.\nLe port du masque est obligatoire à partir de 6 ans.\n\n 
URL:https://conservatoire.grandangouleme.fr/agenda/deux-concerts-de-musiques-anciennes-yuka-saito-florence-monzani-et-morgane-colin/2021-12-08/
LOCATION:Hall du musée d’Angoulême\, Square Girard II\, rue Corneille\, Angoulême\, 16000
ATTACH;FMTTYPE=image/jpeg:https://conservatoire.grandangouleme.fr/wp-content/uploads/2021/10/visuel-1.jpg
ORGANIZER;CN="Conservatoire Gabriel Faur%C3%A9":MAILTO:conservatoire@grandangouleme.fr
END:VEVENT
BEGIN:VEVENT
DTSTART;TZID=Europe/Paris:20211125T190000
DTEND;TZID=Europe/Paris:20211125T203000
DTSTAMP:20260424T154758
CREATED:20211109T120059Z
LAST-MODIFIED:20211108T104047Z
UID:8586-1637866800-1637872200@conservatoire.grandangouleme.fr
SUMMARY:Projet « Ghibli » - concert – Classes de piano de Estelle Damay avec Roxanne Comiotto et Sandra Gonzalez
DESCRIPTION:Attention\, un passe sanitaire devra être présenté à l’entrée du conservatoire pour toute personne de plus de 12 ans.\n\n\n\n\nConcert autour des musiques des films des studios Ghibli telles que « Princesse Mononoké »\, « Kiki\, la petite sorcière » et bien d’autres.  Participeront à ce concert\, des élèves de la classe de Estelle Damay\, des élèves des classes de piano de Sandra Gonzalez\, de chant de Roxanne Comiotto ainsi que quelques élèves violonistes invités du conservatoire.\n19h – Auditorium
URL:https://conservatoire.grandangouleme.fr/agenda/projet-ghibli-concert-classes-de-piano-de-estelle-damay-avec-roxanne-comiotto-et-sandra-gonzalez/
ATTACH;FMTTYPE=image/jpeg:https://conservatoire.grandangouleme.fr/wp-content/uploads/2021/10/ghibli2.jpg
ORGANIZER;CN="Conservatoire Gabriel Faur%C3%A9":MAILTO:conservatoire@grandangouleme.fr
END:VEVENT
BEGIN:VEVENT
DTSTART;TZID=Europe/Paris:20211028T153000
DTEND;TZID=Europe/Paris:20211028T153000
DTSTAMP:20260424T154758
CREATED:20211021T123455Z
LAST-MODIFIED:20211025T071750Z
UID:8584-1635435000-1635435000@conservatoire.grandangouleme.fr
SUMMARY:Revisiter le ballet romantique de "Giselle" en danse jazz et danse contemporaine.
DESCRIPTION:Attention\, un passe sanitaire devra être présenté à l’entrée du conservatoire pour toute personne de plus de 12 ans.\n\n\n\n\nLes danseuses Chloé Carreno et Priscilla Dumeau\, de la compagnie n’ART\, accompagnent les élèves de 1er cycle de danse classique de Marie Souperbat pendant 4 jours pour découvrir cette approche nouvelle de « Giselle ».\nSi vous ne pouvez pas être présent\, nous vous proposons d’assister à la dernière séance de ce travail en vous connectant.\nJeudi 28 octobre – 15h30 – Auditorium
URL:https://conservatoire.grandangouleme.fr/agenda/restitution-stage-de-danse-ballet-classique-revisite-marie-souperbat/
ATTACH;FMTTYPE=image/jpeg:https://conservatoire.grandangouleme.fr/wp-content/uploads/2021/10/visuel.jpg
ORGANIZER;CN="Conservatoire Gabriel Faur%C3%A9":MAILTO:conservatoire@grandangouleme.fr
END:VEVENT
BEGIN:VEVENT
DTSTART;TZID=Europe/Paris:20211002T183000
DTEND;TZID=Europe/Paris:20211002T210000
DTSTAMP:20260424T154758
CREATED:20210916T145824Z
LAST-MODIFIED:20211013T095340Z
UID:8222-1633199400-1633208400@conservatoire.grandangouleme.fr
SUMMARY:Surprises et retrouvailles
DESCRIPTION:Concert de départ et dernier projet de Catherine Duval\, enseignante au sein du Conservatoire depuis 1992. \nUn moment festif composé d’un plateau de musiciens\, collègues\, amis et anciens élèves avec qui elle a partagé tant de belles musiques. \nLe concert sera rediffusé en direct à cette adresse. \n  \nInformations\n L’accès au spectacle est soumis à la présentation d’un passe sanitaire valide (à partir de 12 ans).\n \n Spectacle accessible sur réservation uniquement à partir du vendredi 24 septembre à 8h00.\nUne fois la réservation effectuée vous recevrez vos billets sous forme numérique à l’adresse de courriel indiquée dans le formulaire ci-dessous.\nVous pouvez les imprimer ou nous les présenter directement sur votre smartphone.\nEn cas de difficulté avec le système de réservation en ligne\, merci de nous contacter au 05 45 95 21 69.\n \n 5 places PMR (Personnes à Mobilité Réduite) sont disponibles. Pour réserver vos places merci de nous contacter au 05 45 95 21 69.\n \n Ne soyez pas en retard\, au risque de perdre votre réservation !\nUne réservation reste valide jusqu’à l’heure du début du spectacle (18h30). \nPassé cet horaire\, les billets non présentés sont de nouveau rendus accessibles à la réservation. \n Ce spectacle sera diffusé en direct sur la chaîne YouTube du Conservatoire.
URL:https://conservatoire.grandangouleme.fr/agenda/surprises-et-retrouvailles/
CATEGORIES:Concert
ATTACH;FMTTYPE=image/jpeg:https://conservatoire.grandangouleme.fr/wp-content/uploads/2021/09/post_facebook_sslogos.jpg
ORGANIZER;CN="Conservatoire Gabriel Faur%C3%A9":MAILTO:conservatoire@grandangouleme.fr
END:VEVENT
BEGIN:VEVENT
DTSTART;TZID=Europe/Paris:20211002T100000
DTEND;TZID=Europe/Paris:20211002T130000
DTSTAMP:20260424T154758
CREATED:20210928T143137Z
LAST-MODIFIED:20211002T071400Z
UID:8466-1633168800-1633179600@conservatoire.grandangouleme.fr
SUMMARY:Master-class Piano de Pascal Rogé
DESCRIPTION:Dans le cadre du 28e Festival de « Piano en Valois »\, le pianiste Pascal Rogé\, considéré à travers le monde comme un grand interprète de la musique française de piano\, \ndispensera ses précieux conseils auprès des élèves du Conservatoire\, lors d’une master-class. \nSpectacle diffusé en direct sur YouTube. \nInformations\n L’accès est soumis à la présentation d’un passe sanitaire valide (à partir de 12 ans).\n \n Entrée libre dans la limite des places disponibles..\n \n 5 places PMR (Personnes à Mobilité Réduite) sont disponibles.
URL:https://conservatoire.grandangouleme.fr/agenda/master-class-piano-de-pascal-roge/
ATTACH;FMTTYPE=image/jpeg:https://conservatoire.grandangouleme.fr/wp-content/uploads/2020/02/visuel-générique2.jpg
ORGANIZER;CN="Conservatoire Gabriel Faur%C3%A9":MAILTO:conservatoire@grandangouleme.fr
END:VEVENT
BEGIN:VEVENT
DTSTART;TZID=Europe/Paris:20210630T170000
DTEND;TZID=Europe/Paris:20210630T190000
DTSTAMP:20260424T154758
CREATED:20210611T125848Z
LAST-MODIFIED:20210616T153458Z
UID:7779-1625072400-1625079600@conservatoire.grandangouleme.fr
SUMMARY:"TOUS DEHORS"
DESCRIPTION:Classe Flûte Traversière – D. Nicolle – De 17h à 18h\nClasse Danse Contemporaine – F. Soula – De 18h à 19h
URL:https://conservatoire.grandangouleme.fr/agenda/tous-dehors-10/
CATEGORIES:Audition de classes,Concert
ATTACH;FMTTYPE=image/png:https://conservatoire.grandangouleme.fr/wp-content/uploads/2021/06/DSCN1323.png
ORGANIZER;CN="Conservatoire Gabriel Faur%C3%A9":MAILTO:conservatoire@grandangouleme.fr
END:VEVENT
BEGIN:VEVENT
DTSTART;TZID=Europe/Paris:20210628T170000
DTEND;TZID=Europe/Paris:20210628T190000
DTSTAMP:20260424T154758
CREATED:20210611T125304Z
LAST-MODIFIED:20210611T125304Z
UID:7775-1624899600-1624906800@conservatoire.grandangouleme.fr
SUMMARY:"TOUS DEHORS"
DESCRIPTION:Classe de Violon – C. Mardikian – De 17h à 17h30\nClasses de Piano – E. Damay / N. Fages – De 17h30 à 18h\nClasse de Viole de Gambe – Y. Saïto – De 18h à 19h
URL:https://conservatoire.grandangouleme.fr/agenda/tous-dehors-8/
ATTACH;FMTTYPE=image/png:https://conservatoire.grandangouleme.fr/wp-content/uploads/2021/06/DSCN1323.png
ORGANIZER;CN="Conservatoire Gabriel Faur%C3%A9":MAILTO:conservatoire@grandangouleme.fr
END:VEVENT
BEGIN:VEVENT
DTSTART;TZID=Europe/Paris:20210625T170000
DTEND;TZID=Europe/Paris:20210625T190000
DTSTAMP:20260424T154758
CREATED:20210611T124728Z
LAST-MODIFIED:20210611T124728Z
UID:7773-1624640400-1624647600@conservatoire.grandangouleme.fr
SUMMARY:"TOUS DEHORS"
DESCRIPTION:Trio Flûte\, Clarinette\, Basson – F. Leblois –  De 17h à 18h\nEnsembles de Flûtes – D. Nicolle – De 18h à 19h
URL:https://conservatoire.grandangouleme.fr/agenda/tous-dehors-7/
ATTACH;FMTTYPE=image/png:https://conservatoire.grandangouleme.fr/wp-content/uploads/2021/06/DSCN1323.png
ORGANIZER;CN="Conservatoire Gabriel Faur%C3%A9":MAILTO:conservatoire@grandangouleme.fr
END:VEVENT
BEGIN:VEVENT
DTSTART;TZID=Europe/Paris:20210624T170000
DTEND;TZID=Europe/Paris:20210624T190000
DTSTAMP:20260424T154758
CREATED:20210611T124458Z
LAST-MODIFIED:20210611T124458Z
UID:7771-1624554000-1624561200@conservatoire.grandangouleme.fr
SUMMARY:"TOUS DEHORS"
DESCRIPTION:Classes de Piano – E. Damay / N. Fages –  De 17h30 à  18h\nClasse de Harpe – V. Prat-Paranque – De 18h à 19h
URL:https://conservatoire.grandangouleme.fr/agenda/tous-dehors-6/
ATTACH;FMTTYPE=image/png:https://conservatoire.grandangouleme.fr/wp-content/uploads/2021/06/DSCN1323.png
ORGANIZER;CN="Conservatoire Gabriel Faur%C3%A9":MAILTO:conservatoire@grandangouleme.fr
END:VEVENT
BEGIN:VEVENT
DTSTART;TZID=Europe/Paris:20210621T170000
DTEND;TZID=Europe/Paris:20210621T190000
DTSTAMP:20260424T154758
CREATED:20210616T085009Z
LAST-MODIFIED:20210616T085157Z
UID:7834-1624294800-1624302000@conservatoire.grandangouleme.fr
SUMMARY:"TOUS DEHORS"
DESCRIPTION:Classe d’Alto – M.P. Jacques – 17h30 – 18h\nClasse de Piano – S. Gonzalez – 18h – 19h
URL:https://conservatoire.grandangouleme.fr/agenda/tous-dehors-3/
CATEGORIES:Audition de classes,Concert
ATTACH;FMTTYPE=image/png:https://conservatoire.grandangouleme.fr/wp-content/uploads/2021/06/DSCN1323.png
ORGANIZER;CN="Conservatoire Gabriel Faur%C3%A9":MAILTO:conservatoire@grandangouleme.fr
END:VEVENT
BEGIN:VEVENT
DTSTART;TZID=Europe/Paris:20210618T170000
DTEND;TZID=Europe/Paris:20210618T190000
DTSTAMP:20260424T154758
CREATED:20210611T072333Z
LAST-MODIFIED:20210616T085149Z
UID:7755-1624035600-1624042800@conservatoire.grandangouleme.fr
SUMMARY:"TOUS DEHORS"
DESCRIPTION:Classe d’Accordéon Diatonique – P. Grollier – De 17h40 à 18h30 \nVous pourrez aussi danser.
URL:https://conservatoire.grandangouleme.fr/agenda/tous-dehors-2/
ATTACH;FMTTYPE=image/png:https://conservatoire.grandangouleme.fr/wp-content/uploads/2021/06/DSCN1323.png
ORGANIZER;CN="Conservatoire Gabriel Faur%C3%A9":MAILTO:conservatoire@grandangouleme.fr
END:VEVENT
BEGIN:VEVENT
DTSTART;TZID=Europe/Paris:20210615T170000
DTEND;TZID=Europe/Paris:20210615T190000
DTSTAMP:20260424T154758
CREATED:20210611T070017Z
LAST-MODIFIED:20210616T085116Z
UID:7734-1623776400-1623783600@conservatoire.grandangouleme.fr
SUMMARY:"TOUS DEHORS"
DESCRIPTION:Classe de Cor – J-P. Bourdin – De 17h à 17h45\nOrchestre Ravel – cuivres – F. Cherrier – De 18h à 19h \n  \n 
URL:https://conservatoire.grandangouleme.fr/agenda/tous-dehors-du-mardi-15-au-mercredi-30-juin/
ATTACH;FMTTYPE=image/png:https://conservatoire.grandangouleme.fr/wp-content/uploads/2021/06/DSCN1323.png
ORGANIZER;CN="Conservatoire Gabriel Faur%C3%A9":MAILTO:conservatoire@grandangouleme.fr
END:VEVENT
BEGIN:VEVENT
DTSTART;TZID=Europe/Paris:20201205T140000
DTEND;TZID=Europe/Paris:20201205T170000
DTSTAMP:20260424T154758
CREATED:20201130T155436Z
LAST-MODIFIED:20201130T160309Z
UID:6437-1607176800-1607187600@conservatoire.grandangouleme.fr
SUMMARY:Écriture\, notation\, transcription et représentation dans la création contemporaine - Visioconférence de Pierre COUPRIE
DESCRIPTION:Pierre Couprie est Professeur de musicologie à l’université d’Évry/Paris-Saclay et chercheur permanent au Centre d’histoire culturelle des sociétés contemporaines (CHCSC) – EA 2448. Il concentre ses recherches sur la musique électroacoustique et le développement d’outils interactifs pour l’analyse (iAnalyse et EAnalysis) et la performance musicale. En 2015\, il obtient le Prix Qwartz Max Mathews de l’innovation technologique pour ses logiciels d’aide à l’analyse musicale. Il est aussi improvisateur électroacousticien au sein du collectif Les Phonogénistes et de l’Orchestre National Electroacoustique \nThème de la conférence :\nDepuis le milieu du XXe siècle\, les compositeurs et les musiciens ont imaginé de nombreuses manières d’écrire la musique. Avec les technologies numériques\, les créateurs de musique électroacoustique ont commencé à manipuler des représentations du son et des graphiques permettant de visualiser des données comme les courbes d’amplitude ou le MIDI. De leur côté\, les musicologues étudient la création musicale contemporaine à l’aide de transcriptions\, de visualisations de paramètres musicaux ou de représentations analytiques. La conférence présentera les multiples formes de notations et de représentations de la musique et du son en les plaçant dans leurs contextes historiques et technologiques. \nLien Zoom :\nhttps://zoom.us/j/94222556937? \nCode secret :\nhttps://zoom.us/j/94222556937?pwd=UU9qbTJ1Y2ZMdXVUdEp4SjllM1VYdz09
URL:https://conservatoire.grandangouleme.fr/agenda/ecriture-notation-transcription-et-representation-dans-la-creation-contemporaine-visioconference-de-pierre-couprie/
LOCATION:Zoom
CATEGORIES:conférence-concert
ATTACH;FMTTYPE=image/png:https://conservatoire.grandangouleme.fr/wp-content/uploads/2020/11/e-br.png
ORGANIZER;CN="Conservatoire Gabriel Faur%C3%A9":MAILTO:conservatoire@grandangouleme.fr
END:VEVENT
BEGIN:VEVENT
DTSTART;TZID=Europe/Paris:20200525T180000
DTEND;TZID=Europe/Paris:20200630T180000
DTSTAMP:20260424T154758
CREATED:20200509T160922Z
LAST-MODIFIED:20200619T072413Z
UID:5549-1590429600-1593540000@conservatoire.grandangouleme.fr
SUMMARY:Portes ouvertes virtuelles
DESCRIPTION:Réouverture des « Portes ouvertes virtuelles »  à partir du lundi 25 mai en fin de journée pour découvrir la grande majorité des enseignements artistiques (musique\, danse et théâtre) que propose le conservatoire.
URL:https://conservatoire.grandangouleme.fr/agenda/portes-ouvertes-virtuelles/
LOCATION:lieu virtuel
ATTACH;FMTTYPE=image/jpeg:https://conservatoire.grandangouleme.fr/wp-content/uploads/2020/02/fmto.jpg
ORGANIZER;CN="Conservatoire Gabriel Faur%C3%A9":MAILTO:conservatoire@grandangouleme.fr
END:VEVENT
END:VCALENDAR