BEGIN:VCALENDAR
VERSION:2.0
PRODID:-//Conservatoire Gabriel Fauré de GrandAngoulême - ECPv6.15.20//NONSGML v1.0//EN
CALSCALE:GREGORIAN
METHOD:PUBLISH
X-ORIGINAL-URL:https://conservatoire.grandangouleme.fr
X-WR-CALDESC:Évènements pour Conservatoire Gabriel Fauré de GrandAngoulême
REFRESH-INTERVAL;VALUE=DURATION:PT1H
X-Robots-Tag:noindex
X-PUBLISHED-TTL:PT1H
BEGIN:VTIMEZONE
TZID:Europe/Paris
BEGIN:DAYLIGHT
TZOFFSETFROM:+0100
TZOFFSETTO:+0200
TZNAME:CEST
DTSTART:20210328T010000
END:DAYLIGHT
BEGIN:STANDARD
TZOFFSETFROM:+0200
TZOFFSETTO:+0100
TZNAME:CET
DTSTART:20211031T010000
END:STANDARD
BEGIN:DAYLIGHT
TZOFFSETFROM:+0100
TZOFFSETTO:+0200
TZNAME:CEST
DTSTART:20220327T010000
END:DAYLIGHT
BEGIN:STANDARD
TZOFFSETFROM:+0200
TZOFFSETTO:+0100
TZNAME:CET
DTSTART:20221030T010000
END:STANDARD
BEGIN:DAYLIGHT
TZOFFSETFROM:+0100
TZOFFSETTO:+0200
TZNAME:CEST
DTSTART:20230326T010000
END:DAYLIGHT
BEGIN:STANDARD
TZOFFSETFROM:+0200
TZOFFSETTO:+0100
TZNAME:CET
DTSTART:20231029T010000
END:STANDARD
BEGIN:DAYLIGHT
TZOFFSETFROM:+0100
TZOFFSETTO:+0200
TZNAME:CEST
DTSTART:20240331T010000
END:DAYLIGHT
BEGIN:STANDARD
TZOFFSETFROM:+0200
TZOFFSETTO:+0100
TZNAME:CET
DTSTART:20241027T010000
END:STANDARD
BEGIN:DAYLIGHT
TZOFFSETFROM:+0100
TZOFFSETTO:+0200
TZNAME:CEST
DTSTART:20250330T010000
END:DAYLIGHT
BEGIN:STANDARD
TZOFFSETFROM:+0200
TZOFFSETTO:+0100
TZNAME:CET
DTSTART:20251026T010000
END:STANDARD
BEGIN:DAYLIGHT
TZOFFSETFROM:+0100
TZOFFSETTO:+0200
TZNAME:CEST
DTSTART:20260329T010000
END:DAYLIGHT
BEGIN:STANDARD
TZOFFSETFROM:+0200
TZOFFSETTO:+0100
TZNAME:CET
DTSTART:20261025T010000
END:STANDARD
END:VTIMEZONE
BEGIN:VEVENT
DTSTART;TZID=Europe/Paris:20250524T193000
DTEND;TZID=Europe/Paris:20250524T210000
DTSTAMP:20260423T163459
CREATED:20250417T133222Z
LAST-MODIFIED:20250519T064106Z
UID:25674-1748115000-1748120400@conservatoire.grandangouleme.fr
SUMMARY:Big Jazz Ensemble & Kalimba
DESCRIPTION:Piano en Valois : David Lively et les professeurs du conservatoire\n\n	Partenariat avec « Piano en Valois » \nConcert avec David Lively\, Didier Nicolle à la flûte traversière et Clément Péchereau au hautbois : professeurs du conservatoire.\nPlus d’information sur :\nhttps://pianoenvalois.fr/ \n  \n  \n 
URL:https://conservatoire.grandangouleme.fr/agenda/big-jazz-ensemble-kalimba/
LOCATION:Théâtre – La Couronne\, 1 Allée des Sports\, La Couronne\, 16400\, France
CATEGORIES:Concert
ATTACH;FMTTYPE=image/jpeg:https://conservatoire.grandangouleme.fr/wp-content/uploads/2019/10/Kalimba.jpg
ORGANIZER;CN="Conservatoire Gabriel Faur%C3%A9":MAILTO:conservatoire@grandangouleme.fr
END:VEVENT
BEGIN:VEVENT
DTSTART;TZID=Europe/Paris:20250517T180000
DTEND;TZID=Europe/Paris:20250517T193000
DTSTAMP:20260423T163459
CREATED:20250416T153048Z
LAST-MODIFIED:20250416T153049Z
UID:25659-1747504800-1747510200@conservatoire.grandangouleme.fr
SUMMARY:Petite histoire d'une tradition mexicaine
DESCRIPTION:Piano en Valois : David Lively et les professeurs du conservatoire\n\n	Partenariat avec « Piano en Valois » \nConcert avec David Lively\, Didier Nicolle à la flûte traversière et Clément Péchereau au hautbois : professeurs du conservatoire.\nPlus d’information sur :\nhttps://pianoenvalois.fr/ \n  \n  \n 
URL:https://conservatoire.grandangouleme.fr/agenda/petite-histoire-dune-tradition-mexicaine/
LOCATION:Théâtre – La Couronne\, 1 Allée des Sports\, La Couronne\, 16400\, France
CATEGORIES:Concert
ATTACH;FMTTYPE=image/png:https://conservatoire.grandangouleme.fr/wp-content/uploads/2025/04/mariachi-e1744817406514.png
ORGANIZER;CN="Conservatoire Gabriel Faur%C3%A9":MAILTO:conservatoire@grandangouleme.fr
END:VEVENT
BEGIN:VEVENT
DTSTART;TZID=Europe/Paris:20250315T190000
DTEND;TZID=Europe/Paris:20250315T203000
DTSTAMP:20260423T163459
CREATED:20250214T082114Z
LAST-MODIFIED:20250311T145650Z
UID:24970-1742065200-1742070600@conservatoire.grandangouleme.fr
SUMMARY:Une soirée avec Callas
DESCRIPTION:Piano en Valois : David Lively et les professeurs du conservatoire\n\n	Partenariat avec « Piano en Valois » \nConcert avec David Lively\, Didier Nicolle à la flûte traversière et Clément Péchereau au hautbois : professeurs du conservatoire.\nPlus d’information sur :\nhttps://pianoenvalois.fr/ \n  \n  \n 
URL:https://conservatoire.grandangouleme.fr/agenda/une-soiree-avec-callas-2/
LOCATION:Théâtre – La Couronne\, 1 Allée des Sports\, La Couronne\, 16400\, France
CATEGORIES:Spectacle
ATTACH;FMTTYPE=image/jpeg:https://conservatoire.grandangouleme.fr/wp-content/uploads/2025/02/une_soiree_che_callas.jpg
ORGANIZER;CN="Conservatoire Gabriel Faur%C3%A9":MAILTO:conservatoire@grandangouleme.fr
END:VEVENT
BEGIN:VEVENT
DTSTART;TZID=Europe/Paris:20221009T170000
DTEND;TZID=Europe/Paris:20221009T190000
DTSTAMP:20260423T163459
CREATED:20221004T083931Z
LAST-MODIFIED:20221004T102255Z
UID:13650-1665334800-1665342000@conservatoire.grandangouleme.fr
SUMMARY:Concert avec David Lively\, Didier Nicolle et Clément Péchereau
DESCRIPTION:Piano en Valois : David Lively et les professeurs du conservatoire\n\n	Partenariat avec « Piano en Valois » \nConcert avec David Lively\, Didier Nicolle à la flûte traversière et Clément Péchereau au hautbois : professeurs du conservatoire.\nPlus d’information sur :\nhttps://pianoenvalois.fr/ \n  \n  \n 
URL:https://conservatoire.grandangouleme.fr/agenda/concert-avec-david-lively-didier-nicolle-et-clement-pechereau/
LOCATION:Théâtre – La Couronne\, 1 Allée des Sports\, La Couronne\, 16400\, France
CATEGORIES:Concert
ATTACH;FMTTYPE=image/jpeg:https://conservatoire.grandangouleme.fr/wp-content/uploads/2022/10/piano-3447281_1920-e1632839751115-350x350-1.jpg
END:VEVENT
END:VCALENDAR