BEGIN:VCALENDAR
VERSION:2.0
PRODID:-//Conservatoire Gabriel Fauré de GrandAngoulême - ECPv6.15.20//NONSGML v1.0//EN
CALSCALE:GREGORIAN
METHOD:PUBLISH
X-ORIGINAL-URL:https://conservatoire.grandangouleme.fr
X-WR-CALDESC:Évènements pour Conservatoire Gabriel Fauré de GrandAngoulême
REFRESH-INTERVAL;VALUE=DURATION:PT1H
X-Robots-Tag:noindex
X-PUBLISHED-TTL:PT1H
BEGIN:VTIMEZONE
TZID:Europe/Paris
BEGIN:DAYLIGHT
TZOFFSETFROM:+0100
TZOFFSETTO:+0200
TZNAME:CEST
DTSTART:20250330T010000
END:DAYLIGHT
BEGIN:STANDARD
TZOFFSETFROM:+0200
TZOFFSETTO:+0100
TZNAME:CET
DTSTART:20251026T010000
END:STANDARD
BEGIN:DAYLIGHT
TZOFFSETFROM:+0100
TZOFFSETTO:+0200
TZNAME:CEST
DTSTART:20260329T010000
END:DAYLIGHT
BEGIN:STANDARD
TZOFFSETFROM:+0200
TZOFFSETTO:+0100
TZNAME:CET
DTSTART:20261025T010000
END:STANDARD
BEGIN:DAYLIGHT
TZOFFSETFROM:+0100
TZOFFSETTO:+0200
TZNAME:CEST
DTSTART:20270328T010000
END:DAYLIGHT
BEGIN:STANDARD
TZOFFSETFROM:+0200
TZOFFSETTO:+0100
TZNAME:CET
DTSTART:20271031T010000
END:STANDARD
END:VTIMEZONE
BEGIN:VEVENT
DTSTART;TZID=Europe/Paris:20260530T200000
DTEND;TZID=Europe/Paris:20260530T220000
DTSTAMP:20260422T211537
CREATED:20260422T144444Z
LAST-MODIFIED:20260422T144444Z
UID:31780-1780171200-1780178400@conservatoire.grandangouleme.fr
SUMMARY:Bal populaire avec l’orchestre d’harmonie Berlioz et l’Harmonie d’Angoulême
DESCRIPTION:Bal populaire avec l’orchestre d’harmonie Berlioz et l’Harmonie d’Angoulême. Un moment festif et convivial ouvert à tous pour danser sur de grands airs musicaux. \nGratuit. Dans la limite des places disponibles.
URL:https://conservatoire.grandangouleme.fr/agenda/bal-populaire-avec-lorchestre-dharmonie-berlioz-et-lharmonie-dangouleme/
LOCATION:Salle des fêtes – Fléac\, 6 Rue de Belfond\, Fléac\, 16730
CATEGORIES:Concert d'orchestre
ATTACH;FMTTYPE=image/jpeg:https://conservatoire.grandangouleme.fr/wp-content/uploads/2026/04/7W3A2000-scaled-e1776869055239.jpg
ORGANIZER;CN="Conservatoire Gabriel Faur%C3%A9":MAILTO:conservatoire@grandangouleme.fr
END:VEVENT
END:VCALENDAR