BEGIN:VCALENDAR
VERSION:2.0
PRODID:-//Conservatoire Gabriel Fauré de GrandAngoulême - ECPv6.15.20//NONSGML v1.0//EN
CALSCALE:GREGORIAN
METHOD:PUBLISH
X-WR-CALNAME:Conservatoire Gabriel Fauré de GrandAngoulême
X-ORIGINAL-URL:https://conservatoire.grandangouleme.fr
X-WR-CALDESC:Évènements pour Conservatoire Gabriel Fauré de GrandAngoulême
REFRESH-INTERVAL;VALUE=DURATION:PT1H
X-Robots-Tag:noindex
X-PUBLISHED-TTL:PT1H
BEGIN:VTIMEZONE
TZID:Europe/Paris
BEGIN:DAYLIGHT
TZOFFSETFROM:+0100
TZOFFSETTO:+0200
TZNAME:CEST
DTSTART:20210328T010000
END:DAYLIGHT
BEGIN:STANDARD
TZOFFSETFROM:+0200
TZOFFSETTO:+0100
TZNAME:CET
DTSTART:20211031T010000
END:STANDARD
BEGIN:DAYLIGHT
TZOFFSETFROM:+0100
TZOFFSETTO:+0200
TZNAME:CEST
DTSTART:20220327T010000
END:DAYLIGHT
BEGIN:STANDARD
TZOFFSETFROM:+0200
TZOFFSETTO:+0100
TZNAME:CET
DTSTART:20221030T010000
END:STANDARD
BEGIN:DAYLIGHT
TZOFFSETFROM:+0100
TZOFFSETTO:+0200
TZNAME:CEST
DTSTART:20230326T010000
END:DAYLIGHT
BEGIN:STANDARD
TZOFFSETFROM:+0200
TZOFFSETTO:+0100
TZNAME:CET
DTSTART:20231029T010000
END:STANDARD
BEGIN:DAYLIGHT
TZOFFSETFROM:+0100
TZOFFSETTO:+0200
TZNAME:CEST
DTSTART:20240331T010000
END:DAYLIGHT
BEGIN:STANDARD
TZOFFSETFROM:+0200
TZOFFSETTO:+0100
TZNAME:CET
DTSTART:20241027T010000
END:STANDARD
BEGIN:DAYLIGHT
TZOFFSETFROM:+0100
TZOFFSETTO:+0200
TZNAME:CEST
DTSTART:20250330T010000
END:DAYLIGHT
BEGIN:STANDARD
TZOFFSETFROM:+0200
TZOFFSETTO:+0100
TZNAME:CET
DTSTART:20251026T010000
END:STANDARD
BEGIN:DAYLIGHT
TZOFFSETFROM:+0100
TZOFFSETTO:+0200
TZNAME:CEST
DTSTART:20260329T010000
END:DAYLIGHT
BEGIN:STANDARD
TZOFFSETFROM:+0200
TZOFFSETTO:+0100
TZNAME:CET
DTSTART:20261025T010000
END:STANDARD
END:VTIMEZONE
BEGIN:VEVENT
DTSTART;TZID=Europe/Paris:20250610T203000
DTEND;TZID=Europe/Paris:20250610T220000
DTSTAMP:20260425T165228
CREATED:20250519T152253Z
LAST-MODIFIED:20250522T150428Z
UID:26034-1749587400-1749592800@conservatoire.grandangouleme.fr
SUMMARY:Concert de l'orchestre Fauré
DESCRIPTION:Orchestre Fauré \n\nDirection : A. Chataigner et J. Nicolas \nEntrée libre dans la limite des places disponibles
URL:https://conservatoire.grandangouleme.fr/agenda/concert-dorchestres-2/
LOCATION:Salle des fêtes – Gond-Pontouvre\, Place Hôtel de Ville\, Le Gond-Pontouvre\, 16160\, France
CATEGORIES:Concert d'orchestre
ATTACH;FMTTYPE=image/jpeg:https://conservatoire.grandangouleme.fr/wp-content/uploads/2025/05/2025-concert-orchestre.jpg
ORGANIZER;CN="Conservatoire Gabriel Faur%C3%A9":MAILTO:conservatoire@grandangouleme.fr
END:VEVENT
BEGIN:VEVENT
DTSTART;TZID=Europe/Paris:20230622T180000
DTEND;TZID=Europe/Paris:20230622T193000
DTSTAMP:20260425T165228
CREATED:20230614T114014Z
LAST-MODIFIED:20230614T114950Z
UID:19209-1687456800-1687462200@conservatoire.grandangouleme.fr
SUMMARY:Concert "orchestre à l'école" et orchestre Debussy et Chabrier
DESCRIPTION:CONCERT\n\nRetrouvez les élèves de l’orchestre « cordes » des OAE qui\, avec le soutien\, des orchestres Debussy et Chabrier\, vous présenteront l’aboutissement de leur travail des deux années. \nDirection : C. Mardikian\, A. Chataigner\, J. Nicolas et C. Pizon
URL:https://conservatoire.grandangouleme.fr/agenda/concert-orchestre-a-lecole-et-orchestre-debussy-et-chabrier/
LOCATION:Salle des fêtes – Gond-Pontouvre\, Place Hôtel de Ville\, Le Gond-Pontouvre\, 16160\, France
CATEGORIES:Concert de restitution
ATTACH;FMTTYPE=image/png:https://conservatoire.grandangouleme.fr/wp-content/uploads/2023/05/orchestre_a_lecole-e1685017912961.png
ORGANIZER;CN="Conservatoire Gabriel Faur%C3%A9":MAILTO:conservatoire@grandangouleme.fr
END:VEVENT
BEGIN:VEVENT
DTSTART;TZID=Europe/Paris:20230127T193000
DTEND;TZID=Europe/Paris:20230127T210000
DTSTAMP:20260425T165228
CREATED:20230117T134111Z
LAST-MODIFIED:20230117T134656Z
UID:14130-1674847800-1674853200@conservatoire.grandangouleme.fr
SUMMARY:Concert orchestre Fauré - 27 janvier 2023
DESCRIPTION:PROGRAMME\n\nHaydn : Symphonie la poule 1er mvt \nGrieg : extraits de la 1ère suite instrumentale Peer Gynt mvt 1\, 2\, 4 \nBizet : extrait des suites instrumentale 1 et 2 tirée de l’opéra l’Arlésienne \nDirection : Arnaud Chataigner
URL:https://conservatoire.grandangouleme.fr/agenda/concert-orchestres-debussy-et-faure/
LOCATION:Salle des fêtes – Gond-Pontouvre\, Place Hôtel de Ville\, Le Gond-Pontouvre\, 16160\, France
CATEGORIES:Concert d'orchestre
ATTACH;FMTTYPE=image/jpeg:https://conservatoire.grandangouleme.fr/wp-content/uploads/2022/10/site.jpg
ORGANIZER;CN="Conservatoire Gabriel Faur%C3%A9":MAILTO:conservatoire@grandangouleme.fr
END:VEVENT
BEGIN:VEVENT
DTSTART;TZID=Europe/Paris:20220623T180000
DTEND;TZID=Europe/Paris:20220623T200000
DTSTAMP:20260425T165228
CREATED:20220525T120823Z
LAST-MODIFIED:20220525T120823Z
UID:11754-1656007200-1656014400@conservatoire.grandangouleme.fr
SUMMARY:Concerts OAE\, Orchestres Debussy et Chabrier
DESCRIPTION:Les élèves de l’école Pierre et Marie Curie de Gond-Pontouvre qui participent depuis janvier 2021 au dispositif « orchestre à l’école » avec les enseignants du département cordes assurent la première partie de ce concert sous la direction de Camille Pizon. \nLes orchestres à cordes\, Debussy et Chabrier\, de 1er et 2e cycle\, joueront en deuxième partie de ce concert sous la direction respective de Arnaud Chataigner\, Jacques Nicolas\, Cécile Mardikian et Lucile Trougnou.
URL:https://conservatoire.grandangouleme.fr/agenda/concerts-oae-orchestres-debussy-et-chabrier/
LOCATION:Salle des fêtes – Gond-Pontouvre\, Place Hôtel de Ville\, Le Gond-Pontouvre\, 16160\, France
CATEGORIES:Concert d'orchestre
ATTACH;FMTTYPE=image/jpeg:https://conservatoire.grandangouleme.fr/wp-content/uploads/2022/01/2022-01-26.jpg
ORGANIZER;CN="Conservatoire Gabriel Faur%C3%A9":MAILTO:conservatoire@grandangouleme.fr
END:VEVENT
END:VCALENDAR