BEGIN:VCALENDAR
VERSION:2.0
PRODID:-//Conservatoire Gabriel Fauré de GrandAngoulême - ECPv6.15.20//NONSGML v1.0//EN
CALSCALE:GREGORIAN
METHOD:PUBLISH
X-ORIGINAL-URL:https://conservatoire.grandangouleme.fr
X-WR-CALDESC:Évènements pour Conservatoire Gabriel Fauré de GrandAngoulême
REFRESH-INTERVAL;VALUE=DURATION:PT1H
X-Robots-Tag:noindex
X-PUBLISHED-TTL:PT1H
BEGIN:VTIMEZONE
TZID:Europe/Paris
BEGIN:DAYLIGHT
TZOFFSETFROM:+0100
TZOFFSETTO:+0200
TZNAME:CEST
DTSTART:20210328T010000
END:DAYLIGHT
BEGIN:STANDARD
TZOFFSETFROM:+0200
TZOFFSETTO:+0100
TZNAME:CET
DTSTART:20211031T010000
END:STANDARD
BEGIN:DAYLIGHT
TZOFFSETFROM:+0100
TZOFFSETTO:+0200
TZNAME:CEST
DTSTART:20220327T010000
END:DAYLIGHT
BEGIN:STANDARD
TZOFFSETFROM:+0200
TZOFFSETTO:+0100
TZNAME:CET
DTSTART:20221030T010000
END:STANDARD
BEGIN:DAYLIGHT
TZOFFSETFROM:+0100
TZOFFSETTO:+0200
TZNAME:CEST
DTSTART:20230326T010000
END:DAYLIGHT
BEGIN:STANDARD
TZOFFSETFROM:+0200
TZOFFSETTO:+0100
TZNAME:CET
DTSTART:20231029T010000
END:STANDARD
BEGIN:DAYLIGHT
TZOFFSETFROM:+0100
TZOFFSETTO:+0200
TZNAME:CEST
DTSTART:20240331T010000
END:DAYLIGHT
BEGIN:STANDARD
TZOFFSETFROM:+0200
TZOFFSETTO:+0100
TZNAME:CET
DTSTART:20241027T010000
END:STANDARD
BEGIN:DAYLIGHT
TZOFFSETFROM:+0100
TZOFFSETTO:+0200
TZNAME:CEST
DTSTART:20250330T010000
END:DAYLIGHT
BEGIN:STANDARD
TZOFFSETFROM:+0200
TZOFFSETTO:+0100
TZNAME:CET
DTSTART:20251026T010000
END:STANDARD
END:VTIMEZONE
BEGIN:VEVENT
DTSTART;TZID=Europe/Paris:20240628T190000
DTEND;TZID=Europe/Paris:20240628T203000
DTSTAMP:20260423T115555
CREATED:20240516T145219Z
LAST-MODIFIED:20240613T102238Z
UID:22194-1719601200-1719606600@conservatoire.grandangouleme.fr
SUMMARY:Ensembles de violoncelles des conservatoires de la région
DESCRIPTION:Parvis du conservatoire\n\n	Direction : Jacques Nicolas \nRepli à l’église St-André en cas de temps pluvieux \n Entrée libre dans la limite des places disponibles.\n Pensez au co-voiturage : https://covoitmodalis.fr/
URL:https://conservatoire.grandangouleme.fr/agenda/ensembles-de-violoncelles-des-conservatoires-de-la-region/
LOCATION:Place Henri Dunant – Parvis du conservatoire – Angoulême
CATEGORIES:Concert
ATTACH;FMTTYPE=image/jpeg:https://conservatoire.grandangouleme.fr/wp-content/uploads/2014/04/Fotolia_54619682_Subscription_XL-e1583244403783.jpg
ORGANIZER;CN="Conservatoire Gabriel Faur%C3%A9":MAILTO:conservatoire@grandangouleme.fr
END:VEVENT
BEGIN:VEVENT
DTSTART;TZID=Europe/Paris:20220601T170000
DTEND;TZID=Europe/Paris:20220629T190000
DTSTAMP:20260423T115555
CREATED:20220525T093807Z
LAST-MODIFIED:20220530T145042Z
UID:11740-1654102800-1656529200@conservatoire.grandangouleme.fr
SUMMARY:"Tous dehors"
DESCRIPTION:Les  « Tous dehors » sont l’occasion pour les élèves et leurs professeurs d’un moment de partage avec les passants sur le parvis du conservatoire.  Les gradins seront sous les tilleuls\,  place Henri Dunant du 1er juin au 29 juin\, du lundi au vendredi de 17h à 19h sauf le vendredi 17. \nL’information sur le contenu de chaque représentation  sera transmise la veille chaque date sur la page Fb du conservatoire. En cas de météo défavorable  les  représentations seront annulées. \nNous vous attendons nombreux. \n  \n  \n 
URL:https://conservatoire.grandangouleme.fr/agenda/tous-dehors-11/
LOCATION:Place Henri Dunant – Parvis du conservatoire – Angoulême
CATEGORIES:Audition de classes,Concert,Spectacle
ATTACH;FMTTYPE=image/png:https://conservatoire.grandangouleme.fr/wp-content/uploads/2021/06/DSCN1323.png
ORGANIZER;CN="Conservatoire Gabriel Faur%C3%A9":MAILTO:conservatoire@grandangouleme.fr
END:VEVENT
END:VCALENDAR