BEGIN:VCALENDAR
VERSION:2.0
PRODID:-//Conservatoire Gabriel Fauré de GrandAngoulême - ECPv6.15.20//NONSGML v1.0//EN
CALSCALE:GREGORIAN
METHOD:PUBLISH
X-ORIGINAL-URL:https://conservatoire.grandangouleme.fr
X-WR-CALDESC:Évènements pour Conservatoire Gabriel Fauré de GrandAngoulême
REFRESH-INTERVAL;VALUE=DURATION:PT1H
X-Robots-Tag:noindex
X-PUBLISHED-TTL:PT1H
BEGIN:VTIMEZONE
TZID:Europe/Paris
BEGIN:DAYLIGHT
TZOFFSETFROM:+0100
TZOFFSETTO:+0200
TZNAME:CEST
DTSTART:20240331T010000
END:DAYLIGHT
BEGIN:STANDARD
TZOFFSETFROM:+0200
TZOFFSETTO:+0100
TZNAME:CET
DTSTART:20241027T010000
END:STANDARD
BEGIN:DAYLIGHT
TZOFFSETFROM:+0100
TZOFFSETTO:+0200
TZNAME:CEST
DTSTART:20250330T010000
END:DAYLIGHT
BEGIN:STANDARD
TZOFFSETFROM:+0200
TZOFFSETTO:+0100
TZNAME:CET
DTSTART:20251026T010000
END:STANDARD
BEGIN:DAYLIGHT
TZOFFSETFROM:+0100
TZOFFSETTO:+0200
TZNAME:CEST
DTSTART:20260329T010000
END:DAYLIGHT
BEGIN:STANDARD
TZOFFSETFROM:+0200
TZOFFSETTO:+0100
TZNAME:CET
DTSTART:20261025T010000
END:STANDARD
END:VTIMEZONE
BEGIN:VEVENT
DTSTART;TZID=Europe/Paris:20250606T203000
DTEND;TZID=Europe/Paris:20250606T220000
DTSTAMP:20260422T215036
CREATED:20250520T060013Z
LAST-MODIFIED:20250526T143942Z
UID:25887-1749241800-1749247200@conservatoire.grandangouleme.fr
SUMMARY:Concert de l'orchestre Fauré
DESCRIPTION:
URL:https://conservatoire.grandangouleme.fr/agenda/concert-des-orchestres-faure-et-debussy/
LOCATION:Auditorium – Conservatoire\, place Henri Dunant\, Angoulême\, 16000\, France
CATEGORIES:Concert d'orchestre
ATTACH;FMTTYPE=image/jpeg:https://conservatoire.grandangouleme.fr/wp-content/uploads/2025/05/2025-concert-orchestre.jpg
ORGANIZER;CN="Conservatoire Gabriel Faur%C3%A9":MAILTO:conservatoire@grandangouleme.fr
END:VEVENT
BEGIN:VEVENT
DTSTART;TZID=Europe/Paris:20250531T140000
DTEND;TZID=Europe/Paris:20250531T183000
DTSTAMP:20260422T215036
CREATED:20250417T134011Z
LAST-MODIFIED:20250521T093828Z
UID:25678-1748700000-1748716200@conservatoire.grandangouleme.fr
SUMMARY:Examens concerts CEM
DESCRIPTION:
URL:https://conservatoire.grandangouleme.fr/agenda/examens-concerts-cem-2/
LOCATION:Auditorium – Conservatoire\, place Henri Dunant\, Angoulême\, 16000\, France
CATEGORIES:Représentation
ATTACH;FMTTYPE=image/jpeg:https://conservatoire.grandangouleme.fr/wp-content/uploads/2025/04/CEM-projet-perso-vecto.jpg.jpg
ORGANIZER;CN="Conservatoire Gabriel Faur%C3%A9":MAILTO:conservatoire@grandangouleme.fr
END:VEVENT
BEGIN:VEVENT
DTSTART;TZID=Europe/Paris:20250530T150000
DTEND;TZID=Europe/Paris:20250530T190000
DTSTAMP:20260422T215036
CREATED:20250417T133725Z
LAST-MODIFIED:20250521T083410Z
UID:25676-1748617200-1748631600@conservatoire.grandangouleme.fr
SUMMARY:Examens concerts CEM
DESCRIPTION:
URL:https://conservatoire.grandangouleme.fr/agenda/examens-concerts-cem/
LOCATION:Auditorium – Conservatoire\, place Henri Dunant\, Angoulême\, 16000\, France
CATEGORIES:Représentation
ATTACH;FMTTYPE=image/jpeg:https://conservatoire.grandangouleme.fr/wp-content/uploads/2025/04/CEM-projet-perso-vecto.jpg.jpg
ORGANIZER;CN="Conservatoire Gabriel Faur%C3%A9":MAILTO:conservatoire@grandangouleme.fr
END:VEVENT
BEGIN:VEVENT
DTSTART;TZID=Europe/Paris:20250516T183000
DTEND;TZID=Europe/Paris:20250516T200000
DTSTAMP:20260422T215036
CREATED:20250416T125414Z
LAST-MODIFIED:20250416T125415Z
UID:25649-1747420200-1747425600@conservatoire.grandangouleme.fr
SUMMARY:Audition de classe et examen
DESCRIPTION:
URL:https://conservatoire.grandangouleme.fr/agenda/audition-de-classe-et-examen/
LOCATION:Auditorium – Conservatoire\, place Henri Dunant\, Angoulême\, 16000\, France
CATEGORIES:Audition
ATTACH;FMTTYPE=image/jpeg:https://conservatoire.grandangouleme.fr/wp-content/uploads/2019/10/accordéon-diatonique.jpg
ORGANIZER;CN="Conservatoire Gabriel Faur%C3%A9":MAILTO:conservatoire@grandangouleme.fr
END:VEVENT
BEGIN:VEVENT
DTSTART;TZID=Europe/Paris:20250514T183000
DTEND;TZID=Europe/Paris:20250514T200000
DTSTAMP:20260422T215036
CREATED:20250514T125255Z
LAST-MODIFIED:20250514T125256Z
UID:25917-1747247400-1747252800@conservatoire.grandangouleme.fr
SUMMARY:Audition de classe
DESCRIPTION:
URL:https://conservatoire.grandangouleme.fr/agenda/audition-de-classe-5/
LOCATION:Auditorium – Conservatoire\, place Henri Dunant\, Angoulême\, 16000\, France
CATEGORIES:Audition de classes
ATTACH;FMTTYPE=image/jpeg:https://conservatoire.grandangouleme.fr/wp-content/uploads/2022/10/istockphoto-901538534-612x612-1.jpg
ORGANIZER;CN="Conservatoire Gabriel Faur%C3%A9":MAILTO:conservatoire@grandangouleme.fr
END:VEVENT
BEGIN:VEVENT
DTSTART;TZID=Europe/Paris:20250513T183000
DTEND;TZID=Europe/Paris:20250513T200000
DTSTAMP:20260422T215036
CREATED:20250416T124825Z
LAST-MODIFIED:20250416T124826Z
UID:25644-1747161000-1747166400@conservatoire.grandangouleme.fr
SUMMARY:Audition Patchwork
DESCRIPTION:
URL:https://conservatoire.grandangouleme.fr/agenda/audition-patchwork-14/
LOCATION:Auditorium – Conservatoire\, place Henri Dunant\, Angoulême\, 16000\, France
CATEGORIES:Audition de classes
ATTACH;FMTTYPE=image/jpeg:https://conservatoire.grandangouleme.fr/wp-content/uploads/2023/03/2302-patchwork.jpg
ORGANIZER;CN="Conservatoire Gabriel Faur%C3%A9":MAILTO:conservatoire@grandangouleme.fr
END:VEVENT
BEGIN:VEVENT
DTSTART;TZID=Europe/Paris:20250408T183000
DTEND;TZID=Europe/Paris:20250408T190000
DTSTAMP:20260422T215036
CREATED:20250324T141132Z
LAST-MODIFIED:20250324T142053Z
UID:25468-1744137000-1744138800@conservatoire.grandangouleme.fr
SUMMARY:Projet personnel - Aleina Kenan
DESCRIPTION:
URL:https://conservatoire.grandangouleme.fr/agenda/projet-personnel-aleina-kenan/
LOCATION:Auditorium – Conservatoire\, place Henri Dunant\, Angoulême\, 16000\, France
CATEGORIES:Spectacle
ATTACH;FMTTYPE=image/png:https://conservatoire.grandangouleme.fr/wp-content/uploads/2025/03/aleine_cpes-e1742826030814.png
ORGANIZER;CN="Conservatoire Gabriel Faur%C3%A9":MAILTO:conservatoire@grandangouleme.fr
END:VEVENT
BEGIN:VEVENT
DTSTART;TZID=Europe/Paris:20250405T140000
DTEND;TZID=Europe/Paris:20250405T160000
DTSTAMP:20260422T215036
CREATED:20250319T142307Z
LAST-MODIFIED:20250319T142307Z
UID:25400-1743861600-1743868800@conservatoire.grandangouleme.fr
SUMMARY:Masterclass avec Eric Löhrer
DESCRIPTION:
URL:https://conservatoire.grandangouleme.fr/agenda/masterclass-avec-eric-lohrer/
LOCATION:Auditorium – Conservatoire\, place Henri Dunant\, Angoulême\, 16000\, France
CATEGORIES:Masterclass et Concert
ATTACH;FMTTYPE=image/jpeg:https://conservatoire.grandangouleme.fr/wp-content/uploads/2019/11/perfect-guitare.jpg
ORGANIZER;CN="Conservatoire Gabriel Faur%C3%A9":MAILTO:conservatoire@grandangouleme.fr
END:VEVENT
BEGIN:VEVENT
DTSTART;TZID=Europe/Paris:20250401T193000
DTEND;TZID=Europe/Paris:20250401T210000
DTSTAMP:20260422T215036
CREATED:20250324T135110Z
LAST-MODIFIED:20250324T135110Z
UID:25456-1743535800-1743541200@conservatoire.grandangouleme.fr
SUMMARY:Audition de rodage
DESCRIPTION:
URL:https://conservatoire.grandangouleme.fr/agenda/audition-de-rodage/
LOCATION:Auditorium – Conservatoire\, place Henri Dunant\, Angoulême\, 16000\, France
CATEGORIES:Audition de classes
ATTACH;FMTTYPE=image/jpeg:https://conservatoire.grandangouleme.fr/wp-content/uploads/2019/12/violon-baroque.jpg
ORGANIZER;CN="Conservatoire Gabriel Faur%C3%A9":MAILTO:conservatoire@grandangouleme.fr
END:VEVENT
BEGIN:VEVENT
DTSTART;TZID=Europe/Paris:20250325T183000
DTEND;TZID=Europe/Paris:20250325T193000
DTSTAMP:20260422T215036
CREATED:20250214T110254Z
LAST-MODIFIED:20250303T083247Z
UID:24991-1742927400-1742931000@conservatoire.grandangouleme.fr
SUMMARY:Audition - Hautbois
DESCRIPTION:
URL:https://conservatoire.grandangouleme.fr/agenda/audition-hautbois-2/
LOCATION:Auditorium – Conservatoire\, place Henri Dunant\, Angoulême\, 16000\, France
CATEGORIES:Audition de classes
ATTACH;FMTTYPE=image/jpeg:https://conservatoire.grandangouleme.fr/wp-content/uploads/2014/04/Fotolia_61221267_Subscription_XXL-e1397485413935.jpg
END:VEVENT
BEGIN:VEVENT
DTSTART;TZID=Europe/Paris:20250321T203000
DTEND;TZID=Europe/Paris:20250321T213000
DTSTAMP:20260422T215036
CREATED:20250214T105710Z
LAST-MODIFIED:20250312T143553Z
UID:24986-1742589000-1742592600@conservatoire.grandangouleme.fr
SUMMARY:Les 4 saisons du conservatoire
DESCRIPTION:
URL:https://conservatoire.grandangouleme.fr/agenda/les-4-saisons-du-conservatoire-3/
LOCATION:Auditorium – Conservatoire\, place Henri Dunant\, Angoulême\, 16000\, France
CATEGORIES:Concert
ATTACH;FMTTYPE=image/jpeg:https://conservatoire.grandangouleme.fr/wp-content/uploads/2025/02/villa_lobos1.jpg
END:VEVENT
BEGIN:VEVENT
DTSTART;TZID=Europe/Paris:20250320T183000
DTEND;TZID=Europe/Paris:20250320T200000
DTSTAMP:20260422T215036
CREATED:20250214T105500Z
LAST-MODIFIED:20250214T105501Z
UID:24984-1742495400-1742500800@conservatoire.grandangouleme.fr
SUMMARY:Audition Patchwork
DESCRIPTION:
URL:https://conservatoire.grandangouleme.fr/agenda/audition-patchwork-13/
LOCATION:Auditorium – Conservatoire\, place Henri Dunant\, Angoulême\, 16000\, France
CATEGORIES:Audition de classes
ATTACH;FMTTYPE=image/jpeg:https://conservatoire.grandangouleme.fr/wp-content/uploads/2023/03/2302-patchwork.jpg
END:VEVENT
BEGIN:VEVENT
DTSTART;TZID=Europe/Paris:20250318T193000
DTEND;TZID=Europe/Paris:20250318T203000
DTSTAMP:20260422T215036
CREATED:20250214T104120Z
LAST-MODIFIED:20250214T105243Z
UID:24980-1742326200-1742329800@conservatoire.grandangouleme.fr
SUMMARY:Carte blanche à la danse
DESCRIPTION:
URL:https://conservatoire.grandangouleme.fr/agenda/blanche-danse/
LOCATION:Auditorium – Conservatoire\, place Henri Dunant\, Angoulême\, 16000\, France
CATEGORIES:Concert
ATTACH;FMTTYPE=image/jpeg:https://conservatoire.grandangouleme.fr/wp-content/uploads/2020/02/danse3.jpg
END:VEVENT
BEGIN:VEVENT
DTSTART;TZID=Europe/Paris:20250315T150000
DTEND;TZID=Europe/Paris:20250315T160000
DTSTAMP:20260422T215036
CREATED:20250214T081618Z
LAST-MODIFIED:20250214T081618Z
UID:24967-1742050800-1742054400@conservatoire.grandangouleme.fr
SUMMARY:Audition de classe
DESCRIPTION:
URL:https://conservatoire.grandangouleme.fr/agenda/audition-de-classe-4/
LOCATION:Auditorium – Conservatoire\, place Henri Dunant\, Angoulême\, 16000\, France
CATEGORIES:Audition de classes
ATTACH;FMTTYPE=image/jpeg:https://conservatoire.grandangouleme.fr/wp-content/uploads/2022/10/piano-3447281_1920-e1632839751115-350x350-1.jpg
END:VEVENT
BEGIN:VEVENT
DTSTART;TZID=Europe/Paris:20250315T133000
DTEND;TZID=Europe/Paris:20250315T143000
DTSTAMP:20260422T215036
CREATED:20250214T081413Z
LAST-MODIFIED:20250214T081414Z
UID:24965-1742045400-1742049000@conservatoire.grandangouleme.fr
SUMMARY:Audition de classe
DESCRIPTION:
URL:https://conservatoire.grandangouleme.fr/agenda/audition-de-classe-3/
LOCATION:Auditorium – Conservatoire\, place Henri Dunant\, Angoulême\, 16000\, France
CATEGORIES:Audition de classes
ATTACH;FMTTYPE=image/jpeg:https://conservatoire.grandangouleme.fr/wp-content/uploads/2022/10/piano-3447281_1920-e1632839751115-350x350-1.jpg
END:VEVENT
BEGIN:VEVENT
DTSTART;TZID=Europe/Paris:20250314T180000
DTEND;TZID=Europe/Paris:20250314T190000
DTSTAMP:20260422T215036
CREATED:20250214T081157Z
LAST-MODIFIED:20250214T081157Z
UID:24963-1741975200-1741978800@conservatoire.grandangouleme.fr
SUMMARY:Audition de classe
DESCRIPTION:
URL:https://conservatoire.grandangouleme.fr/agenda/audition-de-classe-2/
LOCATION:Auditorium – Conservatoire\, place Henri Dunant\, Angoulême\, 16000\, France
CATEGORIES:Audition de classes
ATTACH;FMTTYPE=image/jpeg:https://conservatoire.grandangouleme.fr/wp-content/uploads/2022/10/piano-3447281_1920-e1632839751115-350x350-1.jpg
END:VEVENT
BEGIN:VEVENT
DTSTART;TZID=Europe/Paris:20250311T193000
DTEND;TZID=Europe/Paris:20250311T203000
DTSTAMP:20260422T215036
CREATED:20250214T080855Z
LAST-MODIFIED:20250214T080855Z
UID:24961-1741721400-1741725000@conservatoire.grandangouleme.fr
SUMMARY:Concert de musique électroacoustique
DESCRIPTION:
URL:https://conservatoire.grandangouleme.fr/agenda/concert-de-musique-electroacoustique-2/
LOCATION:Auditorium – Conservatoire\, place Henri Dunant\, Angoulême\, 16000\, France
CATEGORIES:Concert
ATTACH;FMTTYPE=image/jpeg:https://conservatoire.grandangouleme.fr/wp-content/uploads/2014/04/Fotolia_34344273_Subscription_XL-e1397652888298.jpg
END:VEVENT
BEGIN:VEVENT
DTSTART;TZID=Europe/Paris:20250310T193000
DTEND;TZID=Europe/Paris:20250310T203000
DTSTAMP:20260422T215036
CREATED:20250214T080701Z
LAST-MODIFIED:20250214T080701Z
UID:24959-1741635000-1741638600@conservatoire.grandangouleme.fr
SUMMARY:Concert de musique électroacoustique
DESCRIPTION:
URL:https://conservatoire.grandangouleme.fr/agenda/concert-de-musique-electroacoustique/
LOCATION:Auditorium – Conservatoire\, place Henri Dunant\, Angoulême\, 16000\, France
CATEGORIES:Concert
ATTACH;FMTTYPE=image/jpeg:https://conservatoire.grandangouleme.fr/wp-content/uploads/2024/10/electro-recadre.jpg
END:VEVENT
BEGIN:VEVENT
DTSTART;TZID=Europe/Paris:20250221T190000
DTEND;TZID=Europe/Paris:20250221T203000
DTSTAMP:20260422T215036
CREATED:20250116T150821Z
LAST-MODIFIED:20250116T150822Z
UID:24602-1740164400-1740169800@conservatoire.grandangouleme.fr
SUMMARY:Musique espagnole
DESCRIPTION:
URL:https://conservatoire.grandangouleme.fr/agenda/musique-espagnole/
LOCATION:Auditorium – Conservatoire\, place Henri Dunant\, Angoulême\, 16000\, France
CATEGORIES:Concert
ATTACH;FMTTYPE=image/png:https://conservatoire.grandangouleme.fr/wp-content/uploads/2023/03/s-l500.png
ORGANIZER;CN="Conservatoire Gabriel Faur%C3%A9":MAILTO:conservatoire@grandangouleme.fr
END:VEVENT
BEGIN:VEVENT
DTSTART;TZID=Europe/Paris:20250218T173000
DTEND;TZID=Europe/Paris:20250218T183000
DTSTAMP:20260422T215036
CREATED:20250116T150449Z
LAST-MODIFIED:20250116T153557Z
UID:24600-1739899800-1739903400@conservatoire.grandangouleme.fr
SUMMARY:Audition de contrebasse
DESCRIPTION:
URL:https://conservatoire.grandangouleme.fr/agenda/audition-de-contrebasse/
LOCATION:Auditorium – Conservatoire\, place Henri Dunant\, Angoulême\, 16000\, France
CATEGORIES:Audition de classes
ATTACH;FMTTYPE=image/jpeg:https://conservatoire.grandangouleme.fr/wp-content/uploads/2014/04/contrebasse.jpg
ORGANIZER;CN="Conservatoire Gabriel Faur%C3%A9":MAILTO:conservatoire@grandangouleme.fr
END:VEVENT
BEGIN:VEVENT
DTSTART;TZID=Europe/Paris:20250215T153000
DTEND;TZID=Europe/Paris:20250215T163000
DTSTAMP:20260422T215036
CREATED:20250116T150233Z
LAST-MODIFIED:20250116T150233Z
UID:24598-1739633400-1739637000@conservatoire.grandangouleme.fr
SUMMARY:Audition de violon
DESCRIPTION:
URL:https://conservatoire.grandangouleme.fr/agenda/audition-de-violon-3/
LOCATION:Auditorium – Conservatoire\, place Henri Dunant\, Angoulême\, 16000\, France
CATEGORIES:Audition de classes
ATTACH;FMTTYPE=image/jpeg:https://conservatoire.grandangouleme.fr/wp-content/uploads/2019/10/violon.jpg
ORGANIZER;CN="Conservatoire Gabriel Faur%C3%A9":MAILTO:conservatoire@grandangouleme.fr
END:VEVENT
BEGIN:VEVENT
DTSTART;TZID=Europe/Paris:20250214T200000
DTEND;TZID=Europe/Paris:20250214T210000
DTSTAMP:20260422T215036
CREATED:20250116T145925Z
LAST-MODIFIED:20250120T154306Z
UID:24596-1739563200-1739566800@conservatoire.grandangouleme.fr
SUMMARY:Autour de la variation
DESCRIPTION:
URL:https://conservatoire.grandangouleme.fr/agenda/autour-de-la-variation/
LOCATION:Auditorium – Conservatoire\, place Henri Dunant\, Angoulême\, 16000\, France
CATEGORIES:Concert
ATTACH;FMTTYPE=image/png:https://conservatoire.grandangouleme.fr/wp-content/uploads/2023/03/mgwuxD8lzokeFP9mkBpBkKrnHW68JI944koUFssh.png
ORGANIZER;CN="Conservatoire Gabriel Faur%C3%A9":MAILTO:conservatoire@grandangouleme.fr
END:VEVENT
BEGIN:VEVENT
DTSTART;TZID=Europe/Paris:20250211T183000
DTEND;TZID=Europe/Paris:20250211T200000
DTSTAMP:20260422T215036
CREATED:20250116T145629Z
LAST-MODIFIED:20250116T145629Z
UID:24595-1739298600-1739304000@conservatoire.grandangouleme.fr
SUMMARY:Audition Patchwork
DESCRIPTION:
URL:https://conservatoire.grandangouleme.fr/agenda/audition-patchwork-12/
LOCATION:Auditorium – Conservatoire\, place Henri Dunant\, Angoulême\, 16000\, France
CATEGORIES:Audition
ATTACH;FMTTYPE=image/jpeg:https://conservatoire.grandangouleme.fr/wp-content/uploads/2023/03/2302-patchwork.jpg
ORGANIZER;CN="Conservatoire Gabriel Faur%C3%A9":MAILTO:conservatoire@grandangouleme.fr
END:VEVENT
BEGIN:VEVENT
DTSTART;TZID=Europe/Paris:20250209T170000
DTEND;TZID=Europe/Paris:20250209T183000
DTSTAMP:20260422T215036
CREATED:20250116T145403Z
LAST-MODIFIED:20250120T081318Z
UID:24592-1739120400-1739125800@conservatoire.grandangouleme.fr
SUMMARY:Concert des orchestres Debussy et Fauré
DESCRIPTION:
URL:https://conservatoire.grandangouleme.fr/agenda/concert-des-orchestres-debussy-et-faure-2/
LOCATION:Auditorium – Conservatoire\, place Henri Dunant\, Angoulême\, 16000\, France
CATEGORIES:Concert d'orchestre
ATTACH;FMTTYPE=image/jpeg:https://conservatoire.grandangouleme.fr/wp-content/uploads/2024/07/faure_06-2024-scaled-e1737038921512.jpg
ORGANIZER;CN="Conservatoire Gabriel Faur%C3%A9":MAILTO:conservatoire@grandangouleme.fr
END:VEVENT
BEGIN:VEVENT
DTSTART;TZID=Europe/Paris:20250209T143000
DTEND;TZID=Europe/Paris:20250209T160000
DTSTAMP:20260422T215036
CREATED:20250116T145150Z
LAST-MODIFIED:20250129T152317Z
UID:24586-1739111400-1739116800@conservatoire.grandangouleme.fr
SUMMARY:Concert des orchestres Ravel\, Gounod et Chabrier
DESCRIPTION:
URL:https://conservatoire.grandangouleme.fr/agenda/concert-des-orchestres-ravel-gounod-et-chabrier-2/
LOCATION:Auditorium – Conservatoire\, place Henri Dunant\, Angoulême\, 16000\, France
CATEGORIES:Concert d'orchestre
ATTACH;FMTTYPE=image/jpeg:https://conservatoire.grandangouleme.fr/wp-content/uploads/2022/10/orchestre-du-conservatoire-emmanuel-chabrier.jpg
ORGANIZER;CN="Conservatoire Gabriel Faur%C3%A9":MAILTO:conservatoire@grandangouleme.fr
END:VEVENT
BEGIN:VEVENT
DTSTART;TZID=Europe/Paris:20250207T190000
DTEND;TZID=Europe/Paris:20250207T203000
DTSTAMP:20260422T215036
CREATED:20250116T144032Z
LAST-MODIFIED:20250129T152033Z
UID:24583-1738954800-1738960200@conservatoire.grandangouleme.fr
SUMMARY:Concert des orchestres Ravel\, Gounod et Chabrier
DESCRIPTION:
URL:https://conservatoire.grandangouleme.fr/agenda/concert-des-orchestres-ravel-gounod-et-chabrier/
LOCATION:Auditorium – Conservatoire\, place Henri Dunant\, Angoulême\, 16000\, France
CATEGORIES:Concert d'orchestre
ATTACH;FMTTYPE=image/jpeg:https://conservatoire.grandangouleme.fr/wp-content/uploads/2022/10/orchestre-du-conservatoire-emmanuel-chabrier.jpg
ORGANIZER;CN="Conservatoire Gabriel Faur%C3%A9":MAILTO:conservatoire@grandangouleme.fr
END:VEVENT
BEGIN:VEVENT
DTSTART;TZID=Europe/Paris:20250121T180000
DTEND;TZID=Europe/Paris:20250121T190000
DTSTAMP:20260422T215036
CREATED:20241217T140931Z
LAST-MODIFIED:20241218T100600Z
UID:24291-1737482400-1737486000@conservatoire.grandangouleme.fr
SUMMARY:Concert de basson et de musique de chambre
DESCRIPTION:
URL:https://conservatoire.grandangouleme.fr/agenda/concert-de-basson/
LOCATION:Auditorium – Conservatoire\, place Henri Dunant\, Angoulême\, 16000\, France
CATEGORIES:Audition de classes
ATTACH;FMTTYPE=image/jpeg:https://conservatoire.grandangouleme.fr/wp-content/uploads/2016/12/basson.jpg
ORGANIZER;CN="Conservatoire Gabriel Faur%C3%A9":MAILTO:conservatoire@grandangouleme.fr
END:VEVENT
BEGIN:VEVENT
DTSTART;TZID=Europe/Paris:20250117T183000
DTEND;TZID=Europe/Paris:20250117T193000
DTSTAMP:20260422T215036
CREATED:20241217T135754Z
LAST-MODIFIED:20241217T140700Z
UID:24285-1737138600-1737142200@conservatoire.grandangouleme.fr
SUMMARY:Les minipouss
DESCRIPTION:
URL:https://conservatoire.grandangouleme.fr/agenda/les-minipouss/
LOCATION:Auditorium – Conservatoire\, place Henri Dunant\, Angoulême\, 16000\, France
CATEGORIES:Concert
ATTACH;FMTTYPE=image/png:https://conservatoire.grandangouleme.fr/wp-content/uploads/2024/12/flute_sax-e1734444401538.png
ORGANIZER;CN="Conservatoire Gabriel Faur%C3%A9":MAILTO:conservatoire@grandangouleme.fr
END:VEVENT
BEGIN:VEVENT
DTSTART;TZID=Europe/Paris:20250116T193000
DTEND;TZID=Europe/Paris:20250116T200000
DTSTAMP:20260422T215036
CREATED:20241217T135612Z
LAST-MODIFIED:20241217T163232Z
UID:24282-1737055800-1737057600@conservatoire.grandangouleme.fr
SUMMARY:Un soir d'été à la campagne
DESCRIPTION:
URL:https://conservatoire.grandangouleme.fr/agenda/un-soir-dete-a-la-campagne/
LOCATION:Auditorium – Conservatoire\, place Henri Dunant\, Angoulême\, 16000\, France
CATEGORIES:Concert
ATTACH;FMTTYPE=image/png:https://conservatoire.grandangouleme.fr/wp-content/uploads/2024/12/cepes_mecquenem.png
ORGANIZER;CN="Conservatoire Gabriel Faur%C3%A9":MAILTO:conservatoire@grandangouleme.fr
END:VEVENT
BEGIN:VEVENT
DTSTART;TZID=Europe/Paris:20250114T183000
DTEND;TZID=Europe/Paris:20250114T193000
DTSTAMP:20260422T215036
CREATED:20241217T134351Z
LAST-MODIFIED:20241217T134351Z
UID:24276-1736879400-1736883000@conservatoire.grandangouleme.fr
SUMMARY:Audition Patchwork
DESCRIPTION:
URL:https://conservatoire.grandangouleme.fr/agenda/audition-patchwork-11/
LOCATION:Auditorium – Conservatoire\, place Henri Dunant\, Angoulême\, 16000\, France
CATEGORIES:Audition
ATTACH;FMTTYPE=image/jpeg:https://conservatoire.grandangouleme.fr/wp-content/uploads/2023/03/2302-patchwork.jpg
ORGANIZER;CN="Conservatoire Gabriel Faur%C3%A9":MAILTO:conservatoire@grandangouleme.fr
END:VEVENT
END:VCALENDAR