BEGIN:VCALENDAR
VERSION:2.0
PRODID:-//Conservatoire Gabriel Fauré de GrandAngoulême - ECPv6.15.20//NONSGML v1.0//EN
CALSCALE:GREGORIAN
METHOD:PUBLISH
X-ORIGINAL-URL:https://conservatoire.grandangouleme.fr
X-WR-CALDESC:Évènements pour Conservatoire Gabriel Fauré de GrandAngoulême
REFRESH-INTERVAL;VALUE=DURATION:PT1H
X-Robots-Tag:noindex
X-PUBLISHED-TTL:PT1H
BEGIN:VTIMEZONE
TZID:Europe/Paris
BEGIN:DAYLIGHT
TZOFFSETFROM:+0100
TZOFFSETTO:+0200
TZNAME:CEST
DTSTART:20240331T010000
END:DAYLIGHT
BEGIN:STANDARD
TZOFFSETFROM:+0200
TZOFFSETTO:+0100
TZNAME:CET
DTSTART:20241027T010000
END:STANDARD
BEGIN:DAYLIGHT
TZOFFSETFROM:+0100
TZOFFSETTO:+0200
TZNAME:CEST
DTSTART:20250330T010000
END:DAYLIGHT
BEGIN:STANDARD
TZOFFSETFROM:+0200
TZOFFSETTO:+0100
TZNAME:CET
DTSTART:20251026T010000
END:STANDARD
BEGIN:DAYLIGHT
TZOFFSETFROM:+0100
TZOFFSETTO:+0200
TZNAME:CEST
DTSTART:20260329T010000
END:DAYLIGHT
BEGIN:STANDARD
TZOFFSETFROM:+0200
TZOFFSETTO:+0100
TZNAME:CET
DTSTART:20261025T010000
END:STANDARD
BEGIN:DAYLIGHT
TZOFFSETFROM:+0100
TZOFFSETTO:+0200
TZNAME:CEST
DTSTART:20270328T010000
END:DAYLIGHT
BEGIN:STANDARD
TZOFFSETFROM:+0200
TZOFFSETTO:+0100
TZNAME:CET
DTSTART:20271031T010000
END:STANDARD
END:VTIMEZONE
BEGIN:VEVENT
DTSTART;TZID=Europe/Paris:20260224T183000
DTEND;TZID=Europe/Paris:20260224T200000
DTSTAMP:20260422T125831
CREATED:20260121T130134Z
LAST-MODIFIED:20260121T130134Z
UID:30816-1771957800-1771963200@conservatoire.grandangouleme.fr
SUMMARY:Audition de piano - Classe de M. Pizzi
DESCRIPTION:
URL:https://conservatoire.grandangouleme.fr/agenda/audition-de-piano-classe-de-m-pizzi-2/
LOCATION:Auditorium – Conservatoire\, place Henri Dunant\, Angoulême\, 16000\, France
CATEGORIES:Audition
ATTACH;FMTTYPE=image/jpeg:https://conservatoire.grandangouleme.fr/wp-content/uploads/2025/05/audition-classe.jpg
ORGANIZER;CN="Conservatoire Gabriel Faur%C3%A9":MAILTO:conservatoire@grandangouleme.fr
END:VEVENT
BEGIN:VEVENT
DTSTART;TZID=Europe/Paris:20260224T173000
DTEND;TZID=Europe/Paris:20260224T183000
DTSTAMP:20260422T125831
CREATED:20260121T125258Z
LAST-MODIFIED:20260121T125258Z
UID:30809-1771954200-1771957800@conservatoire.grandangouleme.fr
SUMMARY:Concert CPES de Milan Deleu
DESCRIPTION:
URL:https://conservatoire.grandangouleme.fr/agenda/concert-cpes-de-milan-deleu/
LOCATION:Auditorium – Conservatoire\, place Henri Dunant\, Angoulême\, 16000\, France
CATEGORIES:Concert
ATTACH;FMTTYPE=image/jpeg:https://conservatoire.grandangouleme.fr/wp-content/uploads/2025/05/CPES-projet-perso.jpg
ORGANIZER;CN="Conservatoire Gabriel Faur%C3%A9":MAILTO:conservatoire@grandangouleme.fr
END:VEVENT
BEGIN:VEVENT
DTSTART;TZID=Europe/Paris:20260223T190000
DTEND;TZID=Europe/Paris:20260223T203000
DTSTAMP:20260422T125831
CREATED:20260121T113106Z
LAST-MODIFIED:20260121T124938Z
UID:30805-1771873200-1771878600@conservatoire.grandangouleme.fr
SUMMARY:Concert partagé d’électroacoustique
DESCRIPTION:
URL:https://conservatoire.grandangouleme.fr/agenda/concert-partage-delectroacoustique/
LOCATION:Auditorium – Conservatoire\, place Henri Dunant\, Angoulême\, 16000\, France
CATEGORIES:Concert
ATTACH;FMTTYPE=image/jpeg:https://conservatoire.grandangouleme.fr/wp-content/uploads/2024/10/electro-recadre.jpg
ORGANIZER;CN="Conservatoire Gabriel Faur%C3%A9":MAILTO:conservatoire@grandangouleme.fr
END:VEVENT
BEGIN:VEVENT
DTSTART;TZID=Europe/Paris:20260131T180000
DTEND;TZID=Europe/Paris:20260131T190000
DTSTAMP:20260422T125831
CREATED:20260116T112444Z
LAST-MODIFIED:20260116T112444Z
UID:30758-1769882400-1769886000@conservatoire.grandangouleme.fr
SUMMARY:Les rêves de Rebecca - Le Grand Off #2
DESCRIPTION:
URL:https://conservatoire.grandangouleme.fr/agenda/les-reves-de-rebecca-le-grand-off-2/
LOCATION:Auditorium – Conservatoire\, place Henri Dunant\, Angoulême\, 16000\, France
CATEGORIES:Concert dessiné
ATTACH;FMTTYPE=image/jpeg:https://conservatoire.grandangouleme.fr/wp-content/uploads/2026/01/les-reves-de-rebecca-1220x608-1-e1768465455399.jpg
ORGANIZER;CN="Conservatoire Gabriel Faur%C3%A9":MAILTO:conservatoire@grandangouleme.fr
END:VEVENT
BEGIN:VEVENT
DTSTART;TZID=Europe/Paris:20260131T160000
DTEND;TZID=Europe/Paris:20260131T170000
DTSTAMP:20260422T125831
CREATED:20260115T082434Z
LAST-MODIFIED:20260116T113154Z
UID:30740-1769875200-1769878800@conservatoire.grandangouleme.fr
SUMMARY:Les rêves de Rebecca - Le Grand Off
DESCRIPTION:
URL:https://conservatoire.grandangouleme.fr/agenda/les-reves-de-rebecca-concert-dessine/
LOCATION:Auditorium – Conservatoire\, place Henri Dunant\, Angoulême\, 16000\, France
CATEGORIES:Concert dessiné
ATTACH;FMTTYPE=image/jpeg:https://conservatoire.grandangouleme.fr/wp-content/uploads/2026/01/les-reves-de-rebecca-1220x608-1-e1768465455399.jpg
ORGANIZER;CN="Conservatoire Gabriel Faur%C3%A9":MAILTO:conservatoire@grandangouleme.fr
END:VEVENT
BEGIN:VEVENT
DTSTART;TZID=Europe/Paris:20260127T183000
DTEND;TZID=Europe/Paris:20260127T193000
DTSTAMP:20260422T125831
CREATED:20251215T095613Z
LAST-MODIFIED:20251215T095613Z
UID:30459-1769538600-1769542200@conservatoire.grandangouleme.fr
SUMMARY:Accompagnement piano
DESCRIPTION:
URL:https://conservatoire.grandangouleme.fr/agenda/accompagnement-piano/
LOCATION:Auditorium – Conservatoire\, place Henri Dunant\, Angoulême\, 16000\, France
CATEGORIES:Audition de classes
ATTACH;FMTTYPE=image/jpeg:https://conservatoire.grandangouleme.fr/wp-content/uploads/2025/05/audition-classe.jpg
ORGANIZER;CN="Conservatoire Gabriel Faur%C3%A9":MAILTO:conservatoire@grandangouleme.fr
END:VEVENT
BEGIN:VEVENT
DTSTART;TZID=Europe/Paris:20260121T200000
DTEND;TZID=Europe/Paris:20260121T210000
DTSTAMP:20260422T125831
CREATED:20251215T093038Z
LAST-MODIFIED:20251215T093039Z
UID:30444-1769025600-1769029200@conservatoire.grandangouleme.fr
SUMMARY:Orchestre Chabrier
DESCRIPTION:
URL:https://conservatoire.grandangouleme.fr/agenda/orchestre-chabrier/
LOCATION:Auditorium – Conservatoire\, place Henri Dunant\, Angoulême\, 16000\, France
CATEGORIES:Concert d'orchestre
ATTACH;FMTTYPE=image/jpeg:https://conservatoire.grandangouleme.fr/wp-content/uploads/2025/05/2025-concert-orchestre.jpg
ORGANIZER;CN="Conservatoire Gabriel Faur%C3%A9":MAILTO:conservatoire@grandangouleme.fr
END:VEVENT
BEGIN:VEVENT
DTSTART;TZID=Europe/Paris:20260121T183000
DTEND;TZID=Europe/Paris:20260121T193000
DTSTAMP:20260422T125831
CREATED:20251215T092254Z
LAST-MODIFIED:20251215T093314Z
UID:30441-1769020200-1769023800@conservatoire.grandangouleme.fr
SUMMARY:Orchestres Ravel & Gounod
DESCRIPTION:
URL:https://conservatoire.grandangouleme.fr/agenda/ravel-cuivres-et-percussions-et-gounod-harmonie-2e-cycle/
LOCATION:Auditorium – Conservatoire\, place Henri Dunant\, Angoulême\, 16000\, France
CATEGORIES:Concert d'orchestre
ATTACH;FMTTYPE=image/jpeg:https://conservatoire.grandangouleme.fr/wp-content/uploads/2025/05/2025-concert-orchestre.jpg
ORGANIZER;CN="Conservatoire Gabriel Faur%C3%A9":MAILTO:conservatoire@grandangouleme.fr
END:VEVENT
BEGIN:VEVENT
DTSTART;TZID=Europe/Paris:20260120T180000
DTEND;TZID=Europe/Paris:20260120T190000
DTSTAMP:20260422T125831
CREATED:20251215T084244Z
LAST-MODIFIED:20251215T090727Z
UID:30438-1768932000-1768935600@conservatoire.grandangouleme.fr
SUMMARY:Basson
DESCRIPTION:
URL:https://conservatoire.grandangouleme.fr/agenda/basson/
LOCATION:Auditorium – Conservatoire\, place Henri Dunant\, Angoulême\, 16000\, France
CATEGORIES:Audition de classes
ATTACH;FMTTYPE=image/jpeg:https://conservatoire.grandangouleme.fr/wp-content/uploads/2025/05/audition-classe.jpg
ORGANIZER;CN="Conservatoire Gabriel Faur%C3%A9":MAILTO:conservatoire@grandangouleme.fr
END:VEVENT
BEGIN:VEVENT
DTSTART;TZID=Europe/Paris:20260117T100000
DTEND;TZID=Europe/Paris:20260117T130000
DTSTAMP:20260422T125831
CREATED:20260107T091743Z
LAST-MODIFIED:20260107T091743Z
UID:30626-1768644000-1768654800@conservatoire.grandangouleme.fr
SUMMARY:Masterclass de violoncelle
DESCRIPTION:
URL:https://conservatoire.grandangouleme.fr/agenda/masterclass-de-violoncelle/
LOCATION:Auditorium – Conservatoire\, place Henri Dunant\, Angoulême\, 16000\, France
CATEGORIES:Masterclass et Concert
ATTACH;FMTTYPE=image/jpeg:https://conservatoire.grandangouleme.fr/wp-content/uploads/2025/11/masterclass.jpg
ORGANIZER;CN="Conservatoire Grand Cognac":MAILTO:conservatoire@grand-cognac.fr
END:VEVENT
BEGIN:VEVENT
DTSTART;TZID=Europe/Paris:20260115T183000
DTEND;TZID=Europe/Paris:20260115T193000
DTSTAMP:20260422T125831
CREATED:20251215T083435Z
LAST-MODIFIED:20251215T083435Z
UID:30432-1768501800-1768505400@conservatoire.grandangouleme.fr
SUMMARY:Audition patchwork
DESCRIPTION:
URL:https://conservatoire.grandangouleme.fr/agenda/audition-patchwork-18/
LOCATION:Auditorium – Conservatoire\, place Henri Dunant\, Angoulême\, 16000\, France
CATEGORIES:Audition de classes
ATTACH;FMTTYPE=image/jpeg:https://conservatoire.grandangouleme.fr/wp-content/uploads/2025/05/Audition-Patchwork-1.jpg
ORGANIZER;CN="Conservatoire Gabriel Faur%C3%A9":MAILTO:conservatoire@grandangouleme.fr
END:VEVENT
BEGIN:VEVENT
DTSTART;TZID=Europe/Paris:20260113T193000
DTEND;TZID=Europe/Paris:20260113T203000
DTSTAMP:20260422T125831
CREATED:20251215T083057Z
LAST-MODIFIED:20251215T083058Z
UID:30430-1768332600-1768336200@conservatoire.grandangouleme.fr
SUMMARY:Piano
DESCRIPTION:
URL:https://conservatoire.grandangouleme.fr/agenda/piano-3/
LOCATION:Auditorium – Conservatoire\, place Henri Dunant\, Angoulême\, 16000\, France
CATEGORIES:Audition de classes
ATTACH;FMTTYPE=image/jpeg:https://conservatoire.grandangouleme.fr/wp-content/uploads/2025/05/audition-classe.jpg
ORGANIZER;CN="Conservatoire Gabriel Faur%C3%A9":MAILTO:conservatoire@grandangouleme.fr
END:VEVENT
BEGIN:VEVENT
DTSTART;TZID=Europe/Paris:20260113T180000
DTEND;TZID=Europe/Paris:20260113T190000
DTSTAMP:20260422T125831
CREATED:20251215T082915Z
LAST-MODIFIED:20251215T082915Z
UID:30428-1768327200-1768330800@conservatoire.grandangouleme.fr
SUMMARY:Piano
DESCRIPTION:
URL:https://conservatoire.grandangouleme.fr/agenda/piano-2/
LOCATION:Auditorium – Conservatoire\, place Henri Dunant\, Angoulême\, 16000\, France
ATTACH;FMTTYPE=image/jpeg:https://conservatoire.grandangouleme.fr/wp-content/uploads/2025/05/audition-classe.jpg
ORGANIZER;CN="Conservatoire Gabriel Faur%C3%A9":MAILTO:conservatoire@grandangouleme.fr
END:VEVENT
BEGIN:VEVENT
DTSTART;TZID=Europe/Paris:20251221T160000
DTEND;TZID=Europe/Paris:20251221T170000
DTSTAMP:20260422T125831
CREATED:20251125T070006Z
LAST-MODIFIED:20250715T095004Z
UID:28123-1766332800-1766336400@conservatoire.grandangouleme.fr
SUMMARY:Les rêves de Rebecca - Concert dessiné
DESCRIPTION:
URL:https://conservatoire.grandangouleme.fr/agenda/les-reves-de-rebecca-2/
LOCATION:Auditorium – Conservatoire\, place Henri Dunant\, Angoulême\, 16000\, France
CATEGORIES:Concert
ATTACH;FMTTYPE=image/jpeg:https://conservatoire.grandangouleme.fr/wp-content/uploads/2025/07/site-hiver.jpg
ORGANIZER;CN="Conservatoire Gabriel Faur%C3%A9":MAILTO:conservatoire@grandangouleme.fr
END:VEVENT
BEGIN:VEVENT
DTSTART;TZID=Europe/Paris:20251219T190000
DTEND;TZID=Europe/Paris:20251219T200000
DTSTAMP:20260422T125831
CREATED:20251112T165405Z
LAST-MODIFIED:20251112T165929Z
UID:28965-1766170800-1766174400@conservatoire.grandangouleme.fr
SUMMARY:Audition de clarinette
DESCRIPTION:
URL:https://conservatoire.grandangouleme.fr/agenda/audition-de-clarinette/
LOCATION:Auditorium – Conservatoire\, place Henri Dunant\, Angoulême\, 16000\, France
CATEGORIES:Audition de classes
ATTACH;FMTTYPE=image/jpeg:https://conservatoire.grandangouleme.fr/wp-content/uploads/2025/05/audition-classe.jpg
ORGANIZER;CN="Conservatoire Gabriel Faur%C3%A9":MAILTO:conservatoire@grandangouleme.fr
END:VEVENT
BEGIN:VEVENT
DTSTART;TZID=Europe/Paris:20251218T180000
DTEND;TZID=Europe/Paris:20251218T190000
DTSTAMP:20260422T125831
CREATED:20251112T165227Z
LAST-MODIFIED:20251112T165917Z
UID:28963-1766080800-1766084400@conservatoire.grandangouleme.fr
SUMMARY:Audition de trombones
DESCRIPTION:
URL:https://conservatoire.grandangouleme.fr/agenda/audition-de-trombones/
LOCATION:Auditorium – Conservatoire\, place Henri Dunant\, Angoulême\, 16000\, France
CATEGORIES:Audition de classes
ATTACH;FMTTYPE=image/jpeg:https://conservatoire.grandangouleme.fr/wp-content/uploads/2025/05/audition-classe.jpg
ORGANIZER;CN="Conservatoire Gabriel Faur%C3%A9":MAILTO:conservatoire@grandangouleme.fr
END:VEVENT
BEGIN:VEVENT
DTSTART;TZID=Europe/Paris:20251216T190000
DTEND;TZID=Europe/Paris:20251216T200000
DTSTAMP:20260422T125831
CREATED:20251112T165041Z
LAST-MODIFIED:20251208T142134Z
UID:28961-1765911600-1765915200@conservatoire.grandangouleme.fr
SUMMARY:Jane Austen\, le monde d’une auteure-musicienne
DESCRIPTION:
URL:https://conservatoire.grandangouleme.fr/agenda/jane-austen-le-monde-dune-auteure-musicienne/
LOCATION:Auditorium – Conservatoire\, place Henri Dunant\, Angoulême\, 16000\, France
CATEGORIES:Spectacle
ATTACH;FMTTYPE=image/jpeg:https://conservatoire.grandangouleme.fr/wp-content/uploads/2025/11/pexels-suzyhazelwood-1480335-scaled-e1765203679541.jpg
ORGANIZER;CN="Conservatoire Gabriel Faur%C3%A9":MAILTO:conservatoire@grandangouleme.fr
END:VEVENT
BEGIN:VEVENT
DTSTART;TZID=Europe/Paris:20251209T180000
DTEND;TZID=Europe/Paris:20251209T190000
DTSTAMP:20260422T125831
CREATED:20251112T163958Z
LAST-MODIFIED:20251112T165849Z
UID:28953-1765303200-1765306800@conservatoire.grandangouleme.fr
SUMMARY:Audition de violon
DESCRIPTION:
URL:https://conservatoire.grandangouleme.fr/agenda/audition-de-violon-5/
LOCATION:Auditorium – Conservatoire\, place Henri Dunant\, Angoulême\, 16000\, France
CATEGORIES:Audition de classes
ATTACH;FMTTYPE=image/jpeg:https://conservatoire.grandangouleme.fr/wp-content/uploads/2025/05/audition-classe.jpg
ORGANIZER;CN="Conservatoire Gabriel Faur%C3%A9":MAILTO:conservatoire@grandangouleme.fr
END:VEVENT
BEGIN:VEVENT
DTSTART;TZID=Europe/Paris:20251205T090000
DTEND;TZID=Europe/Paris:20251206T180000
DTSTAMP:20260422T125831
CREATED:20251112T161929Z
LAST-MODIFIED:20251112T163330Z
UID:28912-1764925200-1765044000@conservatoire.grandangouleme.fr
SUMMARY:Le monde du clavicorde
DESCRIPTION:
URL:https://conservatoire.grandangouleme.fr/agenda/le-monde-du-clavicorde/
LOCATION:Auditorium – Conservatoire\, place Henri Dunant\, Angoulême\, 16000\, France
ATTACH;FMTTYPE=image/jpeg:https://conservatoire.grandangouleme.fr/wp-content/uploads/2025/11/masterclass.jpg
ORGANIZER;CN="Conservatoire Gabriel Faur%C3%A9":MAILTO:conservatoire@grandangouleme.fr
END:VEVENT
BEGIN:VEVENT
DTSTART;TZID=Europe/Paris:20251204T180000
DTEND;TZID=Europe/Paris:20251204T190000
DTSTAMP:20260422T125831
CREATED:20251110T142819Z
LAST-MODIFIED:20251112T165812Z
UID:28908-1764871200-1764874800@conservatoire.grandangouleme.fr
SUMMARY:Audition de la classe de composition
DESCRIPTION:
URL:https://conservatoire.grandangouleme.fr/agenda/audition-de-la-classe-de-composition/
LOCATION:Auditorium – Conservatoire\, place Henri Dunant\, Angoulême\, 16000\, France
CATEGORIES:Audition
ATTACH;FMTTYPE=image/jpeg:https://conservatoire.grandangouleme.fr/wp-content/uploads/2025/05/audition-classe.jpg
END:VEVENT
BEGIN:VEVENT
DTSTART;TZID=Europe/Paris:20251202T190000
DTEND;TZID=Europe/Paris:20251202T200000
DTSTAMP:20260422T125831
CREATED:20251110T142539Z
LAST-MODIFIED:20251112T153855Z
UID:28906-1764702000-1764705600@conservatoire.grandangouleme.fr
SUMMARY:Audition de violoncelle
DESCRIPTION:
URL:https://conservatoire.grandangouleme.fr/agenda/audition-de-violoncelle-3/
LOCATION:Auditorium – Conservatoire\, place Henri Dunant\, Angoulême\, 16000\, France
CATEGORIES:Audition
ATTACH;FMTTYPE=image/jpeg:https://conservatoire.grandangouleme.fr/wp-content/uploads/2025/05/audition-classe.jpg
ORGANIZER;CN="Conservatoire Gabriel Faur%C3%A9":MAILTO:conservatoire@grandangouleme.fr
END:VEVENT
BEGIN:VEVENT
DTSTART;TZID=Europe/Paris:20251202T180000
DTEND;TZID=Europe/Paris:20251202T190000
DTSTAMP:20260422T125831
CREATED:20251110T142309Z
LAST-MODIFIED:20251112T165757Z
UID:28904-1764698400-1764702000@conservatoire.grandangouleme.fr
SUMMARY:Audition de violon
DESCRIPTION:
URL:https://conservatoire.grandangouleme.fr/agenda/audition-de-violon-4/
LOCATION:Auditorium – Conservatoire\, place Henri Dunant\, Angoulême\, 16000\, France
CATEGORIES:Audition
ATTACH;FMTTYPE=image/jpeg:https://conservatoire.grandangouleme.fr/wp-content/uploads/2025/05/audition-classe.jpg
ORGANIZER;CN="Conservatoire Gabriel Faur%C3%A9":MAILTO:conservatoire@grandangouleme.fr
END:VEVENT
BEGIN:VEVENT
DTSTART;TZID=Europe/Paris:20251129T183000
DTEND;TZID=Europe/Paris:20251129T193000
DTSTAMP:20260422T125831
CREATED:20251020T100046Z
LAST-MODIFIED:20251118T154919Z
UID:28618-1764441000-1764444600@conservatoire.grandangouleme.fr
SUMMARY:Maurice Denis et la musique
DESCRIPTION:
URL:https://conservatoire.grandangouleme.fr/agenda/maurice-denis-et-la-musique-2/
LOCATION:Auditorium – Conservatoire\, place Henri Dunant\, Angoulême\, 16000\, France
CATEGORIES:Concert
ATTACH;FMTTYPE=image/jpeg:https://conservatoire.grandangouleme.fr/wp-content/uploads/2025/10/Maurice-Denis-929.0015-©-CRMD-_-Laurent-Sully-Jaulmes-scaled-e1760971126475.jpg
END:VEVENT
BEGIN:VEVENT
DTSTART;TZID=Europe/Paris:20251129T140000
DTEND;TZID=Europe/Paris:20251129T170000
DTSTAMP:20260422T125831
CREATED:20251020T100001Z
LAST-MODIFIED:20251020T143956Z
UID:28634-1764424800-1764435600@conservatoire.grandangouleme.fr
SUMMARY:Masterclass piano et chant - Maurice Denis et la musique
DESCRIPTION:
URL:https://conservatoire.grandangouleme.fr/agenda/masterclass-piano-et-chant-maurice-denis-et-la-musique/
LOCATION:Auditorium – Conservatoire\, place Henri Dunant\, Angoulême\, 16000\, France
CATEGORIES:Masterclass et Concert
ATTACH;FMTTYPE=image/jpeg:https://conservatoire.grandangouleme.fr/wp-content/uploads/2025/10/Maurice-Denis-929.0015-©-CRMD-_-Laurent-Sully-Jaulmes-scaled-e1760971126475.jpg
ORGANIZER;CN="Conservatoire Gabriel Faur%C3%A9":MAILTO:conservatoire@grandangouleme.fr
END:VEVENT
BEGIN:VEVENT
DTSTART;TZID=Europe/Paris:20251128T200000
DTEND;TZID=Europe/Paris:20251128T210000
DTSTAMP:20260422T125831
CREATED:20251020T100014Z
LAST-MODIFIED:20251105T113110Z
UID:28615-1764360000-1764363600@conservatoire.grandangouleme.fr
SUMMARY:Maurice Denis et la musique
DESCRIPTION:
URL:https://conservatoire.grandangouleme.fr/agenda/maurice-denis-et-la-musique/
LOCATION:Auditorium – Conservatoire\, place Henri Dunant\, Angoulême\, 16000\, France
CATEGORIES:Concert
ATTACH;FMTTYPE=image/jpeg:https://conservatoire.grandangouleme.fr/wp-content/uploads/2025/10/Maurice-Denis-929.0015-©-CRMD-_-Laurent-Sully-Jaulmes-scaled-e1760971126475.jpg
ORGANIZER;CN="Conservatoire Gabriel Faur%C3%A9":MAILTO:conservatoire@grandangouleme.fr
END:VEVENT
BEGIN:VEVENT
DTSTART;TZID=Europe/Paris:20251122T173000
DTEND;TZID=Europe/Paris:20251122T183000
DTSTAMP:20260422T125831
CREATED:20251020T070009Z
LAST-MODIFIED:20251020T154602Z
UID:28607-1763832600-1763836200@conservatoire.grandangouleme.fr
SUMMARY:Concert de la classe de basson
DESCRIPTION:
URL:https://conservatoire.grandangouleme.fr/agenda/concert-de-la-classe-de-basson/
LOCATION:Auditorium – Conservatoire\, place Henri Dunant\, Angoulême\, 16000\, France
CATEGORIES:Concert
ATTACH;FMTTYPE=image/png:https://conservatoire.grandangouleme.fr/wp-content/uploads/2025/10/Gemini_Generated_Image_jfnditjfnditjfnd-e1760975139832.png
ORGANIZER;CN="Conservatoire Gabriel Faur%C3%A9":MAILTO:conservatoire@grandangouleme.fr
END:VEVENT
BEGIN:VEVENT
DTSTART;TZID=Europe/Paris:20251120T190000
DTEND;TZID=Europe/Paris:20251120T200000
DTSTAMP:20260422T125831
CREATED:20251020T070042Z
LAST-MODIFIED:20251020T143130Z
UID:28605-1763665200-1763668800@conservatoire.grandangouleme.fr
SUMMARY:Audition de piano
DESCRIPTION:
URL:https://conservatoire.grandangouleme.fr/agenda/audition-de-piano-6/
LOCATION:Auditorium – Conservatoire\, place Henri Dunant\, Angoulême\, 16000\, France
CATEGORIES:Audition
ATTACH;FMTTYPE=image/jpeg:https://conservatoire.grandangouleme.fr/wp-content/uploads/2025/09/pexels-bryan-geraldo-184369-586415-scaled-e1760970673684.jpg
ORGANIZER;CN="Conservatoire Gabriel Faur%C3%A9":MAILTO:conservatoire@grandangouleme.fr
END:VEVENT
BEGIN:VEVENT
DTSTART;TZID=Europe/Paris:20251114T203000
DTEND;TZID=Europe/Paris:20251114T213000
DTSTAMP:20260422T125831
CREATED:20251020T070024Z
LAST-MODIFIED:20251020T142816Z
UID:28601-1763152200-1763155800@conservatoire.grandangouleme.fr
SUMMARY:Concert Soroptimist
DESCRIPTION:
URL:https://conservatoire.grandangouleme.fr/agenda/concert-soroptimist/
LOCATION:Auditorium – Conservatoire\, place Henri Dunant\, Angoulême\, 16000\, France
CATEGORIES:Concert
ATTACH;FMTTYPE=image/jpeg:https://conservatoire.grandangouleme.fr/wp-content/uploads/2024/11/soroptimist.jpg
ORGANIZER;CN="Conservatoire Gabriel Faur%C3%A9":MAILTO:conservatoire@grandangouleme.fr
END:VEVENT
BEGIN:VEVENT
DTSTART;TZID=Europe/Paris:20251107T180000
DTEND;TZID=Europe/Paris:20251107T193000
DTSTAMP:20260422T125831
CREATED:20251020T070019Z
LAST-MODIFIED:20251020T142701Z
UID:28597-1762538400-1762543800@conservatoire.grandangouleme.fr
SUMMARY:Concert d’inauguration du Fonds Deborah Robbins
DESCRIPTION:
URL:https://conservatoire.grandangouleme.fr/agenda/concert-dinauguration-du-fonds-deborah-robbins/
LOCATION:Auditorium – Conservatoire\, place Henri Dunant\, Angoulême\, 16000\, France
CATEGORIES:Concert
ATTACH;FMTTYPE=image/jpeg:https://conservatoire.grandangouleme.fr/wp-content/uploads/2025/10/2510_ConcertDeborahRobbins-1920x1080-1-scaled-e1760970398707.jpg
ORGANIZER;CN="Conservatoire Gabriel Faur%C3%A9":MAILTO:conservatoire@grandangouleme.fr
END:VEVENT
BEGIN:VEVENT
DTSTART;TZID=Europe/Paris:20251016T180000
DTEND;TZID=Europe/Paris:20251016T190000
DTSTAMP:20260422T125831
CREATED:20250924T140952Z
LAST-MODIFIED:20251016T142615Z
UID:28518-1760637600-1760641200@conservatoire.grandangouleme.fr
SUMMARY:Audition de Basson
DESCRIPTION:
URL:https://conservatoire.grandangouleme.fr/agenda/audition-de-basson-2/
LOCATION:Auditorium – Conservatoire\, place Henri Dunant\, Angoulême\, 16000\, France
CATEGORIES:Audition
ATTACH;FMTTYPE=image/jpeg:https://conservatoire.grandangouleme.fr/wp-content/uploads/2016/12/basson.jpg
ORGANIZER;CN="Conservatoire Gabriel Faur%C3%A9":MAILTO:conservatoire@grandangouleme.fr
END:VEVENT
END:VCALENDAR