BEGIN:VCALENDAR
VERSION:2.0
PRODID:-//Conservatoire Gabriel Fauré de GrandAngoulême - ECPv6.15.20//NONSGML v1.0//EN
CALSCALE:GREGORIAN
METHOD:PUBLISH
X-WR-CALNAME:Conservatoire Gabriel Fauré de GrandAngoulême
X-ORIGINAL-URL:https://conservatoire.grandangouleme.fr
X-WR-CALDESC:Évènements pour Conservatoire Gabriel Fauré de GrandAngoulême
REFRESH-INTERVAL;VALUE=DURATION:PT1H
X-Robots-Tag:noindex
X-PUBLISHED-TTL:PT1H
BEGIN:VTIMEZONE
TZID:Europe/Paris
BEGIN:DAYLIGHT
TZOFFSETFROM:+0100
TZOFFSETTO:+0200
TZNAME:CEST
DTSTART:20220327T010000
END:DAYLIGHT
BEGIN:STANDARD
TZOFFSETFROM:+0200
TZOFFSETTO:+0100
TZNAME:CET
DTSTART:20221030T010000
END:STANDARD
BEGIN:DAYLIGHT
TZOFFSETFROM:+0100
TZOFFSETTO:+0200
TZNAME:CEST
DTSTART:20230326T010000
END:DAYLIGHT
BEGIN:STANDARD
TZOFFSETFROM:+0200
TZOFFSETTO:+0100
TZNAME:CET
DTSTART:20231029T010000
END:STANDARD
BEGIN:DAYLIGHT
TZOFFSETFROM:+0100
TZOFFSETTO:+0200
TZNAME:CEST
DTSTART:20240331T010000
END:DAYLIGHT
BEGIN:STANDARD
TZOFFSETFROM:+0200
TZOFFSETTO:+0100
TZNAME:CET
DTSTART:20241027T010000
END:STANDARD
BEGIN:DAYLIGHT
TZOFFSETFROM:+0100
TZOFFSETTO:+0200
TZNAME:CEST
DTSTART:20250330T010000
END:DAYLIGHT
BEGIN:STANDARD
TZOFFSETFROM:+0200
TZOFFSETTO:+0100
TZNAME:CET
DTSTART:20251026T010000
END:STANDARD
END:VTIMEZONE
BEGIN:VEVENT
DTSTART;TZID=Europe/Paris:20240608T203000
DTEND;TZID=Europe/Paris:20240608T220000
DTSTAMP:20260424T184858
CREATED:20240516T094012Z
LAST-MODIFIED:20240516T132209Z
UID:22100-1717878600-1717884000@conservatoire.grandangouleme.fr
SUMMARY:Orchestre Gabriel Fauré
DESCRIPTION:
URL:https://conservatoire.grandangouleme.fr/agenda/concert-de-lorchestre-gabriel-faure/
LOCATION:Auditorium – Conservatoire\, place Henri Dunant\, Angoulême\, 16000\, France
ATTACH;FMTTYPE=image/jpeg:https://conservatoire.grandangouleme.fr/wp-content/uploads/2024/01/Fotolia_225124185_Subscription_XXL-e1715851727775.jpg
ORGANIZER;CN="Conservatoire Gabriel Faur%C3%A9":MAILTO:conservatoire@grandangouleme.fr
END:VEVENT
BEGIN:VEVENT
DTSTART;TZID=Europe/Paris:20240607T183000
DTEND;TZID=Europe/Paris:20240607T183000
DTSTAMP:20260424T184858
CREATED:20240516T091044Z
LAST-MODIFIED:20240516T091045Z
UID:22089-1717785000-1717785000@conservatoire.grandangouleme.fr
SUMMARY:Un piano en Amérique
DESCRIPTION:
URL:https://conservatoire.grandangouleme.fr/agenda/un-piano-en-amerique/
LOCATION:Auditorium – Conservatoire\, place Henri Dunant\, Angoulême\, 16000\, France
ATTACH;FMTTYPE=image/jpeg:https://conservatoire.grandangouleme.fr/wp-content/uploads/2024/05/drapeau_amerique-e1715850622294.jpg
ORGANIZER;CN="Conservatoire Gabriel Faur%C3%A9":MAILTO:conservatoire@grandangouleme.fr
END:VEVENT
BEGIN:VEVENT
DTSTART;TZID=Europe/Paris:20240601T100000
DTEND;TZID=Europe/Paris:20240601T170000
DTSTAMP:20260424T184858
CREATED:20240516T085758Z
LAST-MODIFIED:20240516T091137Z
UID:22087-1717236000-1717261200@conservatoire.grandangouleme.fr
SUMMARY:CEM
DESCRIPTION:
URL:https://conservatoire.grandangouleme.fr/agenda/cem/
LOCATION:Auditorium – Conservatoire\, place Henri Dunant\, Angoulême\, 16000\, France
ATTACH;FMTTYPE=image/png:https://conservatoire.grandangouleme.fr/wp-content/uploads/2022/10/partition-piano-1.png
ORGANIZER;CN="Conservatoire Gabriel Faur%C3%A9":MAILTO:conservatoire@grandangouleme.fr
END:VEVENT
BEGIN:VEVENT
DTSTART;TZID=Europe/Paris:20240531T173000
DTEND;TZID=Europe/Paris:20240531T180000
DTSTAMP:20260424T184858
CREATED:20240529T103213Z
LAST-MODIFIED:20240529T103351Z
UID:22250-1717176600-1717178400@conservatoire.grandangouleme.fr
SUMMARY:Projet CPES - L'orchestre invisible
DESCRIPTION:
URL:https://conservatoire.grandangouleme.fr/agenda/projet-cpes-lorchestre-invisible/
LOCATION:Auditorium – Conservatoire\, place Henri Dunant\, Angoulême\, 16000\, France
ATTACH;FMTTYPE=image/jpeg:https://conservatoire.grandangouleme.fr/wp-content/uploads/2020/02/visuel-générique2.jpg
ORGANIZER;CN="Conservatoire Gabriel Faur%C3%A9":MAILTO:conservatoire@grandangouleme.fr
END:VEVENT
BEGIN:VEVENT
DTSTART;TZID=Europe/Paris:20240528T183000
DTEND;TZID=Europe/Paris:20240528T193000
DTSTAMP:20260424T184858
CREATED:20240404T133719Z
LAST-MODIFIED:20240516T125209Z
UID:21817-1716921000-1716924600@conservatoire.grandangouleme.fr
SUMMARY:Audition patchwork
DESCRIPTION:
URL:https://conservatoire.grandangouleme.fr/agenda/patchwork-28-05/
LOCATION:Auditorium – Conservatoire\, place Henri Dunant\, Angoulême\, 16000\, France
ATTACH;FMTTYPE=image/jpeg:https://conservatoire.grandangouleme.fr/wp-content/uploads/2023/03/2302-patchwork.jpg
ORGANIZER;CN="Conservatoire Gabriel Faur%C3%A9":MAILTO:conservatoire@grandangouleme.fr
END:VEVENT
BEGIN:VEVENT
DTSTART;TZID=Europe/Paris:20240521T183000
DTEND;TZID=Europe/Paris:20240521T193000
DTSTAMP:20260424T184858
CREATED:20240404T133306Z
LAST-MODIFIED:20240404T134621Z
UID:21814-1716316200-1716319800@conservatoire.grandangouleme.fr
SUMMARY:Audition patchwork
DESCRIPTION:
URL:https://conservatoire.grandangouleme.fr/agenda/audition-patchwork-9/
LOCATION:Auditorium – Conservatoire\, place Henri Dunant\, Angoulême\, 16000\, France
ATTACH;FMTTYPE=image/jpeg:https://conservatoire.grandangouleme.fr/wp-content/uploads/2023/03/2302-patchwork.jpg
ORGANIZER;CN="Conservatoire Gabriel Faur%C3%A9":MAILTO:conservatoire@grandangouleme.fr
END:VEVENT
BEGIN:VEVENT
DTSTART;TZID=Europe/Paris:20240517T183000
DTEND;TZID=Europe/Paris:20240517T193000
DTSTAMP:20260424T184858
CREATED:20240404T132852Z
LAST-MODIFIED:20240404T133400Z
UID:21810-1715970600-1715974200@conservatoire.grandangouleme.fr
SUMMARY:Concert - classe de piano
DESCRIPTION:
URL:https://conservatoire.grandangouleme.fr/agenda/concert-classe-piano/
LOCATION:Auditorium – Conservatoire\, place Henri Dunant\, Angoulême\, 16000\, France
ATTACH;FMTTYPE=image/jpeg:https://conservatoire.grandangouleme.fr/wp-content/uploads/2022/10/istockphoto-901538534-612x612-1.jpg
ORGANIZER;CN="Conservatoire Gabriel Faur%C3%A9":MAILTO:conservatoire@grandangouleme.fr
END:VEVENT
BEGIN:VEVENT
DTSTART;TZID=Europe/Paris:20240430T183000
DTEND;TZID=Europe/Paris:20240430T200000
DTSTAMP:20260424T184858
CREATED:20240318T093919Z
LAST-MODIFIED:20240318T093919Z
UID:21713-1714501800-1714507200@conservatoire.grandangouleme.fr
SUMMARY:Patchwork
DESCRIPTION:
URL:https://conservatoire.grandangouleme.fr/agenda/patchwork-2/
LOCATION:Auditorium – Conservatoire\, place Henri Dunant\, Angoulême\, 16000\, France
ATTACH;FMTTYPE=image/jpeg:https://conservatoire.grandangouleme.fr/wp-content/uploads/2023/03/2302-patchwork.jpg
ORGANIZER;CN="Conservatoire Gabriel Faur%C3%A9":MAILTO:conservatoire@grandangouleme.fr
END:VEVENT
BEGIN:VEVENT
DTSTART;TZID=Europe/Paris:20240430T173000
DTEND;TZID=Europe/Paris:20240430T180000
DTSTAMP:20260424T184858
CREATED:20240318T093617Z
LAST-MODIFIED:20240404T131200Z
UID:21711-1714498200-1714500000@conservatoire.grandangouleme.fr
SUMMARY:Concert préparatoire à l'enseignement supérieur
DESCRIPTION:
URL:https://conservatoire.grandangouleme.fr/agenda/concert-preparatoire-a-lenseignement-superieur/
LOCATION:Auditorium – Conservatoire\, place Henri Dunant\, Angoulême\, 16000\, France
ATTACH;FMTTYPE=image/jpeg:https://conservatoire.grandangouleme.fr/wp-content/uploads/2024/03/v_aranda_web.jpg
ORGANIZER;CN="Conservatoire Gabriel Faur%C3%A9":MAILTO:conservatoire@grandangouleme.fr
END:VEVENT
BEGIN:VEVENT
DTSTART;TZID=Europe/Paris:20240412T180000
DTEND;TZID=Europe/Paris:20240412T190000
DTSTAMP:20260424T184858
CREATED:20240318T093342Z
LAST-MODIFIED:20240318T093342Z
UID:21709-1712944800-1712948400@conservatoire.grandangouleme.fr
SUMMARY:Concert de classe - accordéon
DESCRIPTION:
URL:https://conservatoire.grandangouleme.fr/agenda/concert-de-classe-accordeon/
LOCATION:Auditorium – Conservatoire\, place Henri Dunant\, Angoulême\, 16000\, France
ATTACH;FMTTYPE=image/jpeg:https://conservatoire.grandangouleme.fr/wp-content/uploads/2019/10/accordéon-diatonique.jpg
ORGANIZER;CN="Conservatoire Gabriel Faur%C3%A9":MAILTO:conservatoire@grandangouleme.fr
END:VEVENT
BEGIN:VEVENT
DTSTART;TZID=Europe/Paris:20240411T183000
DTEND;TZID=Europe/Paris:20240411T200000
DTSTAMP:20260424T184858
CREATED:20240318T092322Z
LAST-MODIFIED:20240318T092424Z
UID:21707-1712860200-1712865600@conservatoire.grandangouleme.fr
SUMMARY:Patchwork
DESCRIPTION:
URL:https://conservatoire.grandangouleme.fr/agenda/patchwork/
LOCATION:Auditorium – Conservatoire\, place Henri Dunant\, Angoulême\, 16000\, France
ATTACH;FMTTYPE=image/jpeg:https://conservatoire.grandangouleme.fr/wp-content/uploads/2023/03/2302-patchwork.jpg
ORGANIZER;CN="Conservatoire Gabriel Faur%C3%A9":MAILTO:conservatoire@grandangouleme.fr
END:VEVENT
BEGIN:VEVENT
DTSTART;TZID=Europe/Paris:20240402T183000
DTEND;TZID=Europe/Paris:20240402T193000
DTSTAMP:20260424T184858
CREATED:20240318T091310Z
LAST-MODIFIED:20240318T091438Z
UID:21700-1712082600-1712086200@conservatoire.grandangouleme.fr
SUMMARY:Concert des classes de violon
DESCRIPTION:
URL:https://conservatoire.grandangouleme.fr/agenda/concert-des-classes-de-violon/
LOCATION:Auditorium – Conservatoire\, place Henri Dunant\, Angoulême\, 16000\, France
ATTACH;FMTTYPE=image/jpeg:https://conservatoire.grandangouleme.fr/wp-content/uploads/2019/12/violon-baroque.jpg
ORGANIZER;CN="Conservatoire Gabriel Faur%C3%A9":MAILTO:conservatoire@grandangouleme.fr
END:VEVENT
BEGIN:VEVENT
DTSTART;TZID=Europe/Paris:20240210T203000
DTEND;TZID=Europe/Paris:20240210T213000
DTSTAMP:20260424T184858
CREATED:20240108T100815Z
LAST-MODIFIED:20240111T175143Z
UID:21132-1707597000-1707600600@conservatoire.grandangouleme.fr
SUMMARY:Concert de l'orchestre Fauré
DESCRIPTION:
URL:https://conservatoire.grandangouleme.fr/agenda/concert-des-orchestres-debussy-faure/
LOCATION:Auditorium – Conservatoire\, place Henri Dunant\, Angoulême\, 16000\, France
ATTACH;FMTTYPE=image/jpeg:https://conservatoire.grandangouleme.fr/wp-content/uploads/2022/10/site.jpg
ORGANIZER;CN="Conservatoire Gabriel Faur%C3%A9":MAILTO:conservatoire@grandangouleme.fr
END:VEVENT
BEGIN:VEVENT
DTSTART;TZID=Europe/Paris:20240208T183000
DTEND;TZID=Europe/Paris:20240208T193000
DTSTAMP:20260424T184858
CREATED:20240108T100437Z
LAST-MODIFIED:20240110T165308Z
UID:21130-1707417000-1707420600@conservatoire.grandangouleme.fr
SUMMARY:Concert des orchestres Ravel - Chabrier - Gounod
DESCRIPTION:
URL:https://conservatoire.grandangouleme.fr/agenda/concert-des-orchestres-ravel-chabrier-gounod-2/
LOCATION:Auditorium – Conservatoire\, place Henri Dunant\, Angoulême\, 16000\, France
ATTACH;FMTTYPE=image/jpeg:https://conservatoire.grandangouleme.fr/wp-content/uploads/2024/01/Fotolia_225124185_Subscription_XXL-e1715851727775.jpg
ORGANIZER;CN="Conservatoire Gabriel Faur%C3%A9":MAILTO:conservatoire@grandangouleme.fr
END:VEVENT
BEGIN:VEVENT
DTSTART;TZID=Europe/Paris:20240203T170000
DTEND;TZID=Europe/Paris:20240203T180000
DTSTAMP:20260424T184858
CREATED:20240115T075424Z
LAST-MODIFIED:20240115T075531Z
UID:21221-1706979600-1706983200@conservatoire.grandangouleme.fr
SUMMARY:À nous de jouer !
DESCRIPTION:
URL:https://conservatoire.grandangouleme.fr/agenda/a-nous-de-jouer/
LOCATION:Auditorium – Conservatoire\, place Henri Dunant\, Angoulême\, 16000\, France
ATTACH;FMTTYPE=image/jpeg:https://conservatoire.grandangouleme.fr/wp-content/uploads/2024/01/A-nous-de-jouer-affiche-internet.jpg
ORGANIZER;CN="Conservatoire Gabriel Faur%C3%A9":MAILTO:conservatoire@grandangouleme.fr
END:VEVENT
BEGIN:VEVENT
DTSTART;TZID=Europe/Paris:20240112T200000
DTEND;TZID=Europe/Paris:20240112T213000
DTSTAMP:20260424T184858
CREATED:20231222T114938Z
LAST-MODIFIED:20231223T081309Z
UID:21114-1705089600-1705095000@conservatoire.grandangouleme.fr
SUMMARY:Musique nord-américaine des XXème et XXIème siècles
DESCRIPTION:
URL:https://conservatoire.grandangouleme.fr/agenda/musique-nord-americaine-des-xxeme-et-xxieme-siecles/
LOCATION:Auditorium – Conservatoire\, place Henri Dunant\, Angoulême\, 16000\, France
CATEGORIES:Concert
ATTACH;FMTTYPE=image/jpeg:https://conservatoire.grandangouleme.fr/wp-content/uploads/2023/12/samuel-branch-ZPVisr0s_hQ-unsplash-scaled.jpg
ORGANIZER;CN="Conservatoire Gabriel Faur%C3%A9":MAILTO:conservatoire@grandangouleme.fr
END:VEVENT
BEGIN:VEVENT
DTSTART;TZID=Europe/Paris:20231221T203000
DTEND;TZID=Europe/Paris:20231221T220000
DTSTAMP:20260424T184858
CREATED:20231206T083544Z
LAST-MODIFIED:20231213T152229Z
UID:21016-1703190600-1703196000@conservatoire.grandangouleme.fr
SUMMARY:Les plaisirs du palais
DESCRIPTION:
URL:https://conservatoire.grandangouleme.fr/agenda/les-plaisirs-du-palais/
LOCATION:Auditorium – Conservatoire\, place Henri Dunant\, Angoulême\, 16000\, France
ATTACH;FMTTYPE=image/jpeg:https://conservatoire.grandangouleme.fr/wp-content/uploads/2023/12/408114462_862574032536765_2280710964225772812_n-scaled.jpg
ORGANIZER;CN="Conservatoire Gabriel Faur%C3%A9":MAILTO:conservatoire@grandangouleme.fr
END:VEVENT
BEGIN:VEVENT
DTSTART;TZID=Europe/Paris:20231218T210000
DTEND;TZID=Europe/Paris:20231218T220000
DTSTAMP:20260424T184858
CREATED:20231207T162949Z
LAST-MODIFIED:20231208T154007Z
UID:21067-1702933200-1702936800@conservatoire.grandangouleme.fr
SUMMARY:Concert - Kalimba
DESCRIPTION:
URL:https://conservatoire.grandangouleme.fr/agenda/concert-kalimba/
LOCATION:Auditorium – Conservatoire\, place Henri Dunant\, Angoulême\, 16000\, France
CATEGORIES:Concert
ATTACH;FMTTYPE=image/jpeg:https://conservatoire.grandangouleme.fr/wp-content/uploads/2022/05/22-05.jpg
ORGANIZER;CN="Conservatoire Gabriel Faur%C3%A9":MAILTO:conservatoire@grandangouleme.fr
END:VEVENT
BEGIN:VEVENT
DTSTART;TZID=Europe/Paris:20231212T190000
DTEND;TZID=Europe/Paris:20231212T203000
DTSTAMP:20260424T184858
CREATED:20231207T080432Z
LAST-MODIFIED:20231207T082203Z
UID:21048-1702407600-1702413000@conservatoire.grandangouleme.fr
SUMMARY:Effeuillons la Marguerite
DESCRIPTION:
URL:https://conservatoire.grandangouleme.fr/agenda/effeuillons-la-marguerite/
LOCATION:Auditorium – Conservatoire\, place Henri Dunant\, Angoulême\, 16000\, France
ATTACH;FMTTYPE=image/jpeg:https://conservatoire.grandangouleme.fr/wp-content/uploads/2023/12/marguerite-1.jpg
END:VEVENT
BEGIN:VEVENT
DTSTART;TZID=Europe/Paris:20231209T160000
DTEND;TZID=Europe/Paris:20231209T170000
DTSTAMP:20260424T184858
CREATED:20231207T144350Z
LAST-MODIFIED:20231208T153528Z
UID:21063-1702137600-1702141200@conservatoire.grandangouleme.fr
SUMMARY:Concert - Classe de violon
DESCRIPTION:
URL:https://conservatoire.grandangouleme.fr/agenda/concert-classe-de-violon/
LOCATION:Auditorium – Conservatoire\, place Henri Dunant\, Angoulême\, 16000\, France
CATEGORIES:Audition
ATTACH;FMTTYPE=image/jpeg:https://conservatoire.grandangouleme.fr/wp-content/uploads/2019/12/violon-baroque.jpg
ORGANIZER;CN="Conservatoire Gabriel Faur%C3%A9":MAILTO:conservatoire@grandangouleme.fr
END:VEVENT
BEGIN:VEVENT
DTSTART;TZID=Europe/Paris:20231209T140000
DTEND;TZID=Europe/Paris:20231209T150000
DTSTAMP:20260424T184858
CREATED:20231207T144213Z
LAST-MODIFIED:20231208T153337Z
UID:21061-1702130400-1702134000@conservatoire.grandangouleme.fr
SUMMARY:Concert - Classe de basson
DESCRIPTION:
URL:https://conservatoire.grandangouleme.fr/agenda/concert-classe-de-basson/
LOCATION:Auditorium – Conservatoire\, place Henri Dunant\, Angoulême\, 16000\, France
CATEGORIES:Audition
ATTACH;FMTTYPE=image/jpeg:https://conservatoire.grandangouleme.fr/wp-content/uploads/2023/01/AdobeStock_369523947-Converti.jpg
ORGANIZER;CN="Conservatoire Gabriel Faur%C3%A9":MAILTO:conservatoire@grandangouleme.fr
END:VEVENT
BEGIN:VEVENT
DTSTART;TZID=Europe/Paris:20231208T193000
DTEND;TZID=Europe/Paris:20231208T210000
DTSTAMP:20260424T184858
CREATED:20231201T133834Z
LAST-MODIFIED:20231201T142435Z
UID:20914-1702063800-1702069200@conservatoire.grandangouleme.fr
SUMMARY:Orphée aux enfers
DESCRIPTION:
URL:https://conservatoire.grandangouleme.fr/agenda/orphee-aux-enfers/
LOCATION:Auditorium – Conservatoire\, place Henri Dunant\, Angoulême\, 16000\, France
CATEGORIES:Opéra,Spectacle
ATTACH;FMTTYPE=image/jpeg:https://conservatoire.grandangouleme.fr/wp-content/uploads/2023/12/orphee-scaled.jpg
ORGANIZER;CN="Conservatoire Gabriel Faur%C3%A9":MAILTO:conservatoire@grandangouleme.fr
END:VEVENT
BEGIN:VEVENT
DTSTART;TZID=Europe/Paris:20230701T153000
DTEND;TZID=Europe/Paris:20230701T170000
DTSTAMP:20260424T184858
CREATED:20230614T130837Z
LAST-MODIFIED:20230614T143404Z
UID:19298-1688225400-1688230800@conservatoire.grandangouleme.fr
SUMMARY:Classe de chant lyrique
DESCRIPTION:
URL:https://conservatoire.grandangouleme.fr/agenda/classe-de-classe/
LOCATION:Auditorium – Conservatoire\, place Henri Dunant\, Angoulême\, 16000\, France
CATEGORIES:Concert
ATTACH;FMTTYPE=image/jpeg:https://conservatoire.grandangouleme.fr/wp-content/uploads/2023/05/Chant-lyrique-7-e1685096450650.jpg
ORGANIZER;CN="Conservatoire Gabriel Faur%C3%A9":MAILTO:conservatoire@grandangouleme.fr
END:VEVENT
BEGIN:VEVENT
DTSTART;TZID=Europe/Paris:20230630T190000
DTEND;TZID=Europe/Paris:20230630T203000
DTSTAMP:20260424T184858
CREATED:20230614T130215Z
LAST-MODIFIED:20230614T130345Z
UID:19247-1688151600-1688157000@conservatoire.grandangouleme.fr
SUMMARY:Classe de saxophone
DESCRIPTION:
URL:https://conservatoire.grandangouleme.fr/agenda/classe-de-saxophone/
LOCATION:Auditorium – Conservatoire\, place Henri Dunant\, Angoulême\, 16000\, France
CATEGORIES:Représentation
ATTACH;FMTTYPE=image/jpeg:https://conservatoire.grandangouleme.fr/wp-content/uploads/2021/11/visuel.jpg
ORGANIZER;CN="Conservatoire Gabriel Faur%C3%A9":MAILTO:conservatoire@grandangouleme.fr
END:VEVENT
BEGIN:VEVENT
DTSTART;TZID=Europe/Paris:20230624T140000
DTEND;TZID=Europe/Paris:20230624T153000
DTSTAMP:20260424T184858
CREATED:20230614T120629Z
LAST-MODIFIED:20230614T120630Z
UID:19222-1687615200-1687620600@conservatoire.grandangouleme.fr
SUMMARY:Classe de piano
DESCRIPTION:
URL:https://conservatoire.grandangouleme.fr/agenda/classe-de-piano-2/
LOCATION:Auditorium – Conservatoire\, place Henri Dunant\, Angoulême\, 16000\, France
CATEGORIES:Concert
ATTACH;FMTTYPE=image/jpeg:https://conservatoire.grandangouleme.fr/wp-content/uploads/2023/01/AdobeStock_231509555-Converti.jpg
ORGANIZER;CN="Conservatoire Gabriel Faur%C3%A9":MAILTO:conservatoire@grandangouleme.fr
END:VEVENT
BEGIN:VEVENT
DTSTART;TZID=Europe/Paris:20230623T190000
DTEND;TZID=Europe/Paris:20230623T203000
DTSTAMP:20260424T184858
CREATED:20230614T120427Z
LAST-MODIFIED:20230614T120427Z
UID:19219-1687546800-1687552200@conservatoire.grandangouleme.fr
SUMMARY:Chœur en mouvement
DESCRIPTION:
URL:https://conservatoire.grandangouleme.fr/agenda/choeur-en-mouvement/
LOCATION:Auditorium – Conservatoire\, place Henri Dunant\, Angoulême\, 16000\, France
CATEGORIES:Représentation
ATTACH;FMTTYPE=image/jpeg:https://conservatoire.grandangouleme.fr/wp-content/uploads/2019/11/chant-choral.jpg
ORGANIZER;CN="Conservatoire Gabriel Faur%C3%A9":MAILTO:conservatoire@grandangouleme.fr
END:VEVENT
BEGIN:VEVENT
DTSTART;TZID=Europe/Paris:20230620T183000
DTEND;TZID=Europe/Paris:20230620T200000
DTSTAMP:20260424T184858
CREATED:20230614T090643Z
LAST-MODIFIED:20230614T090643Z
UID:19199-1687285800-1687291200@conservatoire.grandangouleme.fr
SUMMARY:Classe de piano
DESCRIPTION:
URL:https://conservatoire.grandangouleme.fr/agenda/classe-de-piano/
LOCATION:Auditorium – Conservatoire\, place Henri Dunant\, Angoulême\, 16000\, France
CATEGORIES:Concert
ATTACH;FMTTYPE=image/jpeg:https://conservatoire.grandangouleme.fr/wp-content/uploads/2023/05/piano.jpg
ORGANIZER;CN="Conservatoire Gabriel Faur%C3%A9":MAILTO:conservatoire@grandangouleme.fr
END:VEVENT
BEGIN:VEVENT
DTSTART;TZID=Europe/Paris:20230619T203000
DTEND;TZID=Europe/Paris:20230619T220000
DTSTAMP:20260424T184858
CREATED:20230614T073637Z
LAST-MODIFIED:20230614T074158Z
UID:19196-1687206600-1687212000@conservatoire.grandangouleme.fr
SUMMARY:Classe de violoncelle
DESCRIPTION:
URL:https://conservatoire.grandangouleme.fr/agenda/classe-de-violoncelle/
LOCATION:Auditorium – Conservatoire\, place Henri Dunant\, Angoulême\, 16000\, France
CATEGORIES:Concert
ATTACH;FMTTYPE=image/jpeg:https://conservatoire.grandangouleme.fr/wp-content/uploads/2023/06/violoncelle-1.jpg
ORGANIZER;CN="Conservatoire Gabriel Faur%C3%A9":MAILTO:conservatoire@grandangouleme.fr
END:VEVENT
BEGIN:VEVENT
DTSTART;TZID=Europe/Paris:20230617T143000
DTEND;TZID=Europe/Paris:20230617T160000
DTSTAMP:20260424T184858
CREATED:20230614T072706Z
LAST-MODIFIED:20230614T072706Z
UID:19194-1687012200-1687017600@conservatoire.grandangouleme.fr
SUMMARY:Classe d'alto
DESCRIPTION:
URL:https://conservatoire.grandangouleme.fr/agenda/classe-dalto/
LOCATION:Auditorium – Conservatoire\, place Henri Dunant\, Angoulême\, 16000\, France
CATEGORIES:Concert
ATTACH;FMTTYPE=image/jpeg:https://conservatoire.grandangouleme.fr/wp-content/uploads/2020/03/alto2.jpg
ORGANIZER;CN="Conservatoire Gabriel Faur%C3%A9":MAILTO:conservatoire@grandangouleme.fr
END:VEVENT
BEGIN:VEVENT
DTSTART;TZID=Europe/Paris:20230615T204500
DTEND;TZID=Europe/Paris:20230615T220000
DTSTAMP:20260424T184858
CREATED:20230524T133419Z
LAST-MODIFIED:20230614T065651Z
UID:19004-1686861900-1686866400@conservatoire.grandangouleme.fr
SUMMARY:Concert du Big Band
DESCRIPTION:
URL:https://conservatoire.grandangouleme.fr/agenda/concert-du-big-band-2/
LOCATION:Auditorium – Conservatoire\, place Henri Dunant\, Angoulême\, 16000\, France
CATEGORIES:Concert
ATTACH;FMTTYPE=image/png:https://conservatoire.grandangouleme.fr/wp-content/uploads/2023/05/DSC00074.png
ORGANIZER;CN="Conservatoire Gabriel Faur%C3%A9":MAILTO:conservatoire@grandangouleme.fr
END:VEVENT
END:VCALENDAR