BEGIN:VCALENDAR
VERSION:2.0
PRODID:-//Conservatoire Gabriel Fauré de GrandAngoulême - ECPv6.15.20//NONSGML v1.0//EN
CALSCALE:GREGORIAN
METHOD:PUBLISH
X-WR-CALNAME:Conservatoire Gabriel Fauré de GrandAngoulême
X-ORIGINAL-URL:https://conservatoire.grandangouleme.fr
X-WR-CALDESC:Évènements pour Conservatoire Gabriel Fauré de GrandAngoulême
REFRESH-INTERVAL;VALUE=DURATION:PT1H
X-Robots-Tag:noindex
X-PUBLISHED-TTL:PT1H
BEGIN:VTIMEZONE
TZID:Europe/Paris
BEGIN:DAYLIGHT
TZOFFSETFROM:+0100
TZOFFSETTO:+0200
TZNAME:CEST
DTSTART:20230326T010000
END:DAYLIGHT
BEGIN:STANDARD
TZOFFSETFROM:+0200
TZOFFSETTO:+0100
TZNAME:CET
DTSTART:20231029T010000
END:STANDARD
BEGIN:DAYLIGHT
TZOFFSETFROM:+0100
TZOFFSETTO:+0200
TZNAME:CEST
DTSTART:20240331T010000
END:DAYLIGHT
BEGIN:STANDARD
TZOFFSETFROM:+0200
TZOFFSETTO:+0100
TZNAME:CET
DTSTART:20241027T010000
END:STANDARD
BEGIN:DAYLIGHT
TZOFFSETFROM:+0100
TZOFFSETTO:+0200
TZNAME:CEST
DTSTART:20250330T010000
END:DAYLIGHT
BEGIN:STANDARD
TZOFFSETFROM:+0200
TZOFFSETTO:+0100
TZNAME:CET
DTSTART:20251026T010000
END:STANDARD
BEGIN:DAYLIGHT
TZOFFSETFROM:+0100
TZOFFSETTO:+0200
TZNAME:CEST
DTSTART:20260329T010000
END:DAYLIGHT
BEGIN:STANDARD
TZOFFSETFROM:+0200
TZOFFSETTO:+0100
TZNAME:CET
DTSTART:20261025T010000
END:STANDARD
END:VTIMEZONE
BEGIN:VEVENT
DTSTART;TZID=Europe/Paris:20250209T143000
DTEND;TZID=Europe/Paris:20250209T160000
DTSTAMP:20260424T130845
CREATED:20250116T145150Z
LAST-MODIFIED:20250129T152317Z
UID:24586-1739111400-1739116800@conservatoire.grandangouleme.fr
SUMMARY:Concert des orchestres Ravel\, Gounod et Chabrier
DESCRIPTION:
URL:https://conservatoire.grandangouleme.fr/agenda/concert-des-orchestres-ravel-gounod-et-chabrier-2/
LOCATION:Auditorium – Conservatoire\, place Henri Dunant\, Angoulême\, 16000\, France
CATEGORIES:Concert d'orchestre
ATTACH;FMTTYPE=image/jpeg:https://conservatoire.grandangouleme.fr/wp-content/uploads/2022/10/orchestre-du-conservatoire-emmanuel-chabrier.jpg
ORGANIZER;CN="Conservatoire Gabriel Faur%C3%A9":MAILTO:conservatoire@grandangouleme.fr
END:VEVENT
BEGIN:VEVENT
DTSTART;TZID=Europe/Paris:20250207T190000
DTEND;TZID=Europe/Paris:20250207T203000
DTSTAMP:20260424T130845
CREATED:20250116T144032Z
LAST-MODIFIED:20250129T152033Z
UID:24583-1738954800-1738960200@conservatoire.grandangouleme.fr
SUMMARY:Concert des orchestres Ravel\, Gounod et Chabrier
DESCRIPTION:
URL:https://conservatoire.grandangouleme.fr/agenda/concert-des-orchestres-ravel-gounod-et-chabrier/
LOCATION:Auditorium – Conservatoire\, place Henri Dunant\, Angoulême\, 16000\, France
CATEGORIES:Concert d'orchestre
ATTACH;FMTTYPE=image/jpeg:https://conservatoire.grandangouleme.fr/wp-content/uploads/2022/10/orchestre-du-conservatoire-emmanuel-chabrier.jpg
ORGANIZER;CN="Conservatoire Gabriel Faur%C3%A9":MAILTO:conservatoire@grandangouleme.fr
END:VEVENT
BEGIN:VEVENT
DTSTART;TZID=Europe/Paris:20250121T180000
DTEND;TZID=Europe/Paris:20250121T190000
DTSTAMP:20260424T130845
CREATED:20241217T140931Z
LAST-MODIFIED:20241218T100600Z
UID:24291-1737482400-1737486000@conservatoire.grandangouleme.fr
SUMMARY:Concert de basson et de musique de chambre
DESCRIPTION:
URL:https://conservatoire.grandangouleme.fr/agenda/concert-de-basson/
LOCATION:Auditorium – Conservatoire\, place Henri Dunant\, Angoulême\, 16000\, France
CATEGORIES:Audition de classes
ATTACH;FMTTYPE=image/jpeg:https://conservatoire.grandangouleme.fr/wp-content/uploads/2016/12/basson.jpg
ORGANIZER;CN="Conservatoire Gabriel Faur%C3%A9":MAILTO:conservatoire@grandangouleme.fr
END:VEVENT
BEGIN:VEVENT
DTSTART;TZID=Europe/Paris:20250117T183000
DTEND;TZID=Europe/Paris:20250117T193000
DTSTAMP:20260424T130845
CREATED:20241217T135754Z
LAST-MODIFIED:20241217T140700Z
UID:24285-1737138600-1737142200@conservatoire.grandangouleme.fr
SUMMARY:Les minipouss
DESCRIPTION:
URL:https://conservatoire.grandangouleme.fr/agenda/les-minipouss/
LOCATION:Auditorium – Conservatoire\, place Henri Dunant\, Angoulême\, 16000\, France
CATEGORIES:Concert
ATTACH;FMTTYPE=image/png:https://conservatoire.grandangouleme.fr/wp-content/uploads/2024/12/flute_sax-e1734444401538.png
ORGANIZER;CN="Conservatoire Gabriel Faur%C3%A9":MAILTO:conservatoire@grandangouleme.fr
END:VEVENT
BEGIN:VEVENT
DTSTART;TZID=Europe/Paris:20250116T193000
DTEND;TZID=Europe/Paris:20250116T200000
DTSTAMP:20260424T130845
CREATED:20241217T135612Z
LAST-MODIFIED:20241217T163232Z
UID:24282-1737055800-1737057600@conservatoire.grandangouleme.fr
SUMMARY:Un soir d'été à la campagne
DESCRIPTION:
URL:https://conservatoire.grandangouleme.fr/agenda/un-soir-dete-a-la-campagne/
LOCATION:Auditorium – Conservatoire\, place Henri Dunant\, Angoulême\, 16000\, France
CATEGORIES:Concert
ATTACH;FMTTYPE=image/png:https://conservatoire.grandangouleme.fr/wp-content/uploads/2024/12/cepes_mecquenem.png
ORGANIZER;CN="Conservatoire Gabriel Faur%C3%A9":MAILTO:conservatoire@grandangouleme.fr
END:VEVENT
BEGIN:VEVENT
DTSTART;TZID=Europe/Paris:20250114T183000
DTEND;TZID=Europe/Paris:20250114T193000
DTSTAMP:20260424T130845
CREATED:20241217T134351Z
LAST-MODIFIED:20241217T134351Z
UID:24276-1736879400-1736883000@conservatoire.grandangouleme.fr
SUMMARY:Audition Patchwork
DESCRIPTION:
URL:https://conservatoire.grandangouleme.fr/agenda/audition-patchwork-11/
LOCATION:Auditorium – Conservatoire\, place Henri Dunant\, Angoulême\, 16000\, France
CATEGORIES:Audition
ATTACH;FMTTYPE=image/jpeg:https://conservatoire.grandangouleme.fr/wp-content/uploads/2023/03/2302-patchwork.jpg
ORGANIZER;CN="Conservatoire Gabriel Faur%C3%A9":MAILTO:conservatoire@grandangouleme.fr
END:VEVENT
BEGIN:VEVENT
DTSTART;TZID=Europe/Paris:20250111T140000
DTEND;TZID=Europe/Paris:20250111T170000
DTSTAMP:20260424T130845
CREATED:20241217T134117Z
LAST-MODIFIED:20241217T134117Z
UID:24273-1736604000-1736614800@conservatoire.grandangouleme.fr
SUMMARY:la musique pour piano de Laurent Jacquier
DESCRIPTION:
URL:https://conservatoire.grandangouleme.fr/agenda/la-musique-pour-piano-de-laurent-jacquier/
LOCATION:Auditorium – Conservatoire\, place Henri Dunant\, Angoulême\, 16000\, France
CATEGORIES:Concert
ATTACH;FMTTYPE=image/jpeg:https://conservatoire.grandangouleme.fr/wp-content/uploads/2022/10/istockphoto-901538534-612x612-1.jpg
ORGANIZER;CN="Conservatoire Gabriel Faur%C3%A9":MAILTO:conservatoire@grandangouleme.fr
END:VEVENT
BEGIN:VEVENT
DTSTART;TZID=Europe/Paris:20250110T180000
DTEND;TZID=Europe/Paris:20250110T190000
DTSTAMP:20260424T130845
CREATED:20241217T133844Z
LAST-MODIFIED:20241217T133845Z
UID:24270-1736532000-1736535600@conservatoire.grandangouleme.fr
SUMMARY:Audition de piano
DESCRIPTION:
URL:https://conservatoire.grandangouleme.fr/agenda/audition-de-piano-5/
LOCATION:Auditorium – Conservatoire\, place Henri Dunant\, Angoulême\, 16000\, France
CATEGORIES:Audition de classes
ATTACH;FMTTYPE=image/jpeg:https://conservatoire.grandangouleme.fr/wp-content/uploads/2022/10/piano-3447281_1920-e1632839751115-350x350-1.jpg
ORGANIZER;CN="Conservatoire Gabriel Faur%C3%A9":MAILTO:conservatoire@grandangouleme.fr
END:VEVENT
BEGIN:VEVENT
DTSTART;TZID=Europe/Paris:20241130T160000
DTEND;TZID=Europe/Paris:20241130T173000
DTSTAMP:20260424T130845
CREATED:20241017T085248Z
LAST-MODIFIED:20241017T085248Z
UID:23516-1732982400-1732987800@conservatoire.grandangouleme.fr
SUMMARY:Portraits sonores
DESCRIPTION:
URL:https://conservatoire.grandangouleme.fr/agenda/portraits-sonores/
LOCATION:Auditorium – Conservatoire\, place Henri Dunant\, Angoulême\, 16000\, France
CATEGORIES:Concert
ATTACH;FMTTYPE=image/jpeg:https://conservatoire.grandangouleme.fr/wp-content/uploads/2020/02/visuel-générique2.jpg
ORGANIZER;CN="Conservatoire Gabriel Faur%C3%A9":MAILTO:conservatoire@grandangouleme.fr
END:VEVENT
BEGIN:VEVENT
DTSTART;TZID=Europe/Paris:20241129T180000
DTEND;TZID=Europe/Paris:20241129T190000
DTSTAMP:20260424T130845
CREATED:20241018T125841Z
LAST-MODIFIED:20241119T141534Z
UID:23538-1732903200-1732906800@conservatoire.grandangouleme.fr
SUMMARY:Audition de classe de Trompette & Trombone
DESCRIPTION:
URL:https://conservatoire.grandangouleme.fr/agenda/audition-de-classe-de-trompette/
LOCATION:Auditorium – Conservatoire\, place Henri Dunant\, Angoulême\, 16000\, France
CATEGORIES:Audition de classes
ATTACH;FMTTYPE=image/jpeg:https://conservatoire.grandangouleme.fr/wp-content/uploads/2022/11/trompette.jpg
ORGANIZER;CN="Conservatoire Gabriel Faur%C3%A9":MAILTO:conservatoire@grandangouleme.fr
END:VEVENT
BEGIN:VEVENT
DTSTART;TZID=Europe/Paris:20241126T200000
DTEND;TZID=Europe/Paris:20241126T210000
DTSTAMP:20260424T130845
CREATED:20241017T084448Z
LAST-MODIFIED:20241017T084448Z
UID:23511-1732651200-1732654800@conservatoire.grandangouleme.fr
SUMMARY:Autour de Gabriel Fauré
DESCRIPTION:
URL:https://conservatoire.grandangouleme.fr/agenda/autour-de-gabriel-faure/
LOCATION:Auditorium – Conservatoire\, place Henri Dunant\, Angoulême\, 16000\, France
CATEGORIES:Concert
ATTACH;FMTTYPE=image/jpeg:https://conservatoire.grandangouleme.fr/wp-content/uploads/2022/10/istockphoto-901538534-612x612-1.jpg
ORGANIZER;CN="Conservatoire Gabriel Faur%C3%A9":MAILTO:conservatoire@grandangouleme.fr
END:VEVENT
BEGIN:VEVENT
DTSTART;TZID=Europe/Paris:20241121T183000
DTEND;TZID=Europe/Paris:20241121T200000
DTSTAMP:20260424T130845
CREATED:20241018T124224Z
LAST-MODIFIED:20241018T124224Z
UID:23534-1732213800-1732219200@conservatoire.grandangouleme.fr
SUMMARY:Audition de classe de violon
DESCRIPTION:
URL:https://conservatoire.grandangouleme.fr/agenda/audition-de-classe-de-violon/
LOCATION:Auditorium – Conservatoire\, place Henri Dunant\, Angoulême\, 16000\, France
CATEGORIES:Audition de classes
ATTACH;FMTTYPE=image/jpeg:https://conservatoire.grandangouleme.fr/wp-content/uploads/2019/12/violon-baroque.jpg
ORGANIZER;CN="Conservatoire Gabriel Faur%C3%A9":MAILTO:conservatoire@grandangouleme.fr
END:VEVENT
BEGIN:VEVENT
DTSTART;TZID=Europe/Paris:20241119T183000
DTEND;TZID=Europe/Paris:20241119T200000
DTSTAMP:20260424T130845
CREATED:20241017T084159Z
LAST-MODIFIED:20241017T084159Z
UID:23508-1732041000-1732046400@conservatoire.grandangouleme.fr
SUMMARY:Audition Patchwork
DESCRIPTION:
URL:https://conservatoire.grandangouleme.fr/agenda/audition-patchwork-10/
LOCATION:Auditorium – Conservatoire\, place Henri Dunant\, Angoulême\, 16000\, France
CATEGORIES:Audition
ATTACH;FMTTYPE=image/jpeg:https://conservatoire.grandangouleme.fr/wp-content/uploads/2023/03/2302-patchwork.jpg
ORGANIZER;CN="Conservatoire Gabriel Faur%C3%A9":MAILTO:conservatoire@grandangouleme.fr
END:VEVENT
BEGIN:VEVENT
DTSTART;TZID=Europe/Paris:20241117T150000
DTEND;TZID=Europe/Paris:20241117T170000
DTSTAMP:20260424T130845
CREATED:20241017T083720Z
LAST-MODIFIED:20241104T085216Z
UID:23507-1731855600-1731862800@conservatoire.grandangouleme.fr
SUMMARY:Workshop de Michele Rabbia
DESCRIPTION:
URL:https://conservatoire.grandangouleme.fr/agenda/workshop-de-michele-rabbia/
LOCATION:Auditorium – Conservatoire\, place Henri Dunant\, Angoulême\, 16000\, France
CATEGORIES:Concert de restitution
ATTACH;FMTTYPE=image/png:https://conservatoire.grandangouleme.fr/wp-content/uploads/2024/10/rabbia-e1730710247245.png
ORGANIZER;CN="Conservatoire Gabriel Faur%C3%A9":MAILTO:conservatoire@grandangouleme.fr
END:VEVENT
BEGIN:VEVENT
DTSTART;TZID=Europe/Paris:20241017T180000
DTEND;TZID=Europe/Paris:20241017T190000
DTSTAMP:20260424T130845
CREATED:20241004T154749Z
LAST-MODIFIED:20241004T154750Z
UID:23410-1729188000-1729191600@conservatoire.grandangouleme.fr
SUMMARY:Audition de Basson
DESCRIPTION:
URL:https://conservatoire.grandangouleme.fr/agenda/audition-de-basson/
LOCATION:Auditorium – Conservatoire\, place Henri Dunant\, Angoulême\, 16000\, France
CATEGORIES:Audition de classes
ATTACH;FMTTYPE=image/png:https://conservatoire.grandangouleme.fr/wp-content/uploads/2022/10/basson_baroque_et_moderne__webYR.png
ORGANIZER;CN="Conservatoire Gabriel Faur%C3%A9":MAILTO:conservatoire@grandangouleme.fr
END:VEVENT
BEGIN:VEVENT
DTSTART;TZID=Europe/Paris:20241012T090000
DTEND;TZID=Europe/Paris:20241012T123000
DTSTAMP:20260424T130845
CREATED:20240913T132231Z
LAST-MODIFIED:20240913T143040Z
UID:23213-1728723600-1728736200@conservatoire.grandangouleme.fr
SUMMARY:Master class - Claire Désert
DESCRIPTION:
URL:https://conservatoire.grandangouleme.fr/agenda/master-class-claire-desert/
LOCATION:Auditorium – Conservatoire\, place Henri Dunant\, Angoulême\, 16000\, France
CATEGORIES:Classe de maître
ATTACH;FMTTYPE=image/jpeg:https://conservatoire.grandangouleme.fr/wp-content/uploads/2024/09/Claire-Desert-©-Jean-Baptiste-Millot-e1726233718205.jpg
ORGANIZER;CN="Conservatoire Gabriel Faur%C3%A9":MAILTO:conservatoire@grandangouleme.fr
END:VEVENT
BEGIN:VEVENT
DTSTART;TZID=Europe/Paris:20240921T203000
DTEND;TZID=Europe/Paris:20240921T220000
DTSTAMP:20260424T130845
CREATED:20240831T225356Z
LAST-MODIFIED:20240829T071616Z
UID:22873-1726950600-1726956000@conservatoire.grandangouleme.fr
SUMMARY:Les 4 saisons du conservatoire - Automne 2024
DESCRIPTION:
URL:https://conservatoire.grandangouleme.fr/agenda/les-4-saisons-du-conservatoire-automne-2024-2/
LOCATION:Auditorium – Conservatoire\, place Henri Dunant\, Angoulême\, 16000\, France
CATEGORIES:Concert
ATTACH;FMTTYPE=image/jpeg:https://conservatoire.grandangouleme.fr/wp-content/uploads/2024/08/24-09-21-site.jpg
ORGANIZER;CN="Conservatoire Gabriel Faur%C3%A9":MAILTO:conservatoire@grandangouleme.fr
END:VEVENT
BEGIN:VEVENT
DTSTART;TZID=Europe/Paris:20240627T203000
DTEND;TZID=Europe/Paris:20240627T220000
DTSTAMP:20260424T130845
CREATED:20240516T144737Z
LAST-MODIFIED:20240613T101735Z
UID:22186-1719520200-1719525600@conservatoire.grandangouleme.fr
SUMMARY:Franck Carlberg & Big Band
DESCRIPTION:
URL:https://conservatoire.grandangouleme.fr/agenda/franck-carlberg-big-band/
LOCATION:Auditorium – Conservatoire\, place Henri Dunant\, Angoulême\, 16000\, France
CATEGORIES:Concert
ATTACH;FMTTYPE=image/jpeg:https://conservatoire.grandangouleme.fr/wp-content/uploads/2024/05/Frank_Carlberg-e1715870657361.jpg
ORGANIZER;CN="Conservatoire Gabriel Faur%C3%A9":MAILTO:conservatoire@grandangouleme.fr
END:VEVENT
BEGIN:VEVENT
DTSTART;TZID=Europe/Paris:20240625T190000
DTEND;TZID=Europe/Paris:20240625T203000
DTSTAMP:20260424T130845
CREATED:20240625T081201Z
LAST-MODIFIED:20240625T081201Z
UID:22347-1719342000-1719347400@conservatoire.grandangouleme.fr
SUMMARY:FMO\, formation musicale orchestre
DESCRIPTION:
URL:https://conservatoire.grandangouleme.fr/agenda/fmo-formation-musicale-orchestre/
LOCATION:Auditorium – Conservatoire\, place Henri Dunant\, Angoulême\, 16000\, France
ATTACH;FMTTYPE=image/jpeg:https://conservatoire.grandangouleme.fr/wp-content/uploads/2020/02/visuel-générique2.jpg
ORGANIZER;CN="Conservatoire Gabriel Faur%C3%A9":MAILTO:conservatoire@grandangouleme.fr
END:VEVENT
BEGIN:VEVENT
DTSTART;TZID=Europe/Paris:20240622T150000
DTEND;TZID=Europe/Paris:20240622T160000
DTSTAMP:20260424T130845
CREATED:20240516T140929Z
LAST-MODIFIED:20240613T101616Z
UID:22161-1719068400-1719072000@conservatoire.grandangouleme.fr
SUMMARY:Orchestres Debussy\, Chabrier
DESCRIPTION:
URL:https://conservatoire.grandangouleme.fr/agenda/orchestres-debussy-chabrier/
LOCATION:Auditorium – Conservatoire\, place Henri Dunant\, Angoulême\, 16000\, France
CATEGORIES:Concert d'orchestre
ATTACH;FMTTYPE=image/jpeg:https://conservatoire.grandangouleme.fr/wp-content/uploads/2022/10/orchestre-du-conservatoire-emmanuel-chabrier.jpg
ORGANIZER;CN="Conservatoire Gabriel Faur%C3%A9":MAILTO:conservatoire@grandangouleme.fr
END:VEVENT
BEGIN:VEVENT
DTSTART;TZID=Europe/Paris:20240621T203000
DTEND;TZID=Europe/Paris:20240621T220000
DTSTAMP:20260424T130845
CREATED:20240516T134520Z
LAST-MODIFIED:20240613T101604Z
UID:22144-1719001800-1719007200@conservatoire.grandangouleme.fr
SUMMARY:François Ier d’Angoulême à New-York
DESCRIPTION:
URL:https://conservatoire.grandangouleme.fr/agenda/francois-ier-dangouleme-a-new-york/
LOCATION:Auditorium – Conservatoire\, place Henri Dunant\, Angoulême\, 16000\, France
CATEGORIES:Spectacle
ATTACH;FMTTYPE=image/webp:https://conservatoire.grandangouleme.fr/wp-content/uploads/2024/05/pont_verrazano-e1715867106920.webp
ORGANIZER;CN="Conservatoire Gabriel Faur%C3%A9":MAILTO:conservatoire@grandangouleme.fr
END:VEVENT
BEGIN:VEVENT
DTSTART;TZID=Europe/Paris:20240620T190000
DTEND;TZID=Europe/Paris:20240620T203000
DTSTAMP:20260424T130845
CREATED:20240516T130251Z
LAST-MODIFIED:20240516T131144Z
UID:22134-1718910000-1718915400@conservatoire.grandangouleme.fr
SUMMARY:La sorcière du placard aux balais
DESCRIPTION:
URL:https://conservatoire.grandangouleme.fr/agenda/la-sorciere-du-placard-aux-balais/
LOCATION:Auditorium – Conservatoire\, place Henri Dunant\, Angoulême\, 16000\, France
ATTACH;FMTTYPE=image/jpeg:https://conservatoire.grandangouleme.fr/wp-content/uploads/2024/05/sorciere-e1715864527816.jpg
ORGANIZER;CN="Conservatoire Gabriel Faur%C3%A9":MAILTO:conservatoire@grandangouleme.fr
END:VEVENT
BEGIN:VEVENT
DTSTART;TZID=Europe/Paris:20240619T190000
DTEND;TZID=Europe/Paris:20240619T203000
DTSTAMP:20260424T130845
CREATED:20240516T102342Z
LAST-MODIFIED:20240613T101551Z
UID:22118-1718823600-1718829000@conservatoire.grandangouleme.fr
SUMMARY:Orchestres Poulenc\, Ravel et Gounod
DESCRIPTION:
URL:https://conservatoire.grandangouleme.fr/agenda/orchestres-poulenc-ravel-et-gounod/
LOCATION:Auditorium – Conservatoire\, place Henri Dunant\, Angoulême\, 16000\, France
ATTACH;FMTTYPE=image/jpeg:https://conservatoire.grandangouleme.fr/wp-content/uploads/2023/01/Fotolia_38324281_Subscription_L-e1397650468673.jpg
ORGANIZER;CN="Conservatoire Gabriel Faur%C3%A9":MAILTO:conservatoire@grandangouleme.fr
END:VEVENT
BEGIN:VEVENT
DTSTART;TZID=Europe/Paris:20240614T200000
DTEND;TZID=Europe/Paris:20240614T213000
DTSTAMP:20260424T130845
CREATED:20240516T100133Z
LAST-MODIFIED:20240612T092554Z
UID:22107-1718395200-1718400600@conservatoire.grandangouleme.fr
SUMMARY:5ème avenue - Chœur d’ados du conservatoire
DESCRIPTION:
URL:https://conservatoire.grandangouleme.fr/agenda/5eme-avenue-choeur-dados-du-conservatoire/
LOCATION:Auditorium – Conservatoire\, place Henri Dunant\, Angoulême\, 16000\, France
ATTACH;FMTTYPE=image/jpeg:https://conservatoire.grandangouleme.fr/wp-content/uploads/2024/05/Broadway-e1715855271376.jpg
ORGANIZER;CN="Conservatoire Gabriel Faur%C3%A9":MAILTO:conservatoire@grandangouleme.fr
END:VEVENT
BEGIN:VEVENT
DTSTART;TZID=Europe/Paris:20240608T203000
DTEND;TZID=Europe/Paris:20240608T220000
DTSTAMP:20260424T130845
CREATED:20240516T094012Z
LAST-MODIFIED:20240516T132209Z
UID:22100-1717878600-1717884000@conservatoire.grandangouleme.fr
SUMMARY:Orchestre Gabriel Fauré
DESCRIPTION:
URL:https://conservatoire.grandangouleme.fr/agenda/concert-de-lorchestre-gabriel-faure/
LOCATION:Auditorium – Conservatoire\, place Henri Dunant\, Angoulême\, 16000\, France
ATTACH;FMTTYPE=image/jpeg:https://conservatoire.grandangouleme.fr/wp-content/uploads/2024/01/Fotolia_225124185_Subscription_XXL-e1715851727775.jpg
ORGANIZER;CN="Conservatoire Gabriel Faur%C3%A9":MAILTO:conservatoire@grandangouleme.fr
END:VEVENT
BEGIN:VEVENT
DTSTART;TZID=Europe/Paris:20240607T183000
DTEND;TZID=Europe/Paris:20240607T183000
DTSTAMP:20260424T130845
CREATED:20240516T091044Z
LAST-MODIFIED:20240516T091045Z
UID:22089-1717785000-1717785000@conservatoire.grandangouleme.fr
SUMMARY:Un piano en Amérique
DESCRIPTION:
URL:https://conservatoire.grandangouleme.fr/agenda/un-piano-en-amerique/
LOCATION:Auditorium – Conservatoire\, place Henri Dunant\, Angoulême\, 16000\, France
ATTACH;FMTTYPE=image/jpeg:https://conservatoire.grandangouleme.fr/wp-content/uploads/2024/05/drapeau_amerique-e1715850622294.jpg
ORGANIZER;CN="Conservatoire Gabriel Faur%C3%A9":MAILTO:conservatoire@grandangouleme.fr
END:VEVENT
BEGIN:VEVENT
DTSTART;TZID=Europe/Paris:20240601T100000
DTEND;TZID=Europe/Paris:20240601T170000
DTSTAMP:20260424T130845
CREATED:20240516T085758Z
LAST-MODIFIED:20240516T091137Z
UID:22087-1717236000-1717261200@conservatoire.grandangouleme.fr
SUMMARY:CEM
DESCRIPTION:
URL:https://conservatoire.grandangouleme.fr/agenda/cem/
LOCATION:Auditorium – Conservatoire\, place Henri Dunant\, Angoulême\, 16000\, France
ATTACH;FMTTYPE=image/png:https://conservatoire.grandangouleme.fr/wp-content/uploads/2022/10/partition-piano-1.png
ORGANIZER;CN="Conservatoire Gabriel Faur%C3%A9":MAILTO:conservatoire@grandangouleme.fr
END:VEVENT
BEGIN:VEVENT
DTSTART;TZID=Europe/Paris:20240531T173000
DTEND;TZID=Europe/Paris:20240531T180000
DTSTAMP:20260424T130845
CREATED:20240529T103213Z
LAST-MODIFIED:20240529T103351Z
UID:22250-1717176600-1717178400@conservatoire.grandangouleme.fr
SUMMARY:Projet CPES - L'orchestre invisible
DESCRIPTION:
URL:https://conservatoire.grandangouleme.fr/agenda/projet-cpes-lorchestre-invisible/
LOCATION:Auditorium – Conservatoire\, place Henri Dunant\, Angoulême\, 16000\, France
ATTACH;FMTTYPE=image/jpeg:https://conservatoire.grandangouleme.fr/wp-content/uploads/2020/02/visuel-générique2.jpg
ORGANIZER;CN="Conservatoire Gabriel Faur%C3%A9":MAILTO:conservatoire@grandangouleme.fr
END:VEVENT
BEGIN:VEVENT
DTSTART;TZID=Europe/Paris:20240528T183000
DTEND;TZID=Europe/Paris:20240528T193000
DTSTAMP:20260424T130845
CREATED:20240404T133719Z
LAST-MODIFIED:20240516T125209Z
UID:21817-1716921000-1716924600@conservatoire.grandangouleme.fr
SUMMARY:Audition patchwork
DESCRIPTION:
URL:https://conservatoire.grandangouleme.fr/agenda/patchwork-28-05/
LOCATION:Auditorium – Conservatoire\, place Henri Dunant\, Angoulême\, 16000\, France
ATTACH;FMTTYPE=image/jpeg:https://conservatoire.grandangouleme.fr/wp-content/uploads/2023/03/2302-patchwork.jpg
ORGANIZER;CN="Conservatoire Gabriel Faur%C3%A9":MAILTO:conservatoire@grandangouleme.fr
END:VEVENT
BEGIN:VEVENT
DTSTART;TZID=Europe/Paris:20240521T183000
DTEND;TZID=Europe/Paris:20240521T193000
DTSTAMP:20260424T130845
CREATED:20240404T133306Z
LAST-MODIFIED:20240404T134621Z
UID:21814-1716316200-1716319800@conservatoire.grandangouleme.fr
SUMMARY:Audition patchwork
DESCRIPTION:
URL:https://conservatoire.grandangouleme.fr/agenda/audition-patchwork-9/
LOCATION:Auditorium – Conservatoire\, place Henri Dunant\, Angoulême\, 16000\, France
ATTACH;FMTTYPE=image/jpeg:https://conservatoire.grandangouleme.fr/wp-content/uploads/2023/03/2302-patchwork.jpg
ORGANIZER;CN="Conservatoire Gabriel Faur%C3%A9":MAILTO:conservatoire@grandangouleme.fr
END:VEVENT
END:VCALENDAR