BEGIN:VCALENDAR
VERSION:2.0
PRODID:-//Conservatoire Gabriel Fauré de GrandAngoulême - ECPv6.15.20//NONSGML v1.0//EN
CALSCALE:GREGORIAN
METHOD:PUBLISH
X-ORIGINAL-URL:https://conservatoire.grandangouleme.fr
X-WR-CALDESC:Évènements pour Conservatoire Gabriel Fauré de GrandAngoulême
REFRESH-INTERVAL;VALUE=DURATION:PT1H
X-Robots-Tag:noindex
X-PUBLISHED-TTL:PT1H
BEGIN:VTIMEZONE
TZID:Europe/Paris
BEGIN:DAYLIGHT
TZOFFSETFROM:+0100
TZOFFSETTO:+0200
TZNAME:CEST
DTSTART:20190331T010000
END:DAYLIGHT
BEGIN:STANDARD
TZOFFSETFROM:+0200
TZOFFSETTO:+0100
TZNAME:CET
DTSTART:20191027T010000
END:STANDARD
BEGIN:DAYLIGHT
TZOFFSETFROM:+0100
TZOFFSETTO:+0200
TZNAME:CEST
DTSTART:20200329T010000
END:DAYLIGHT
BEGIN:STANDARD
TZOFFSETFROM:+0200
TZOFFSETTO:+0100
TZNAME:CET
DTSTART:20201025T010000
END:STANDARD
BEGIN:DAYLIGHT
TZOFFSETFROM:+0100
TZOFFSETTO:+0200
TZNAME:CEST
DTSTART:20210328T010000
END:DAYLIGHT
BEGIN:STANDARD
TZOFFSETFROM:+0200
TZOFFSETTO:+0100
TZNAME:CET
DTSTART:20211031T010000
END:STANDARD
BEGIN:DAYLIGHT
TZOFFSETFROM:+0100
TZOFFSETTO:+0200
TZNAME:CEST
DTSTART:20220327T010000
END:DAYLIGHT
BEGIN:STANDARD
TZOFFSETFROM:+0200
TZOFFSETTO:+0100
TZNAME:CET
DTSTART:20221030T010000
END:STANDARD
BEGIN:DAYLIGHT
TZOFFSETFROM:+0100
TZOFFSETTO:+0200
TZNAME:CEST
DTSTART:20230326T010000
END:DAYLIGHT
BEGIN:STANDARD
TZOFFSETFROM:+0200
TZOFFSETTO:+0100
TZNAME:CET
DTSTART:20231029T010000
END:STANDARD
BEGIN:DAYLIGHT
TZOFFSETFROM:+0100
TZOFFSETTO:+0200
TZNAME:CEST
DTSTART:20240331T010000
END:DAYLIGHT
BEGIN:STANDARD
TZOFFSETFROM:+0200
TZOFFSETTO:+0100
TZNAME:CET
DTSTART:20241027T010000
END:STANDARD
BEGIN:DAYLIGHT
TZOFFSETFROM:+0100
TZOFFSETTO:+0200
TZNAME:CEST
DTSTART:20250330T010000
END:DAYLIGHT
BEGIN:STANDARD
TZOFFSETFROM:+0200
TZOFFSETTO:+0100
TZNAME:CET
DTSTART:20251026T010000
END:STANDARD
BEGIN:DAYLIGHT
TZOFFSETFROM:+0100
TZOFFSETTO:+0200
TZNAME:CEST
DTSTART:20260329T010000
END:DAYLIGHT
BEGIN:STANDARD
TZOFFSETFROM:+0200
TZOFFSETTO:+0100
TZNAME:CET
DTSTART:20261025T010000
END:STANDARD
END:VTIMEZONE
BEGIN:VEVENT
DTSTART;TZID=Europe/Paris:20251202T181500
DTEND;TZID=Europe/Paris:20251202T191500
DTSTAMP:20260423T163528
CREATED:20251110T142003Z
LAST-MODIFIED:20251112T153730Z
UID:28901-1764699300-1764702900@conservatoire.grandangouleme.fr
SUMMARY:Conférence-concert "Jeux d'interprètes Maurice Denis & la musique"
DESCRIPTION:Hors les murs\n\n	En partenariat avec le musée d'Angoulême et l'exposition "Maurice Denis\, en quête d'ailleurs" \nDelphine Grivel\, musicologue\, et Jean Marc Leone\, violoncelliste\, explore les liens que Maurice Denis entretenait avec les musiciens et leur influence sur son art. Vous pourrez en saisir toute l’importance et vous laisser guider par vos perceptions : elles seront interprétées au violoncelle pour dévoiler la dramaturgie des tableaux choisis\, sur des extraits d’œuvres musicales appréciées de Maurice Denis. \n Entrée libre dans la limite des places disponibles.
URL:https://conservatoire.grandangouleme.fr/agenda/conference-concert-jeux-dinterpretes-maurice-denis-la-musique/
LOCATION:Espace Franquin – Angoulême\, 1 bd Berthelot\, Angoulême\, 16000
CATEGORIES:conférence-concert
ATTACH;FMTTYPE=image/jpeg:https://conservatoire.grandangouleme.fr/wp-content/uploads/2025/10/Maurice-Denis-929.0015-©-CRMD-_-Laurent-Sully-Jaulmes-scaled-e1760971126475.jpg
END:VEVENT
BEGIN:VEVENT
DTSTART;TZID=Europe/Paris:20250207T123000
DTEND;TZID=Europe/Paris:20250207T133000
DTSTAMP:20260423T163528
CREATED:20250116T143646Z
LAST-MODIFIED:20250116T143646Z
UID:24580-1738931400-1738935000@conservatoire.grandangouleme.fr
SUMMARY:Figures musicales – Enrique Granados
DESCRIPTION:Hors les murs\n\n	En partenariat avec le musée d'Angoulême et l'exposition "Maurice Denis\, en quête d'ailleurs" \nDelphine Grivel\, musicologue\, et Jean Marc Leone\, violoncelliste\, explore les liens que Maurice Denis entretenait avec les musiciens et leur influence sur son art. Vous pourrez en saisir toute l’importance et vous laisser guider par vos perceptions : elles seront interprétées au violoncelle pour dévoiler la dramaturgie des tableaux choisis\, sur des extraits d’œuvres musicales appréciées de Maurice Denis. \n Entrée libre dans la limite des places disponibles.
URL:https://conservatoire.grandangouleme.fr/agenda/figures-musicales-enrique-granados/
LOCATION:Amphi Brassens – Conservatoire\, place Henri Dunant\, Angoulême\, 16000\, France
CATEGORIES:conférence-concert
ATTACH;FMTTYPE=image/jpeg:https://conservatoire.grandangouleme.fr/wp-content/uploads/2024/10/24-11-08-Dissonance-et-spiritualite.jpg
ORGANIZER;CN="Conservatoire Gabriel Faur%C3%A9":MAILTO:conservatoire@grandangouleme.fr
END:VEVENT
BEGIN:VEVENT
DTSTART;TZID=Europe/Paris:20250110T123000
DTEND;TZID=Europe/Paris:20250110T133000
DTSTAMP:20260423T163528
CREATED:20241217T133640Z
LAST-MODIFIED:20250106T105245Z
UID:24269-1736512200-1736515800@conservatoire.grandangouleme.fr
SUMMARY:Figures musicales - Grégorien et contemporain
DESCRIPTION:Hors les murs\n\n	En partenariat avec le musée d'Angoulême et l'exposition "Maurice Denis\, en quête d'ailleurs" \nDelphine Grivel\, musicologue\, et Jean Marc Leone\, violoncelliste\, explore les liens que Maurice Denis entretenait avec les musiciens et leur influence sur son art. Vous pourrez en saisir toute l’importance et vous laisser guider par vos perceptions : elles seront interprétées au violoncelle pour dévoiler la dramaturgie des tableaux choisis\, sur des extraits d’œuvres musicales appréciées de Maurice Denis. \n Entrée libre dans la limite des places disponibles.
URL:https://conservatoire.grandangouleme.fr/agenda/figures-musicales-gregorien-et-contemporain/
LOCATION:Amphi Brassens – Conservatoire\, place Henri Dunant\, Angoulême\, 16000\, France
CATEGORIES:conférence-concert
ATTACH;FMTTYPE=image/jpeg:https://conservatoire.grandangouleme.fr/wp-content/uploads/2024/10/24-11-08-Dissonance-et-spiritualite.jpg
ORGANIZER;CN="Conservatoire Gabriel Faur%C3%A9":MAILTO:conservatoire@grandangouleme.fr
END:VEVENT
BEGIN:VEVENT
DTSTART;TZID=Europe/Paris:20241108T123000
DTEND;TZID=Europe/Paris:20241108T133000
DTSTAMP:20260423T163528
CREATED:20241017T083217Z
LAST-MODIFIED:20241104T153727Z
UID:23504-1731069000-1731072600@conservatoire.grandangouleme.fr
SUMMARY:Figures musicales - Dissonance et spiritualité
DESCRIPTION:Hors les murs\n\n	En partenariat avec le musée d'Angoulême et l'exposition "Maurice Denis\, en quête d'ailleurs" \nDelphine Grivel\, musicologue\, et Jean Marc Leone\, violoncelliste\, explore les liens que Maurice Denis entretenait avec les musiciens et leur influence sur son art. Vous pourrez en saisir toute l’importance et vous laisser guider par vos perceptions : elles seront interprétées au violoncelle pour dévoiler la dramaturgie des tableaux choisis\, sur des extraits d’œuvres musicales appréciées de Maurice Denis. \n Entrée libre dans la limite des places disponibles.
URL:https://conservatoire.grandangouleme.fr/agenda/dissonance-et-spiritualite/
LOCATION:Amphi Brassens – Conservatoire\, place Henri Dunant\, Angoulême\, 16000\, France
CATEGORIES:conférence-concert
ATTACH;FMTTYPE=image/jpeg:https://conservatoire.grandangouleme.fr/wp-content/uploads/2024/10/24-11-08-Dissonance-et-spiritualite.jpg
ORGANIZER;CN="Conservatoire Gabriel Faur%C3%A9":MAILTO:conservatoire@grandangouleme.fr
END:VEVENT
BEGIN:VEVENT
DTSTART;TZID=Europe/Paris:20240922T153000
DTEND;TZID=Europe/Paris:20240922T180000
DTSTAMP:20260423T163528
CREATED:20240831T220025Z
LAST-MODIFIED:20240830T084532Z
UID:22856-1727019000-1727028000@conservatoire.grandangouleme.fr
SUMMARY:Les 4 saisons du conservatoire - Automne 2024
DESCRIPTION:Hors les murs\n\n	En partenariat avec le musée d'Angoulême et l'exposition "Maurice Denis\, en quête d'ailleurs" \nDelphine Grivel\, musicologue\, et Jean Marc Leone\, violoncelliste\, explore les liens que Maurice Denis entretenait avec les musiciens et leur influence sur son art. Vous pourrez en saisir toute l’importance et vous laisser guider par vos perceptions : elles seront interprétées au violoncelle pour dévoiler la dramaturgie des tableaux choisis\, sur des extraits d’œuvres musicales appréciées de Maurice Denis. \n Entrée libre dans la limite des places disponibles.
URL:https://conservatoire.grandangouleme.fr/agenda/les-4-saisons-du-conservatoire-automne-2024/
LOCATION:Église – Mouthiers-sur-Boëme\, Mouthiers sur Boëme\, France
CATEGORIES:conférence-concert
ATTACH;FMTTYPE=image/jpeg:https://conservatoire.grandangouleme.fr/wp-content/uploads/2024/09/24-09-22-site.jpg
ORGANIZER;CN="Conservatoire Gabriel Faur%C3%A9":MAILTO:conservatoire@grandangouleme.fr
END:VEVENT
BEGIN:VEVENT
DTSTART;TZID=Europe/Paris:20240320T140000
DTEND;TZID=Europe/Paris:20240320T190000
DTSTAMP:20260423T163528
CREATED:20240210T155027Z
LAST-MODIFIED:20240320T085004Z
UID:21447-1710943200-1710961200@conservatoire.grandangouleme.fr
SUMMARY:Masterclasse  et concert avec Dominique Visse
DESCRIPTION:Hors les murs\n\n	En partenariat avec le musée d'Angoulême et l'exposition "Maurice Denis\, en quête d'ailleurs" \nDelphine Grivel\, musicologue\, et Jean Marc Leone\, violoncelliste\, explore les liens que Maurice Denis entretenait avec les musiciens et leur influence sur son art. Vous pourrez en saisir toute l’importance et vous laisser guider par vos perceptions : elles seront interprétées au violoncelle pour dévoiler la dramaturgie des tableaux choisis\, sur des extraits d’œuvres musicales appréciées de Maurice Denis. \n Entrée libre dans la limite des places disponibles.
URL:https://conservatoire.grandangouleme.fr/agenda/masterclasse-de-dominique-visse/
LOCATION:Église Saint-André – Angoulême\, Angoulême\, 16000\, France
CATEGORIES:conférence-concert
ATTACH;FMTTYPE=image/jpeg:https://conservatoire.grandangouleme.fr/wp-content/uploads/2024/01/14757711427_b290011790_c-e1707580198766.jpg
ORGANIZER;CN="Conservatoire Gabriel Faur%C3%A9":MAILTO:conservatoire@grandangouleme.fr
END:VEVENT
BEGIN:VEVENT
DTSTART;TZID=Europe/Paris:20240309T140000
DTEND;TZID=Europe/Paris:20240309T213000
DTSTAMP:20260423T163528
CREATED:20240212T145739Z
LAST-MODIFIED:20240215T124056Z
UID:21466-1709992800-1710019800@conservatoire.grandangouleme.fr
SUMMARY:Michel Chion
DESCRIPTION:Hors les murs\n\n	En partenariat avec le musée d'Angoulême et l'exposition "Maurice Denis\, en quête d'ailleurs" \nDelphine Grivel\, musicologue\, et Jean Marc Leone\, violoncelliste\, explore les liens que Maurice Denis entretenait avec les musiciens et leur influence sur son art. Vous pourrez en saisir toute l’importance et vous laisser guider par vos perceptions : elles seront interprétées au violoncelle pour dévoiler la dramaturgie des tableaux choisis\, sur des extraits d’œuvres musicales appréciées de Maurice Denis. \n Entrée libre dans la limite des places disponibles.
URL:https://conservatoire.grandangouleme.fr/agenda/michel-chion/
LOCATION:Auditorium du conservatoire – Angoulême\, place Henri Dunant\, Angoulême\, 16000\, France
CATEGORIES:conférence-concert
ATTACH;FMTTYPE=image/jpeg:https://conservatoire.grandangouleme.fr/wp-content/uploads/2024/02/site.jpg
ORGANIZER;CN="Conservatoire Gabriel Faur%C3%A9":MAILTO:conservatoire@grandangouleme.fr
END:VEVENT
BEGIN:VEVENT
DTSTART;TZID=Europe/Paris:20230602T123000
DTEND;TZID=Europe/Paris:20230602T134000
DTSTAMP:20260423T163528
CREATED:20230524T125741Z
LAST-MODIFIED:20230524T125741Z
UID:18954-1685709000-1685713200@conservatoire.grandangouleme.fr
SUMMARY:Lecture « À Votre Portée »
DESCRIPTION:Hors les murs\n\n	En partenariat avec le musée d'Angoulême et l'exposition "Maurice Denis\, en quête d'ailleurs" \nDelphine Grivel\, musicologue\, et Jean Marc Leone\, violoncelliste\, explore les liens que Maurice Denis entretenait avec les musiciens et leur influence sur son art. Vous pourrez en saisir toute l’importance et vous laisser guider par vos perceptions : elles seront interprétées au violoncelle pour dévoiler la dramaturgie des tableaux choisis\, sur des extraits d’œuvres musicales appréciées de Maurice Denis. \n Entrée libre dans la limite des places disponibles.
URL:https://conservatoire.grandangouleme.fr/agenda/lecture-a-votre-portee-5/
LOCATION:Amphi Brassens – Conservatoire\, place Henri Dunant\, Angoulême\, 16000\, France
CATEGORIES:conférence-concert
ATTACH;FMTTYPE=image/jpeg:https://conservatoire.grandangouleme.fr/wp-content/uploads/2020/02/visuel-générique2.jpg
ORGANIZER;CN="Conservatoire Gabriel Faur%C3%A9":MAILTO:conservatoire@grandangouleme.fr
END:VEVENT
BEGIN:VEVENT
DTSTART;TZID=Europe/Paris:20221202T123000
DTEND;TZID=Europe/Paris:20221202T134000
DTSTAMP:20260423T163528
CREATED:20221128T132659Z
LAST-MODIFIED:20221128T132700Z
UID:13279-1669984200-1669988400@conservatoire.grandangouleme.fr
SUMMARY:Lecture « À Votre Portée »
DESCRIPTION:Hors les murs\n\n	En partenariat avec le musée d'Angoulême et l'exposition "Maurice Denis\, en quête d'ailleurs" \nDelphine Grivel\, musicologue\, et Jean Marc Leone\, violoncelliste\, explore les liens que Maurice Denis entretenait avec les musiciens et leur influence sur son art. Vous pourrez en saisir toute l’importance et vous laisser guider par vos perceptions : elles seront interprétées au violoncelle pour dévoiler la dramaturgie des tableaux choisis\, sur des extraits d’œuvres musicales appréciées de Maurice Denis. \n Entrée libre dans la limite des places disponibles.
URL:https://conservatoire.grandangouleme.fr/agenda/lecture-a-votre-portee/
LOCATION:Amphi Brassens – Conservatoire\, place Henri Dunant\, Angoulême\, 16000\, France
CATEGORIES:conférence-concert
ATTACH;FMTTYPE=image/jpeg:https://conservatoire.grandangouleme.fr/wp-content/uploads/2022/11/20221012_193319.jpg
ORGANIZER;CN="Conservatoire Gabriel Faur%C3%A9":MAILTO:conservatoire@grandangouleme.fr
END:VEVENT
BEGIN:VEVENT
DTSTART;TZID=Europe/Paris:20221118T123000
DTEND;TZID=Europe/Paris:20221118T134000
DTSTAMP:20260423T163528
CREATED:20221003T132459Z
LAST-MODIFIED:20221114T155431Z
UID:13679-1668774600-1668778800@conservatoire.grandangouleme.fr
SUMMARY:«À Votre Portée» - Le rêve deM. Couperin
DESCRIPTION:Hors les murs\n\n	En partenariat avec le musée d'Angoulême et l'exposition "Maurice Denis\, en quête d'ailleurs" \nDelphine Grivel\, musicologue\, et Jean Marc Leone\, violoncelliste\, explore les liens que Maurice Denis entretenait avec les musiciens et leur influence sur son art. Vous pourrez en saisir toute l’importance et vous laisser guider par vos perceptions : elles seront interprétées au violoncelle pour dévoiler la dramaturgie des tableaux choisis\, sur des extraits d’œuvres musicales appréciées de Maurice Denis. \n Entrée libre dans la limite des places disponibles.
URL:https://conservatoire.grandangouleme.fr/agenda/a-votre-portee/
LOCATION:Amphi Brassens – Conservatoire\, place Henri Dunant\, Angoulême\, 16000\, France
CATEGORIES:conférence-concert
ATTACH;FMTTYPE=image/jpeg:https://conservatoire.grandangouleme.fr/wp-content/uploads/2022/10/18-11-22.jpg
ORGANIZER;CN="Conservatoire Gabriel Faur%C3%A9":MAILTO:conservatoire@grandangouleme.fr
END:VEVENT
BEGIN:VEVENT
DTSTART;TZID=Europe/Paris:20220521T093000
DTEND;TZID=Europe/Paris:20220521T220000
DTSTAMP:20260423T163528
CREATED:20220505T094728Z
LAST-MODIFIED:20220512T083443Z
UID:11063-1653125400-1653170400@conservatoire.grandangouleme.fr
SUMMARY:PORTES OUVERTES DU CONSERVATOIRE
DESCRIPTION:Hors les murs\n\n	En partenariat avec le musée d'Angoulême et l'exposition "Maurice Denis\, en quête d'ailleurs" \nDelphine Grivel\, musicologue\, et Jean Marc Leone\, violoncelliste\, explore les liens que Maurice Denis entretenait avec les musiciens et leur influence sur son art. Vous pourrez en saisir toute l’importance et vous laisser guider par vos perceptions : elles seront interprétées au violoncelle pour dévoiler la dramaturgie des tableaux choisis\, sur des extraits d’œuvres musicales appréciées de Maurice Denis. \n Entrée libre dans la limite des places disponibles.
URL:https://conservatoire.grandangouleme.fr/agenda/portes-ouvertes-du-conservatoire/
CATEGORIES:Alerte,Audition de classes,Concert,Concert d'orchestre,conférence-concert
ATTACH;FMTTYPE=image/jpeg:https://conservatoire.grandangouleme.fr/wp-content/uploads/2022/05/site-1.jpg
ORGANIZER;CN="Conservatoire Gabriel Faur%C3%A9":MAILTO:conservatoire@grandangouleme.fr
END:VEVENT
BEGIN:VEVENT
DTSTART;TZID=Europe/Paris:20220515T150000
DTEND;TZID=Europe/Paris:20220515T160000
DTSTAMP:20260423T163528
CREATED:20220504T142215Z
LAST-MODIFIED:20220511T143707Z
UID:11038-1652626800-1652630400@conservatoire.grandangouleme.fr
SUMMARY:LA RUMBA - Diffusion du film de Olivier Lechien
DESCRIPTION:Hors les murs\n\n	En partenariat avec le musée d'Angoulême et l'exposition "Maurice Denis\, en quête d'ailleurs" \nDelphine Grivel\, musicologue\, et Jean Marc Leone\, violoncelliste\, explore les liens que Maurice Denis entretenait avec les musiciens et leur influence sur son art. Vous pourrez en saisir toute l’importance et vous laisser guider par vos perceptions : elles seront interprétées au violoncelle pour dévoiler la dramaturgie des tableaux choisis\, sur des extraits d’œuvres musicales appréciées de Maurice Denis. \n Entrée libre dans la limite des places disponibles.
URL:https://conservatoire.grandangouleme.fr/agenda/la-rumba-congolaise-conference/
LOCATION:Auditorium du conservatoire – Angoulême\, place Henri Dunant\, Angoulême\, 16000\, France
CATEGORIES:conférence-concert
ATTACH;FMTTYPE=image/jpeg:https://conservatoire.grandangouleme.fr/wp-content/uploads/2020/02/visuel-générique2.jpg
ORGANIZER;CN="Conservatoire Gabriel Faur%C3%A9":MAILTO:conservatoire@grandangouleme.fr
END:VEVENT
BEGIN:VEVENT
DTSTART;TZID=Europe/Paris:20201205T140000
DTEND;TZID=Europe/Paris:20201205T170000
DTSTAMP:20260423T163528
CREATED:20201130T155436Z
LAST-MODIFIED:20201130T160309Z
UID:6437-1607176800-1607187600@conservatoire.grandangouleme.fr
SUMMARY:Écriture\, notation\, transcription et représentation dans la création contemporaine - Visioconférence de Pierre COUPRIE
DESCRIPTION:Hors les murs\n\n	En partenariat avec le musée d'Angoulême et l'exposition "Maurice Denis\, en quête d'ailleurs" \nDelphine Grivel\, musicologue\, et Jean Marc Leone\, violoncelliste\, explore les liens que Maurice Denis entretenait avec les musiciens et leur influence sur son art. Vous pourrez en saisir toute l’importance et vous laisser guider par vos perceptions : elles seront interprétées au violoncelle pour dévoiler la dramaturgie des tableaux choisis\, sur des extraits d’œuvres musicales appréciées de Maurice Denis. \n Entrée libre dans la limite des places disponibles.
URL:https://conservatoire.grandangouleme.fr/agenda/ecriture-notation-transcription-et-representation-dans-la-creation-contemporaine-visioconference-de-pierre-couprie/
LOCATION:Zoom
CATEGORIES:conférence-concert
ATTACH;FMTTYPE=image/png:https://conservatoire.grandangouleme.fr/wp-content/uploads/2020/11/e-br.png
ORGANIZER;CN="Conservatoire Gabriel Faur%C3%A9":MAILTO:conservatoire@grandangouleme.fr
END:VEVENT
END:VCALENDAR