BEGIN:VCALENDAR
VERSION:2.0
PRODID:-//Conservatoire Gabriel Fauré de GrandAngoulême - ECPv6.15.20//NONSGML v1.0//EN
CALSCALE:GREGORIAN
METHOD:PUBLISH
X-ORIGINAL-URL:https://conservatoire.grandangouleme.fr
X-WR-CALDESC:Évènements pour Conservatoire Gabriel Fauré de GrandAngoulême
REFRESH-INTERVAL;VALUE=DURATION:PT1H
X-Robots-Tag:noindex
X-PUBLISHED-TTL:PT1H
BEGIN:VTIMEZONE
TZID:Europe/Paris
BEGIN:DAYLIGHT
TZOFFSETFROM:+0100
TZOFFSETTO:+0200
TZNAME:CEST
DTSTART:20250330T010000
END:DAYLIGHT
BEGIN:STANDARD
TZOFFSETFROM:+0200
TZOFFSETTO:+0100
TZNAME:CET
DTSTART:20251026T010000
END:STANDARD
BEGIN:DAYLIGHT
TZOFFSETFROM:+0100
TZOFFSETTO:+0200
TZNAME:CEST
DTSTART:20260329T010000
END:DAYLIGHT
BEGIN:STANDARD
TZOFFSETFROM:+0200
TZOFFSETTO:+0100
TZNAME:CET
DTSTART:20261025T010000
END:STANDARD
BEGIN:DAYLIGHT
TZOFFSETFROM:+0100
TZOFFSETTO:+0200
TZNAME:CEST
DTSTART:20270328T010000
END:DAYLIGHT
BEGIN:STANDARD
TZOFFSETFROM:+0200
TZOFFSETTO:+0100
TZNAME:CET
DTSTART:20271031T010000
END:STANDARD
END:VTIMEZONE
BEGIN:VEVENT
DTSTART;TZID=Europe/Paris:20260530T160000
DTEND;TZID=Europe/Paris:20260530T210000
DTSTAMP:20260423T092141
CREATED:20260422T143331Z
LAST-MODIFIED:20260422T143331Z
UID:31777-1780156800-1780174800@conservatoire.grandangouleme.fr
SUMMARY:Carte blanche aux Musiques Actuelles
DESCRIPTION:Carte blanche aux Musiques Actuelles \nDes ateliers de découverte de la batterie\, de la guitare\, de la MAO et de la basse seront proposés à partir de 16h suivi d’un concert à 18h30. Gratuit. \nRestauration sur place.
URL:https://conservatoire.grandangouleme.fr/agenda/carte-blanche-aux-musiques-actuelles/
LOCATION:MJC Rives de Charentes\, 5 quai du halage\, Angoulême\, 16000
CATEGORIES:Atelier,Concert
ATTACH;FMTTYPE=image/jpeg:https://conservatoire.grandangouleme.fr/wp-content/uploads/2026/04/2602_Carte-blanche-musiques-actuelles_1920x1080-scaled-e1776868377366.jpg
ORGANIZER;CN="Conservatoire Gabriel Faur%C3%A9":MAILTO:conservatoire@grandangouleme.fr
END:VEVENT
END:VCALENDAR