BEGIN:VCALENDAR
VERSION:2.0
PRODID:-//Conservatoire Gabriel Fauré de GrandAngoulême - ECPv6.15.20//NONSGML v1.0//EN
CALSCALE:GREGORIAN
METHOD:PUBLISH
X-WR-CALNAME:Conservatoire Gabriel Fauré de GrandAngoulême
X-ORIGINAL-URL:https://conservatoire.grandangouleme.fr
X-WR-CALDESC:Évènements pour Conservatoire Gabriel Fauré de GrandAngoulême
REFRESH-INTERVAL;VALUE=DURATION:PT1H
X-Robots-Tag:noindex
X-PUBLISHED-TTL:PT1H
BEGIN:VTIMEZONE
TZID:Europe/Paris
BEGIN:DAYLIGHT
TZOFFSETFROM:+0100
TZOFFSETTO:+0200
TZNAME:CEST
DTSTART:20250330T010000
END:DAYLIGHT
BEGIN:STANDARD
TZOFFSETFROM:+0200
TZOFFSETTO:+0100
TZNAME:CET
DTSTART:20251026T010000
END:STANDARD
BEGIN:DAYLIGHT
TZOFFSETFROM:+0100
TZOFFSETTO:+0200
TZNAME:CEST
DTSTART:20260329T010000
END:DAYLIGHT
BEGIN:STANDARD
TZOFFSETFROM:+0200
TZOFFSETTO:+0100
TZNAME:CET
DTSTART:20261025T010000
END:STANDARD
BEGIN:DAYLIGHT
TZOFFSETFROM:+0100
TZOFFSETTO:+0200
TZNAME:CEST
DTSTART:20270328T010000
END:DAYLIGHT
BEGIN:STANDARD
TZOFFSETFROM:+0200
TZOFFSETTO:+0100
TZNAME:CET
DTSTART:20271031T010000
END:STANDARD
END:VTIMEZONE
BEGIN:VEVENT
DTSTART;TZID=Europe/Paris:20260424T180000
DTEND;TZID=Europe/Paris:20260424T190000
DTSTAMP:20260421T010301
CREATED:20260301T110042Z
LAST-MODIFIED:20260316T155805Z
UID:31380-1777053600-1777057200@conservatoire.grandangouleme.fr
SUMMARY:Audition d’accordéon
DESCRIPTION:Audition de classe\n\n	Audition Patchwork (plusieurs disciplines représentées) \n Entrée libre dans la limite des places disponibles.
URL:https://conservatoire.grandangouleme.fr/agenda/audition-daccordeon/
LOCATION:Auditorium – Conservatoire\, place Henri Dunant\, Angoulême\, 16000\, France
CATEGORIES:Audition
ATTACH;FMTTYPE=image/jpeg:https://conservatoire.grandangouleme.fr/wp-content/uploads/2025/05/audition-classe.jpg
ORGANIZER;CN="Conservatoire Gabriel Faur%C3%A9":MAILTO:conservatoire@grandangouleme.fr
END:VEVENT
BEGIN:VEVENT
DTSTART;TZID=Europe/Paris:20260424T190000
DTEND;TZID=Europe/Paris:20260424T200000
DTSTAMP:20260421T010301
CREATED:20260301T110003Z
LAST-MODIFIED:20260316T155848Z
UID:31382-1777057200-1777060800@conservatoire.grandangouleme.fr
SUMMARY:Jam Pop
DESCRIPTION:Audition de classe\n\n	Audition Patchwork (plusieurs disciplines représentées) \n Entrée libre dans la limite des places disponibles.
URL:https://conservatoire.grandangouleme.fr/agenda/jam-pop/
LOCATION:MJC Rives de Charentes\, 5 quai du halage\, Angoulême\, 16000
CATEGORIES:Concert
ATTACH;FMTTYPE=image/jpeg:https://conservatoire.grandangouleme.fr/wp-content/uploads/2026/03/pexels-bass-guitar-1841186_1920-e1773159744182.jpg
ORGANIZER;CN="Conservatoire Gabriel Faur%C3%A9":MAILTO:conservatoire@grandangouleme.fr
END:VEVENT
BEGIN:VEVENT
DTSTART;TZID=Europe/Paris:20260425T160000
DTEND;TZID=Europe/Paris:20260425T170000
DTSTAMP:20260421T010301
CREATED:20260301T120054Z
LAST-MODIFIED:20260316T160007Z
UID:31388-1777132800-1777136400@conservatoire.grandangouleme.fr
SUMMARY:Audition de basson
DESCRIPTION:Audition de classe\n\n	Audition Patchwork (plusieurs disciplines représentées) \n Entrée libre dans la limite des places disponibles.
URL:https://conservatoire.grandangouleme.fr/agenda/audition-de-basson-3/
LOCATION:Amphi Brassens – Conservatoire\, place Henri Dunant\, Angoulême\, 16000\, France
CATEGORIES:Audition
ATTACH;FMTTYPE=image/jpeg:https://conservatoire.grandangouleme.fr/wp-content/uploads/2025/05/audition-classe.jpg
ORGANIZER;CN="Conservatoire Gabriel Faur%C3%A9":MAILTO:conservatoire@grandangouleme.fr
END:VEVENT
BEGIN:VEVENT
DTSTART;TZID=Europe/Paris:20260425T203000
DTEND;TZID=Europe/Paris:20260425T220000
DTSTAMP:20260421T010301
CREATED:20260302T110035Z
LAST-MODIFIED:20260316T155957Z
UID:31390-1777149000-1777154400@conservatoire.grandangouleme.fr
SUMMARY:Concert Les 20 ans de l’orchestre Kalimba\, soirée Rumba congolaise
DESCRIPTION:Audition de classe\n\n	Audition Patchwork (plusieurs disciplines représentées) \n Entrée libre dans la limite des places disponibles.
URL:https://conservatoire.grandangouleme.fr/agenda/concert-les-20-ans-de-lorchestre-kalimba-soiree-rumba-congolaise/
LOCATION:Salle des fêtes – Marsac\, Marsac\, 16570\, France
CATEGORIES:Concert
ATTACH;FMTTYPE=image/jpeg:https://conservatoire.grandangouleme.fr/wp-content/uploads/2026/03/2604_ConcertKalimba_Neoscreen_1920x1080px_V1-scaled-e1773160280543.jpg
ORGANIZER;CN="Conservatoire Gabriel Faur%C3%A9":MAILTO:conservatoire@grandangouleme.fr
END:VEVENT
BEGIN:VEVENT
DTSTART;TZID=Europe/Paris:20260428T180000
DTEND;TZID=Europe/Paris:20260428T190000
DTSTAMP:20260421T010301
CREATED:20260306T110034Z
LAST-MODIFIED:20260316T160047Z
UID:31419-1777399200-1777402800@conservatoire.grandangouleme.fr
SUMMARY:Audition de piano
DESCRIPTION:Audition de classe\n\n	Audition Patchwork (plusieurs disciplines représentées) \n Entrée libre dans la limite des places disponibles.
URL:https://conservatoire.grandangouleme.fr/agenda/audition-de-piano-9/
LOCATION:Auditorium – Conservatoire\, place Henri Dunant\, Angoulême\, 16000\, France
CATEGORIES:Audition
ATTACH;FMTTYPE=image/jpeg:https://conservatoire.grandangouleme.fr/wp-content/uploads/2025/05/audition-classe.jpg
ORGANIZER;CN="Conservatoire Gabriel Faur%C3%A9":MAILTO:conservatoire@grandangouleme.fr
END:VEVENT
BEGIN:VEVENT
DTSTART;TZID=Europe/Paris:20260428T180000
DTEND;TZID=Europe/Paris:20260428T193000
DTSTAMP:20260421T010301
CREATED:20260308T110043Z
LAST-MODIFIED:20260316T160122Z
UID:31423-1777399200-1777404600@conservatoire.grandangouleme.fr
SUMMARY:Audition de la classe de Musiques Actuelles
DESCRIPTION:Audition de classe\n\n	Audition Patchwork (plusieurs disciplines représentées) \n Entrée libre dans la limite des places disponibles.
URL:https://conservatoire.grandangouleme.fr/agenda/audition-de-la-classe-de-musiques-actuelles/
LOCATION:Amphi Gershwin – Conservatoire – Angoulême
CATEGORIES:Audition
ATTACH;FMTTYPE=image/jpeg:https://conservatoire.grandangouleme.fr/wp-content/uploads/2025/05/audition-classe.jpg
END:VEVENT
BEGIN:VEVENT
DTSTART;TZID=Europe/Paris:20260428T193000
DTEND;TZID=Europe/Paris:20260428T203000
DTSTAMP:20260421T010301
CREATED:20260307T110055Z
LAST-MODIFIED:20260316T160158Z
UID:31421-1777404600-1777408200@conservatoire.grandangouleme.fr
SUMMARY:Audition de cors
DESCRIPTION:Audition de classe\n\n	Audition Patchwork (plusieurs disciplines représentées) \n Entrée libre dans la limite des places disponibles.
URL:https://conservatoire.grandangouleme.fr/agenda/audition-de-cors/
LOCATION:Auditorium – Conservatoire\, place Henri Dunant\, Angoulême\, 16000\, France
CATEGORIES:Audition
ATTACH;FMTTYPE=image/jpeg:https://conservatoire.grandangouleme.fr/wp-content/uploads/2025/05/audition-classe.jpg
END:VEVENT
BEGIN:VEVENT
DTSTART;TZID=Europe/Paris:20260430T183000
DTEND;TZID=Europe/Paris:20260430T200000
DTSTAMP:20260421T010301
CREATED:20260309T110052Z
LAST-MODIFIED:20260316T160233Z
UID:31425-1777573800-1777579200@conservatoire.grandangouleme.fr
SUMMARY:Audition Patchwork
DESCRIPTION:Audition de classe\n\n	Audition Patchwork (plusieurs disciplines représentées) \n Entrée libre dans la limite des places disponibles.
URL:https://conservatoire.grandangouleme.fr/agenda/audition-patchwork-20/
LOCATION:Auditorium – Conservatoire\, place Henri Dunant\, Angoulême\, 16000\, France
CATEGORIES:Audition
ATTACH;FMTTYPE=image/jpeg:https://conservatoire.grandangouleme.fr/wp-content/uploads/2025/05/Audition-Patchwork-1.jpg
ORGANIZER;CN="Conservatoire Gabriel Faur%C3%A9":MAILTO:conservatoire@grandangouleme.fr
END:VEVENT
END:VCALENDAR